{"text_format":"1","workbook":"xlsx","n_sheets":12,"sheets":["StudyPlan","ตัดเกรด","Score","SignName","Sheet1","Class","QuizAll","HomeworkAll","TestAll","Midterm","Name","Test1 Name"],"not_rendered":{"charts":0,"images":0,"macros":1,"external_links":0,"defined_names":8,"comments":0,"pivot_tables":0},"unopened":[],"bounds":{"document_bytes":16777216,"sheet_cells":100000,"rows_first":2000,"rows_last":500,"rows_between":2000,"halvings":0,"cell_chars":16384,"cell_head_chars":4096},"cells_cut":0,"cells_raw":0,"read":"whole","date_system":"1900"}

{"sheet":"StudyPlan","index":0,"n_rows":18,"n_cols":15,"rows_kept":18,"cut":false,"hidden":false,"merged":[[3,1,3,5],[3,11,3,14],[5,14,9,14],[11,14,14,14],[5,13,8,13],[11,13,13,13]]}
["รายวิชา 195231 : THERMODYNAMICS I ",null,null,null,null,null,null,null,null,null,null,null,null,null,"ปีการศึกษา 2557 ภาคการศึกษาที่ 1 "]
["แผนการสอนและประเมินผล",null,null,null,null,null,null,null,null,null,null,null,null,null,"Section 1&4"]
[null,null,null,null,null,null,null,null,null,null,null,null,null,null,"รศ.ดร.สมหมาย ปรีเปรม"]
[null,"Lecture",null,null,null,null,null,"Tutorial",null,null,null,"Evaluation"]
["Chapter","Topic","hr","WK","WeekAcc","DateStart","DateEnd","Important Understanding",null,"Chapter","Topic","HW","Quiz","Test","Exam"]
[1,"Basic Concept of Thermodynamics",3,{"$f":"+C6/3","v":1},{"$f":"+D6","v":1},"2014-08-11",{"$f":"+F6+(D6*7-2)","v":"2014-08-16"},"Concepts: System, State, Process, Cycle,  Pressure & Temperature",null,1,"Basic Concept of Thermodynamics",1,1,1,"Midterm 30"]
[2,"Properties of Pure Substances",4.5,{"$f":"+C7/3","v":1.5},{"$f":"+E6+D7","v":2.5},{"$f":"+G6+2","v":"2014-08-18"},"2014-08-26T12:00:00","State point vs Property, Tables, Process",null,2,"Properties of Pure Substances",2,"2 - 3"]
[3,"Heat and Work",3,1,{"$f":"+E7+D8","v":3.5},{"$f":"+G7+2","v":"2014-08-28T12:00:00"},"2014-09-02T12:00:00","Concept of H&W, Boundary work calculation",null,3,"Heat and Work",3,4]
[4,"The First Law of Thermodynamics",9,3,{"$f":"+E8+D9","v":6.5},{"$f":"+G8+2","v":"2014-09-04T12:00:00"},"2014-09-23T12:00:00","Closed System & Open System: Concepts and Calculation",null,4,"The First Law of Thermodynamics",4,"5 - 6"]
[5,"The Second Law of Thermodynamics",4.5,1.5,{"$f":"+E9+D10","v":8},{"$f":"+G9+2","v":"2014-09-25T12:00:00"},"2014-10-04","Concepts: Heat Engine, Heat Pump, Efficiency, COP",null,5,"The Second Law of Thermodynamics",5,7]
[null,"Midterm Exam",null,1,{"$f":"+E10+D11","v":9},{"$f":"+G10+2","v":"2014-10-06"},{"$f":"+F11+(D11*7-3)","v":"2014-10-10"}]
[6,"Entropy",6,{"$f":"+C12/3","v":2},{"$f":"+E11+D12","v":11},{"$f":"+G11+3","v":"2014-10-13"},{"$f":"+F12+(D12*7-2)","v":"2014-10-25"},"Reversible process, Entropy",null,6,"Entropy",6,8,2,"Final 40"]
[7,"Gas Power Cycles",3,{"$f":"+C13/3","v":1},{"$f":"+E12+D13","v":12},{"$f":"+G12+2","v":"2014-10-27"},{"$f":"+F13+(D13*7-2)","v":"2014-11-01"},"Otto & Diesel, Brayton: Operation & Cycle analysis",null,7,"Gas Power Cycles",7,9]
[8,"Vapor Power Cycles",6,{"$f":"+C14/3","v":2},{"$f":"+E13+D14","v":14},"2014-11-03",{"$f":"+F14+(D14*7-2)","v":"2014-11-15"},"Rankine Cycle: Operation & Cycle analysis",null,8,"Vapor Power Cycles",8,10]
[9,"Refrigeration Cycles",4.5,{"$f":"+C15/3","v":1.5},{"$f":"+E14+D15","v":15.5},"2014-11-17",{"$f":"+F15+(D15*7-2)","v":"2014-11-25T12:00:00"},"Compression Refrigeration Cycle: Operation & Cycle analysis",null,9,"Refrigeration Cycles",null,11]
[10,"Basic to Heat Transfer",1.5,{"$f":"+C16/3","v":0.5},{"$f":"+E15+D16","v":16},"2014-11-27T12:00:00",{"$f":"+F16+(D16*7-2)","v":"2014-11-29"},null,null,10,"Basic to Heat Transfer"]
[null,"Final Exam",null,null,null,{"$f":"+G16+3","v":"2014-12-02"},{"$f":"+F17+17","v":"2014-12-19"}]
[null,"รวม",{"$f":"SUM(C6:C16)","v":45},{"$f":"SUM(D6:D16)","v":16},null,null,null,null,null,null,"คะแนน",10,10,10,70]

{"sheet":"ตัดเกรด","index":1,"n_rows":12,"n_cols":5,"rows_kept":12,"cut":false,"hidden":false,"merged":[[3,0,3,1],[3,3,3,4]]}
["รายวิชา 185231 : THERMODYNAMICS I "]
["ตัดเกรดอิงเกณฑ์"]
["คะแนนการตัดเกรด โดยประมาณ"]
["คะแนนขั้นต่ำ",null,"เกรด","คะแนนขั้นสูง"]
["≥",80,"A","≤",100]
["≥",75,"B+","<",80]
["≥",70,"B","<",75]
["≥",60,"C+","<",70]
["≥",50,"C","<",60]
["≥",45,"D+","<",50]
["≥",40,"D","<",45]
["≥",0,"F","<",40]

{"sheet":"Score","index":2,"n_rows":113,"n_cols":19,"rows_kept":113,"cut":false,"hidden":false,"merged":[]}
[null,"รายวิชา","195231 : THERMODYNAMICS I",null,null,"Section 1",null,null,null,null,null,null,"Accumulated","Ctrl z to return to this page and reset"]
[null,"ปีการศึกษา","2556 ภาคการศึกษาที่ 1",null,null,"รศ.ดร.สมหมาย ปรีเปรม",10,10,10,30,40,{"$f":"SUM(G2:K2)","v":100},"Full score"]
[null," รหัส","ชื่อ","หลักสูตร","GPA","Section 1","HW","Quiz","Test","Midterm","Final","Sum","%Acc","Grade","ขาดเรียน"]
[{"$f":"+Name!A4","v":1},{"$f":"+Name!B4","v":" 543040669-6"},{"$f":"+Name!C4","v":" นายเกียรติขจร ทัดทาอามาตย์"},{"$f":"+Name!D4","v":" EN-AE"},{"$f":"+Name!G4","v":2},{"$f":"+Name!H4","v":1},null,{"$f":"+QuizAll!S4","v":0},{"$f":"+TestAll!K4","v":0},{"$f":"(+Midterm!I4)*30/50","v":0},null,{"$f":"SUM(G4:K4)","v":0},{"$f":"(L4/$L$1)*100","v":{"$error":"#DIV/0!"}},{"$f":"IF(L1=0,\"A\",grade(M4))","v":"A"},{"$f":"Class!AN93","v":0},1]
[{"$f":"+Name!A5","v":2},{"$f":"+Name!B5","v":" 553040404-3"},{"$f":"+Name!C5","v":" นายวนัสมัญ กฤษณะสุวรรณ"},{"$f":"+Name!D5","v":" EN-IE"},{"$f":"+Name!G5","v":1.89},{"$f":"+Name!H5","v":1},null,{"$f":"+QuizAll!S5","v":0},{"$f":"+TestAll!K5","v":0},{"$f":"(+Midterm!I5)*30/50","v":0},null,0,{"$error":"#DIV/0!"},{"$f":"IF(L2=0,\"A\",grade(M5))","v":{"$error":"#VALUE!"}},{"$f":"Class!AN92","v":0},2]
[{"$f":"+Name!A6","v":3},{"$f":"+Name!B6","v":" 563040002-4"},{"$f":"+Name!C6","v":" นายกรวิชญ์ ศรีวัฒนาปิติกุล"},{"$f":"+Name!D6","v":" EN-ME"},{"$f":"+Name!G6","v":3.14},{"$f":"+Name!H6","v":1},null,{"$f":"+QuizAll!S6","v":0},{"$f":"+TestAll!K6","v":0},{"$f":"(+Midterm!I6)*30/50","v":0},null,0,{"$error":"#DIV/0!"},{"$error":"#VALUE!"},{"$f":"Class!AN91","v":0},3]
[{"$f":"+Name!A7","v":4},{"$f":"+Name!B7","v":" 563040003-2"},{"$f":"+Name!C7","v":" นายกฤช ถาไชยลา"},{"$f":"+Name!D7","v":" EN-ME"},{"$f":"+Name!G7","v":2.84},{"$f":"+Name!H7","v":1},null,{"$f":"+QuizAll!S7","v":0},{"$f":"+TestAll!K7","v":0},{"$f":"(+Midterm!I7)*30/50","v":0},null,0,{"$error":"#DIV/0!"},"A",{"$f":"Class!AN90","v":0},4," "]
[{"$f":"+Name!A8","v":5},{"$f":"+Name!B8","v":" 563040022-8"},{"$f":"+Name!C8","v":" นายณัฐพล สิทธิอมรพร"},{"$f":"+Name!D8","v":" EN-ME"},{"$f":"+Name!G8","v":3.41},{"$f":"+Name!H8","v":1},null,{"$f":"+QuizAll!S8","v":0},{"$f":"+TestAll!K8","v":0},{"$f":"(+Midterm!I8)*30/50","v":0},null,0,{"$error":"#DIV/0!"},"A",{"$f":"Class!AN89","v":0},5]
[{"$f":"+Name!A9","v":6},{"$f":"+Name!B9","v":" 563040025-2"},{"$f":"+Name!C9","v":" นายทรงพล เกียรติพนมแพ"},{"$f":"+Name!D9","v":" EN-IE"},{"$f":"+Name!G9","v":3.04},{"$f":"+Name!H9","v":1},null,{"$f":"+QuizAll!S9","v":0},{"$f":"+TestAll!K9","v":0},{"$f":"(+Midterm!I9)*30/50","v":0},null,0,{"$error":"#DIV/0!"},"A",{"$f":"Class!AN88","v":0},6]
[{"$f":"+Name!A10","v":7},{"$f":"+Name!B10","v":" 563040032-5"},{"$f":"+Name!C10","v":" นางสาวธนัชชา ใหญ่สูงเนิน"},{"$f":"+Name!D10","v":" EN-IE"},{"$f":"+Name!G10","v":2.76},{"$f":"+Name!H10","v":1},null,{"$f":"+QuizAll!S10","v":0},{"$f":"+TestAll!K10","v":0},{"$f":"(+Midterm!I10)*30/50","v":0},null,0,{"$error":"#DIV/0!"},"A",{"$f":"Class!AN87","v":0},7,null,null," "]
[{"$f":"+Name!A11","v":8},{"$f":"+Name!B11","v":" 563040043-0"},{"$f":"+Name!C11","v":" นางสาวนันทิชา จริยาโสวรรณ"},{"$f":"+Name!D11","v":" EN-IE"},{"$f":"+Name!G11","v":2.04},{"$f":"+Name!H11","v":1},null,{"$f":"+QuizAll!S11","v":0},{"$f":"+TestAll!K11","v":0},{"$f":"(+Midterm!I11)*30/50","v":0},null,0,{"$error":"#DIV/0!"},"A",{"$f":"Class!AN86","v":0},8]
[{"$f":"+Name!A12","v":9},{"$f":"+Name!B12","v":" 563040044-8"},{"$f":"+Name!C12","v":" นางสาวนิภาพร อายุวัฒน์"},{"$f":"+Name!D12","v":" EN-ME"},{"$f":"+Name!G12","v":2.92},{"$f":"+Name!H12","v":1},null,{"$f":"+QuizAll!S12","v":0},{"$f":"+TestAll!K12","v":0},{"$f":"(+Midterm!I12)*30/50","v":0},null,0,{"$error":"#DIV/0!"},"A",{"$f":"Class!AN85","v":0},9]
[{"$f":"+Name!A13","v":10},{"$f":"+Name!B13","v":" 563040051-1"},{"$f":"+Name!C13","v":" นายพงศ์ทัช พรวิกุลรัตนา"},{"$f":"+Name!D13","v":" EN-ME"},{"$f":"+Name!G13","v":2.63},{"$f":"+Name!H13","v":1},null,{"$f":"+QuizAll!S13","v":0},{"$f":"+TestAll!K13","v":0},{"$f":"(+Midterm!I13)*30/50","v":0},null,0,{"$error":"#DIV/0!"},"A",{"$f":"Class!AN84","v":0},10]
[{"$f":"+Name!A14","v":11},{"$f":"+Name!B14","v":" 563040059-5"},{"$f":"+Name!C14","v":" นายพสธร นามสร"},{"$f":"+Name!D14","v":" EN-ME"},{"$f":"+Name!G14","v":3.09},{"$f":"+Name!H14","v":1},null,{"$f":"+QuizAll!S14","v":0},{"$f":"+TestAll!K14","v":0},{"$f":"(+Midterm!I14)*30/50","v":0},null,0,{"$error":"#DIV/0!"},"A",{"$f":"Class!AN83","v":0},11]
[{"$f":"+Name!A15","v":12},{"$f":"+Name!B15","v":" 563040064-2"},{"$f":"+Name!C15","v":" นางสาวภัทรามาศ ฉวีชัย"},{"$f":"+Name!D15","v":" EN-IE"},{"$f":"+Name!G15","v":3.12},{"$f":"+Name!H15","v":1},null,{"$f":"+QuizAll!S15","v":0},{"$f":"+TestAll!K15","v":0},{"$f":"(+Midterm!I15)*30/50","v":0},null,0,{"$error":"#DIV/0!"},"A",{"$f":"Class!AN82","v":0},12]
[{"$f":"+Name!A16","v":13},{"$f":"+Name!B16","v":" 563040065-0"},{"$f":"+Name!C16","v":" นายภาคิน จำปาศักดิ์"},{"$f":"+Name!D16","v":" EN-ME"},{"$f":"+Name!G16","v":3.51},{"$f":"+Name!H16","v":1},null,{"$f":"+QuizAll!S16","v":0},{"$f":"+TestAll!K16","v":0},{"$f":"(+Midterm!I16)*30/50","v":0},null,0,{"$error":"#DIV/0!"},"A",{"$f":"Class!AN81","v":0},13]
[{"$f":"+Name!A17","v":14},{"$f":"+Name!B17","v":" 563040070-7"},{"$f":"+Name!C17","v":" นายมหคพันธุ์ เอมกลาง"},{"$f":"+Name!D17","v":" EN-ME"},{"$f":"+Name!G17","v":2.71},{"$f":"+Name!H17","v":1},null,{"$f":"+QuizAll!S17","v":0},{"$f":"+TestAll!K17","v":0},{"$f":"(+Midterm!I17)*30/50","v":0},null,0,{"$error":"#DIV/0!"},"A",{"$f":"Class!AN80","v":0},14]
[{"$f":"+Name!A18","v":15},{"$f":"+Name!B18","v":" 563040071-5"},{"$f":"+Name!C18","v":" นายมานะ ติรโรจน์"},{"$f":"+Name!D18","v":" EN-ME"},{"$f":"+Name!G18","v":3.46},{"$f":"+Name!H18","v":1},null,{"$f":"+QuizAll!S18","v":0},{"$f":"+TestAll!K18","v":0},{"$f":"(+Midterm!I18)*30/50","v":0},null,0,{"$error":"#DIV/0!"},"A",{"$f":"Class!AN79","v":0},15]
[{"$f":"+Name!A19","v":16},{"$f":"+Name!B19","v":" 563040076-5"},{"$f":"+Name!C19","v":" นายรัฐศาสตร์ พลยงค์"},{"$f":"+Name!D19","v":" EN-ME"},{"$f":"+Name!G19","v":2.88},{"$f":"+Name!H19","v":1},null,{"$f":"+QuizAll!S19","v":0},{"$f":"+TestAll!K19","v":0},{"$f":"(+Midterm!I19)*30/50","v":0},null,0,{"$error":"#DIV/0!"},"A",{"$f":"Class!AN78","v":0},16]
[{"$f":"+Name!A20","v":17},{"$f":"+Name!B20","v":" 563040089-6"},{"$f":"+Name!C20","v":" นายศวัสชัย วิวรรธนจิตต์"},{"$f":"+Name!D20","v":" EN-IE"},{"$f":"+Name!G20","v":2.79},{"$f":"+Name!H20","v":1},null,{"$f":"+QuizAll!S20","v":0},{"$f":"+TestAll!K20","v":0},{"$f":"(+Midterm!I20)*30/50","v":0},null,0,{"$error":"#DIV/0!"},"A",{"$f":"Class!AN77","v":0},17]
[{"$f":"+Name!A21","v":18},{"$f":"+Name!B21","v":" 563040098-5"},{"$f":"+Name!C21","v":" นายสิทธิโชค ชูพงศ์พันธุ์"},{"$f":"+Name!D21","v":" EN-ME"},{"$f":"+Name!G21","v":2.94},{"$f":"+Name!H21","v":1},null,{"$f":"+QuizAll!S21","v":0},{"$f":"+TestAll!K21","v":0},{"$f":"(+Midterm!I21)*30/50","v":0},null,0,{"$error":"#DIV/0!"},"A",{"$f":"Class!AN76","v":0},18]
[{"$f":"+Name!A22","v":19},{"$f":"+Name!B22","v":" 563040114-3"},{"$f":"+Name!C22","v":" นายคฑาวุธ ศรีโสดาพล"},{"$f":"+Name!D22","v":" EN-AE"},{"$f":"+Name!G22","v":1.51},{"$f":"+Name!H22","v":1},null,{"$f":"+QuizAll!S22","v":0},{"$f":"+TestAll!K22","v":0},{"$f":"(+Midterm!I22)*30/50","v":0},null,0,{"$error":"#DIV/0!"},"A",{"$f":"Class!AN75","v":0},19]
[{"$f":"+Name!A23","v":20},{"$f":"+Name!B23","v":" 563040115-1"},{"$f":"+Name!C23","v":" นายจุลดิศ ทองตัน"},{"$f":"+Name!D23","v":" EN-AE"},{"$f":"+Name!G23","v":1.82},{"$f":"+Name!H23","v":1},null,{"$f":"+QuizAll!S23","v":0},{"$f":"+TestAll!K23","v":0},{"$f":"(+Midterm!I23)*30/50","v":0},null,0,{"$error":"#DIV/0!"},"A",{"$f":"Class!AN74","v":0},20]
[{"$f":"+Name!A24","v":21},{"$f":"+Name!B24","v":" 563040116-9"},{"$f":"+Name!C24","v":" นายโชคชัย ซุยอุ้ย"},{"$f":"+Name!D24","v":" EN-AE"},{"$f":"+Name!G24","v":3.03},{"$f":"+Name!H24","v":1},null,{"$f":"+QuizAll!S24","v":0},{"$f":"+TestAll!K24","v":0},{"$f":"(+Midterm!I24)*30/50","v":0},null,0,{"$error":"#DIV/0!"},"A",{"$f":"Class!AN73","v":0},21]
[{"$f":"+Name!A25","v":22},{"$f":"+Name!B25","v":" 563040121-6"},{"$f":"+Name!C25","v":" นายธนพล หลาบศิริ"},{"$f":"+Name!D25","v":" EN-AE"},{"$f":"+Name!G25","v":2.77},{"$f":"+Name!H25","v":1},null,{"$f":"+QuizAll!S25","v":0},{"$f":"+TestAll!K25","v":0},{"$f":"(+Midterm!I25)*30/50","v":0},null,0,{"$error":"#DIV/0!"},"A",{"$f":"Class!AN72","v":0},22]
[{"$f":"+Name!A26","v":23},{"$f":"+Name!B26","v":" 563040123-2"},{"$f":"+Name!C26","v":" นายธนวร สันธนะสุรางค์"},{"$f":"+Name!D26","v":" EN-AE"},{"$f":"+Name!G26","v":2.35},{"$f":"+Name!H26","v":1},null,{"$f":"+QuizAll!S26","v":0},{"$f":"+TestAll!K26","v":0},{"$f":"(+Midterm!I26)*30/50","v":0},null,0,{"$error":"#DIV/0!"},"A",{"$f":"Class!AN71","v":0},23]
[{"$f":"+Name!A27","v":24},{"$f":"+Name!B27","v":" 563040129-0"},{"$f":"+Name!C27","v":" นายพีรเมธ จุฑานันท์"},{"$f":"+Name!D27","v":" EN-AE"},{"$f":"+Name!G27","v":1.89},{"$f":"+Name!H27","v":1},null,{"$f":"+QuizAll!S27","v":0},{"$f":"+TestAll!K27","v":0},{"$f":"(+Midterm!I27)*30/50","v":0},null,0,{"$error":"#DIV/0!"},"A",{"$f":"Class!AN70","v":0},24]
[{"$f":"+Name!A28","v":25},{"$f":"+Name!B28","v":" 563040130-5"},{"$f":"+Name!C28","v":" นายพีส คูณดี"},{"$f":"+Name!D28","v":" EN-AE"},{"$f":"+Name!G28","v":2.29},{"$f":"+Name!H28","v":1},null,{"$f":"+QuizAll!S28","v":0},{"$f":"+TestAll!K28","v":0},{"$f":"(+Midterm!I28)*30/50","v":0},null,0,{"$error":"#DIV/0!"},"A",{"$f":"Class!AN69","v":0},25]
[{"$f":"+Name!A29","v":26},{"$f":"+Name!B29","v":" 563040137-1"},{"$f":"+Name!C29","v":" นายศุภณัฐ ลัภกิตโร"},{"$f":"+Name!D29","v":" EN-AE"},{"$f":"+Name!G29","v":2.58},{"$f":"+Name!H29","v":1},null,{"$f":"+QuizAll!S29","v":0},{"$f":"+TestAll!K29","v":0},{"$f":"(+Midterm!I29)*30/50","v":0},null,0,{"$error":"#DIV/0!"},"A",{"$f":"Class!AN68","v":0},26]
[{"$f":"+Name!A30","v":27},{"$f":"+Name!B30","v":" 563040139-7"},{"$f":"+Name!C30","v":" นายสุธรรม ดิษาภิรมย์"},{"$f":"+Name!D30","v":" EN-AE"},{"$f":"+Name!G30","v":1.78},{"$f":"+Name!H30","v":1},null,{"$f":"+QuizAll!S30","v":0},{"$f":"+TestAll!K30","v":0},{"$f":"(+Midterm!I30)*30/50","v":0},null,0,{"$error":"#DIV/0!"},"A",{"$f":"Class!AN67","v":0},27]
[{"$f":"+Name!A31","v":28},{"$f":"+Name!B31","v":" 563040231-9"},{"$f":"+Name!C31","v":" นายอธิการ สุริโย"},{"$f":"+Name!D31","v":" EN-IE"},{"$f":"+Name!G31","v":1.71},{"$f":"+Name!H31","v":1},null,{"$f":"+QuizAll!S31","v":0},{"$f":"+TestAll!K31","v":0},{"$f":"(+Midterm!I31)*30/50","v":0},null,0,{"$error":"#DIV/0!"},"A",{"$f":"Class!AN66","v":0},28]
[{"$f":"+Name!A32","v":29},{"$f":"+Name!B32","v":" 563040260-2"},{"$f":"+Name!C32","v":" นางสาวณัฐณิชา ศิริเหล่าไพศาล"},{"$f":"+Name!D32","v":" EN-IE"},{"$f":"+Name!G32","v":3.17},{"$f":"+Name!H32","v":1},null,{"$f":"+QuizAll!S32","v":0},{"$f":"+TestAll!K32","v":0},{"$f":"(+Midterm!I32)*30/50","v":0},null,0,{"$error":"#DIV/0!"},"A",{"$f":"Class!AN65","v":0},29]
[{"$f":"+Name!A33","v":30},{"$f":"+Name!B33","v":" 563040269-4"},{"$f":"+Name!C33","v":" นายกนกพล แก้วเฮียง"},{"$f":"+Name!D33","v":" EN-ME"},{"$f":"+Name!G33","v":3.06},{"$f":"+Name!H33","v":1},null,{"$f":"+QuizAll!S33","v":0},{"$f":"+TestAll!K33","v":0},{"$f":"(+Midterm!I33)*30/50","v":0},null,0,{"$error":"#DIV/0!"},"A",{"$f":"Class!AN64","v":0},30]
[{"$f":"+Name!A34","v":31},{"$f":"+Name!B34","v":" 563040272-5"},{"$f":"+Name!C34","v":" นายกีรติ มังษา"},{"$f":"+Name!D34","v":" EN-ME"},{"$f":"+Name!G34","v":2.87},{"$f":"+Name!H34","v":1},null,{"$f":"+QuizAll!S34","v":0},{"$f":"+TestAll!K34","v":0},{"$f":"(+Midterm!I34)*30/50","v":0},null,0,{"$error":"#DIV/0!"},"A",{"$f":"Class!AN63","v":0},31]
[{"$f":"+Name!A35","v":32},{"$f":"+Name!B35","v":" 563040275-9"},{"$f":"+Name!C35","v":" นางสาวคุณัญญา ทวีสอน"},{"$f":"+Name!D35","v":" EN-ME"},{"$f":"+Name!G35","v":2.69},{"$f":"+Name!H35","v":1},null,{"$f":"+QuizAll!S35","v":0},{"$f":"+TestAll!K35","v":0},{"$f":"(+Midterm!I35)*30/50","v":0},null,0,{"$error":"#DIV/0!"},"A",{"$f":"Class!AN62","v":0},32]
[{"$f":"+Name!A36","v":33},{"$f":"+Name!B36","v":" 563040289-8"},{"$f":"+Name!C36","v":" นางสาวโชติณัฐ จงใจหาญ"},{"$f":"+Name!D36","v":" EN-IE"},{"$f":"+Name!G36","v":3},{"$f":"+Name!H36","v":1},null,{"$f":"+QuizAll!S36","v":0},{"$f":"+TestAll!K36","v":0},{"$f":"(+Midterm!I36)*30/50","v":0},null,{"$f":"SUM(G36:K36)","v":0},{"$f":"(L36/$L$1)*100","v":{"$error":"#DIV/0!"}},"A",{"$f":"Class!AN61","v":0},33]
[{"$f":"+Name!A37","v":34},{"$f":"+Name!B37","v":" 563040292-9"},{"$f":"+Name!C37","v":" นางสาวฐิติพร ฐานหมั่น"},{"$f":"+Name!D37","v":" EN-IE"},{"$f":"+Name!G37","v":2.12},{"$f":"+Name!H37","v":1},null,{"$f":"+QuizAll!S37","v":0},{"$f":"+TestAll!K37","v":0},{"$f":"(+Midterm!I37)*30/50","v":0},null,0,{"$error":"#DIV/0!"},"A",{"$f":"Class!AN60","v":0},34]
[{"$f":"+Name!A38","v":35},{"$f":"+Name!B38","v":" 563040296-1"},{"$f":"+Name!C38","v":" นางสาวณัฐชยา ทัศนจินดา"},{"$f":"+Name!D38","v":" EN-IE"},{"$f":"+Name!G38","v":2.75},{"$f":"+Name!H38","v":1},null,{"$f":"+QuizAll!S38","v":0},{"$f":"+TestAll!K38","v":0},{"$f":"(+Midterm!I38)*30/50","v":0},null,0,{"$error":"#DIV/0!"},"A",{"$f":"Class!AN59","v":0},35]
[{"$f":"+Name!A39","v":36},{"$f":"+Name!B39","v":" 563040304-8"},{"$f":"+Name!C39","v":" นายธนพนธ์ ตั้งวัฒนสุวรรณ"},{"$f":"+Name!D39","v":" EN-IE"},{"$f":"+Name!G39","v":2.44},{"$f":"+Name!H39","v":1},null,{"$f":"+QuizAll!S39","v":0},{"$f":"+TestAll!K39","v":0},{"$f":"(+Midterm!I39)*30/50","v":0},null,0,{"$error":"#DIV/0!"},"A",{"$f":"Class!AN58","v":0},36]
[{"$f":"+Name!A40","v":37},{"$f":"+Name!B40","v":" 563040313-7"},{"$f":"+Name!C40","v":" นายธาดา วิริยบัณฑร"},{"$f":"+Name!D40","v":" EN-ME"},{"$f":"+Name!G40","v":3.49},{"$f":"+Name!H40","v":1},null,{"$f":"+QuizAll!S40","v":0},{"$f":"+TestAll!K40","v":0},{"$f":"(+Midterm!I40)*30/50","v":0},null,0,{"$error":"#DIV/0!"},"A",{"$f":"Class!AN57","v":0},37]
[{"$f":"+Name!A41","v":38},{"$f":"+Name!B41","v":" 563040315-3"},{"$f":"+Name!C41","v":" นางสาวธิดาวรรณ ใจตรง"},{"$f":"+Name!D41","v":" EN-IE"},{"$f":"+Name!G41","v":2.48},{"$f":"+Name!H41","v":1},null,{"$f":"+QuizAll!S41","v":0},{"$f":"+TestAll!K41","v":0},{"$f":"(+Midterm!I41)*30/50","v":0},null,0,{"$error":"#DIV/0!"},"A",{"$f":"Class!AN56","v":0},38]
[{"$f":"+Name!A42","v":39},{"$f":"+Name!B42","v":" 563040334-9"},{"$f":"+Name!C42","v":" นายพชร ไชยสมบูรณ์"},{"$f":"+Name!D42","v":" EN-IE"},{"$f":"+Name!G42","v":2.3199999999999998},{"$f":"+Name!H42","v":1},null,{"$f":"+QuizAll!S42","v":0},{"$f":"+TestAll!K42","v":0},{"$f":"(+Midterm!I42)*30/50","v":0},null,0,{"$error":"#DIV/0!"},"A",{"$f":"Class!AN55","v":0},39]
[{"$f":"+Name!A43","v":40},{"$f":"+Name!B43","v":" 563040341-2"},{"$f":"+Name!C43","v":" นายพิทวัส เบ้าศรี"},{"$f":"+Name!D43","v":" EN-ME"},{"$f":"+Name!G43","v":2.68},{"$f":"+Name!H43","v":1},null,{"$f":"+QuizAll!S43","v":0},{"$f":"+TestAll!K43","v":0},{"$f":"(+Midterm!I43)*30/50","v":0},null,0,{"$error":"#DIV/0!"},"A",{"$f":"Class!AN54","v":0},40]
[{"$f":"+Name!A44","v":41},{"$f":"+Name!B44","v":" 563040344-6"},{"$f":"+Name!C44","v":" นายไพโรจน์ วงษ์จำปา"},{"$f":"+Name!D44","v":" EN-ME"},{"$f":"+Name!G44","v":2.61},{"$f":"+Name!H44","v":1},null,{"$f":"+QuizAll!S44","v":0},{"$f":"+TestAll!K44","v":0},{"$f":"(+Midterm!I44)*30/50","v":0},null,0,{"$error":"#DIV/0!"},"A",{"$f":"Class!AN53","v":0},41]
[{"$f":"+Name!A45","v":42},{"$f":"+Name!B45","v":" 563040346-2"},{"$f":"+Name!C45","v":" นายภระรถ ผาสิงห์"},{"$f":"+Name!D45","v":" EN-ME"},{"$f":"+Name!G45","v":3.13},{"$f":"+Name!H45","v":1},null,{"$f":"+QuizAll!S45","v":0},{"$f":"+TestAll!K45","v":0},{"$f":"(+Midterm!I45)*30/50","v":0},null,0,{"$error":"#DIV/0!"},"A",{"$f":"Class!AN52","v":0},42]
[{"$f":"+Name!A46","v":43},{"$f":"+Name!B46","v":" 563040351-9"},{"$f":"+Name!C46","v":" นางสาวมุกดารัศมิ์ อาจบรรจง"},{"$f":"+Name!D46","v":" EN-ME"},{"$f":"+Name!G46","v":2.96},{"$f":"+Name!H46","v":1},null,{"$f":"+QuizAll!S46","v":0},{"$f":"+TestAll!K46","v":0},{"$f":"(+Midterm!I46)*30/50","v":0},null,0,{"$error":"#DIV/0!"},"A",{"$f":"Class!AN51","v":0},43]
[{"$f":"+Name!A47","v":44},{"$f":"+Name!B47","v":" 563040359-3"},{"$f":"+Name!C47","v":" นายวริษฐ์ จวงพุ่ม"},{"$f":"+Name!D47","v":" EN-IE"},{"$f":"+Name!G47","v":2.34},{"$f":"+Name!H47","v":1},null,{"$f":"+QuizAll!S47","v":0},{"$f":"+TestAll!K47","v":0},{"$f":"(+Midterm!I47)*30/50","v":0},null,0,{"$error":"#DIV/0!"},"A",{"$f":"Class!AN50","v":0},44]
[{"$f":"+Name!A48","v":45},{"$f":"+Name!B48","v":" 563040367-4"},{"$f":"+Name!C48","v":" นายไวพจน์ แสงกุดเรือ"},{"$f":"+Name!D48","v":" EN-ME"},{"$f":"+Name!G48","v":2.78},{"$f":"+Name!H48","v":1},null,{"$f":"+QuizAll!S48","v":0},{"$f":"+TestAll!K48","v":0},{"$f":"(+Midterm!I48)*30/50","v":0},null,0,{"$error":"#DIV/0!"},"A",{"$f":"Class!AN49","v":0},45]
[{"$f":"+Name!A49","v":46},{"$f":"+Name!B49","v":" 563040389-4"},{"$f":"+Name!C49","v":" นางสาวสุธีรา นาหัวนิล"},{"$f":"+Name!D49","v":" EN-IE"},{"$f":"+Name!G49","v":2.2999999999999998},{"$f":"+Name!H49","v":1},null,{"$f":"+QuizAll!S49","v":0},{"$f":"+TestAll!K49","v":0},{"$f":"(+Midterm!I49)*30/50","v":0},null,0,{"$error":"#DIV/0!"},"A",{"$f":"Class!AN48","v":0},46]
[{"$f":"+Name!A50","v":47},{"$f":"+Name!B50","v":" 563040393-3"},{"$f":"+Name!C50","v":" นายสุภานุเดช ถาวิกุล"},{"$f":"+Name!D50","v":" EN-IE"},{"$f":"+Name!G50","v":1.58},{"$f":"+Name!H50","v":1},null,{"$f":"+QuizAll!S50","v":0},{"$f":"+TestAll!K50","v":0},{"$f":"(+Midterm!I50)*30/50","v":0},null,0,{"$error":"#DIV/0!"},"A",{"$f":"Class!AN47","v":0},47]
[{"$f":"+Name!A51","v":48},{"$f":"+Name!B51","v":" 563040394-1"},{"$f":"+Name!C51","v":" นางสาวสุภาวิตา ทาเวียง"},{"$f":"+Name!D51","v":" EN-IE"},{"$f":"+Name!G51","v":2.37},{"$f":"+Name!H51","v":1},null,{"$f":"+QuizAll!S51","v":0},{"$f":"+TestAll!K51","v":0},{"$f":"(+Midterm!I51)*30/50","v":0},null,0,{"$error":"#DIV/0!"},"A",{"$f":"Class!AN46","v":0},48]
[{"$f":"+Name!A52","v":49},{"$f":"+Name!B52","v":" 563040396-7"},{"$f":"+Name!C52","v":" นางสาวสุวนันท์ ดวงพิมาย"},{"$f":"+Name!D52","v":" EN-IE"},{"$f":"+Name!G52","v":2.19},{"$f":"+Name!H52","v":1},null,{"$f":"+QuizAll!S52","v":0},{"$f":"+TestAll!K52","v":0},{"$f":"(+Midterm!I52)*30/50","v":0},null,0,{"$error":"#DIV/0!"},"A",{"$f":"Class!AN45","v":0},49]
[{"$f":"+Name!A53","v":50},{"$f":"+Name!B53","v":" 563040397-5"},{"$f":"+Name!C53","v":" นางสาวเหมือนฝัน จินดามณี"},{"$f":"+Name!D53","v":" EN-IE"},{"$f":"+Name!G53","v":1.72},{"$f":"+Name!H53","v":1},null,{"$f":"+QuizAll!S53","v":0},{"$f":"+TestAll!K53","v":0},{"$f":"(+Midterm!I53)*30/50","v":0},null,0,{"$error":"#DIV/0!"},"A",{"$f":"Class!AN44","v":0},50]
[{"$f":"+Name!A54","v":51},{"$f":"+Name!B54","v":" 563040398-3"},{"$f":"+Name!C54","v":" นางสาวเหมือนฝัน เผือกไร่"},{"$f":"+Name!D54","v":" EN-ME"},{"$f":"+Name!G54","v":2.75},{"$f":"+Name!H54","v":1},null,{"$f":"+QuizAll!S54","v":0},{"$f":"+TestAll!K54","v":0},{"$f":"(+Midterm!I54)*30/50","v":0},null,0,{"$error":"#DIV/0!"},"A",{"$f":"Class!AN43","v":0},51]
[{"$f":"+Name!A55","v":52},{"$f":"+Name!B55","v":" 563040400-2"},{"$f":"+Name!C55","v":" นายอดิศร โพธิ์ยา"},{"$f":"+Name!D55","v":" EN-IE"},{"$f":"+Name!G55","v":2.37},{"$f":"+Name!H55","v":1},null,{"$f":"+QuizAll!S55","v":0},{"$f":"+TestAll!K55","v":0},{"$f":"(+Midterm!I55)*30/50","v":0},null,0,{"$error":"#DIV/0!"},"A",{"$f":"Class!AN42","v":0},52]
[{"$f":"+Name!A56","v":53},{"$f":"+Name!B56","v":" 563040408-6"},{"$f":"+Name!C56","v":" นายอรรถศาสตร์ สุระคาย"},{"$f":"+Name!D56","v":" EN-ME"},{"$f":"+Name!G56","v":2.57},{"$f":"+Name!H56","v":1},null,{"$f":"+QuizAll!S56","v":0},{"$f":"+TestAll!K56","v":0},{"$f":"(+Midterm!I56)*30/50","v":0},null,0,{"$error":"#DIV/0!"},"A",{"$f":"Class!AN41","v":0},53]
[{"$f":"+Name!A57","v":54},{"$f":"+Name!B57","v":" 563040419-1"},{"$f":"+Name!C57","v":" นายชาญชัย มีสนาม"},{"$f":"+Name!D57","v":" EN-AE"},{"$f":"+Name!G57","v":2.88},{"$f":"+Name!H57","v":1},null,{"$f":"+QuizAll!S57","v":0},{"$f":"+TestAll!K57","v":0},{"$f":"(+Midterm!I57)*30/50","v":0},null,0,{"$error":"#DIV/0!"},"A",{"$f":"Class!AN40","v":0},54]
[{"$f":"+Name!A58","v":55},{"$f":"+Name!B58","v":" 563040424-8"},{"$f":"+Name!C58","v":" นายนิติศักดิ์ แต่งเมือง"},{"$f":"+Name!D58","v":" EN-AE"},{"$f":"+Name!G58","v":2.2599999999999998},{"$f":"+Name!H58","v":1},null,{"$f":"+QuizAll!S58","v":0},{"$f":"+TestAll!K58","v":0},{"$f":"(+Midterm!I58)*30/50","v":0},null,0,{"$error":"#DIV/0!"},"A",{"$f":"Class!AN39","v":0},55]
[{"$f":"+Name!A59","v":56},{"$f":"+Name!B59","v":" 563040426-4"},{"$f":"+Name!C59","v":" นางสาวเพชรากร ยอดสุวรรณ์"},{"$f":"+Name!D59","v":" EN-AE"},{"$f":"+Name!G59","v":2.89},{"$f":"+Name!H59","v":1},null,{"$f":"+QuizAll!S59","v":0},{"$f":"+TestAll!K59","v":0},{"$f":"(+Midterm!I59)*30/50","v":0},null,0,{"$error":"#DIV/0!"},"A",{"$f":"Class!AN38","v":0},56]
[{"$f":"+Name!A60","v":57},{"$f":"+Name!B60","v":" 563040431-1"},{"$f":"+Name!C60","v":" นายวนัส ภูยาธร"},{"$f":"+Name!D60","v":" EN-AE"},{"$f":"+Name!G60","v":2.23},{"$f":"+Name!H60","v":1},null,{"$f":"+QuizAll!S60","v":0},{"$f":"+TestAll!K60","v":0},{"$f":"(+Midterm!I60)*30/50","v":0},null,0,{"$error":"#DIV/0!"},"A",{"$f":"Class!AN37","v":0},57]
[{"$f":"+Name!A61","v":58},{"$f":"+Name!B61","v":" 563040433-7"},{"$f":"+Name!C61","v":" นางสาวศุภลักษณ์ เครือเพชร"},{"$f":"+Name!D61","v":" EN-AE"},{"$f":"+Name!G61","v":2.64},{"$f":"+Name!H61","v":1},null,{"$f":"+QuizAll!S61","v":0},{"$f":"+TestAll!K61","v":0},{"$f":"(+Midterm!I61)*30/50","v":0},null,0,{"$error":"#DIV/0!"},"A",{"$f":"Class!AN36","v":0},58]
[{"$f":"+Name!A62","v":0},{"$f":"+Name!B62","v":0},{"$f":"+Name!C62","v":0},{"$f":"+Name!D62","v":0},{"$f":"+Name!G62","v":0},{"$f":"+Name!H62","v":0},null,{"$f":"+QuizAll!S62","v":0},{"$f":"+TestAll!K62","v":0},{"$f":"(+Midterm!I62)*30/50","v":0},null,0,{"$error":"#DIV/0!"},"A",{"$f":"Class!AN35","v":0},59]
[{"$f":"+Name!A63","v":1},{"$f":"+Name!B63","v":" 563040584-6"},{"$f":"+Name!C63","v":" นายกรนันท์ พันธะสา"},{"$f":"+Name!D63","v":" EN-ME (พิเศษ ม.6)"},{"$f":"+Name!G63","v":2.64},{"$f":"+Name!H63","v":"4"},null,{"$f":"+QuizAll!S63","v":0},{"$f":"+TestAll!K63","v":0},{"$f":"(+Midterm!I63)*30/50","v":0},null,0,{"$error":"#DIV/0!"},"A",{"$f":"Class!AN34","v":0},60]
[{"$f":"+Name!A64","v":2},{"$f":"+Name!B64","v":" 563040586-2"},{"$f":"+Name!C64","v":" นายจักรกฤษณ์ ตันเจริญ"},{"$f":"+Name!D64","v":" EN-ME (พิเศษ ม.6)"},{"$f":"+Name!G64","v":1.8},{"$f":"+Name!H64","v":"4"},null,{"$f":"+QuizAll!S64","v":0},{"$f":"+TestAll!K64","v":0},{"$f":"(+Midterm!I64)*30/50","v":0},null,0,{"$error":"#DIV/0!"},"A",{"$f":"Class!AN33","v":0},61]
[{"$f":"+Name!A65","v":3},{"$f":"+Name!B65","v":" 563040595-1"},{"$f":"+Name!C65","v":" นายทรงภพ กระสังข์"},{"$f":"+Name!D65","v":" EN-ME (พิเศษ ม.6)"},{"$f":"+Name!G65","v":2.52},{"$f":"+Name!H65","v":"4"},null,{"$f":"+QuizAll!S65","v":0},{"$f":"+TestAll!K65","v":0},{"$f":"(+Midterm!I65)*30/50","v":0},null,0,{"$error":"#DIV/0!"},"A",{"$f":"Class!AN32","v":0},62]
[{"$f":"+Name!A66","v":4},{"$f":"+Name!B66","v":" 563040596-9"},{"$f":"+Name!C66","v":" นายทรงศิลป์ ศิริแก้ว"},{"$f":"+Name!D66","v":" EN-ME (พิเศษ ม.6)"},{"$f":"+Name!G66","v":1.9},{"$f":"+Name!H66","v":"4"},null,{"$f":"+QuizAll!S66","v":0},{"$f":"+TestAll!K66","v":0},{"$f":"(+Midterm!I66)*30/50","v":0},null,0,{"$error":"#DIV/0!"},"A",{"$f":"Class!AN31","v":0},63]
[{"$f":"+Name!A67","v":5},{"$f":"+Name!B67","v":" 563040598-5"},{"$f":"+Name!C67","v":" นายธนะโชติ สาโม้"},{"$f":"+Name!D67","v":" EN-ME (พิเศษ ม.6)"},{"$f":"+Name!G67","v":2.12},{"$f":"+Name!H67","v":"4"},null,{"$f":"+QuizAll!S67","v":0},{"$f":"+TestAll!K67","v":0},{"$f":"(+Midterm!I67)*30/50","v":0},null,0,{"$error":"#DIV/0!"},"A",{"$f":"Class!AN30","v":0},64]
[{"$f":"+Name!A68","v":6},{"$f":"+Name!B68","v":" 563040602-0"},{"$f":"+Name!C68","v":" นางสาวปฏิมาภรณ์ ทักขินัย"},{"$f":"+Name!D68","v":" EN-ME (พิเศษ ม.6)"},{"$f":"+Name!G68","v":2.42},{"$f":"+Name!H68","v":"4"},null,{"$f":"+QuizAll!S68","v":0},{"$f":"+TestAll!K68","v":0},{"$f":"(+Midterm!I68)*30/50","v":0},null,{"$f":"SUM(G68:K68)","v":0},{"$f":"(L68/$L$1)*100","v":{"$error":"#DIV/0!"}},"A",{"$f":"Class!AN29","v":0},65]
[{"$f":"+Name!A69","v":7},{"$f":"+Name!B69","v":" 563040604-6"},{"$f":"+Name!C69","v":" นายพิฆเนศ ระเบียบโอษฐ์"},{"$f":"+Name!D69","v":" EN-ME (พิเศษ ม.6)"},{"$f":"+Name!G69","v":1.73},{"$f":"+Name!H69","v":"4"},null,{"$f":"+QuizAll!S69","v":0},{"$f":"+TestAll!K69","v":0},{"$f":"(+Midterm!I69)*30/50","v":0},null,0,{"$error":"#DIV/0!"},{"$f":"IF(L66=0,\"A\",grade(M69))","v":"A"},{"$f":"Class!AN28","v":0},66]
[{"$f":"+Name!A70","v":8},{"$f":"+Name!B70","v":" 563040608-8"},{"$f":"+Name!C70","v":" นางสาวมณฑกานต์ มูลสาร"},{"$f":"+Name!D70","v":" EN-ME (พิเศษ ม.6)"},{"$f":"+Name!G70","v":1.99},{"$f":"+Name!H70","v":"4"},null,{"$f":"+QuizAll!S70","v":0},{"$f":"+TestAll!K70","v":0},{"$f":"(+Midterm!I70)*30/50","v":0},null,0,{"$error":"#DIV/0!"},"A",{"$f":"Class!AN27","v":0},67]
[{"$f":"+Name!A71","v":9},{"$f":"+Name!B71","v":" 563040609-6"},{"$f":"+Name!C71","v":" นายรัฐศาสตร์ จันใหญ่"},{"$f":"+Name!D71","v":" EN-ME (พิเศษ ม.6)"},{"$f":"+Name!G71","v":2.4700000000000002},{"$f":"+Name!H71","v":"4"},null,{"$f":"+QuizAll!S71","v":0},{"$f":"+TestAll!K71","v":0},{"$f":"(+Midterm!I71)*30/50","v":0},null,0,{"$error":"#DIV/0!"},"A",{"$f":"Class!AN26","v":0},68]
[{"$f":"+Name!A72","v":10},{"$f":"+Name!B72","v":" 563040610-1"},{"$f":"+Name!C72","v":" นายลักษมณ์ เฮงพูลธนา"},{"$f":"+Name!D72","v":" EN-ME (พิเศษ ม.6)"},{"$f":"+Name!G72","v":1.51},{"$f":"+Name!H72","v":"4"},null,{"$f":"+QuizAll!S72","v":0},{"$f":"+TestAll!K72","v":0},{"$f":"(+Midterm!I72)*30/50","v":0},null,0,{"$error":"#DIV/0!"},"A",{"$f":"Class!AN25","v":0},69]
[{"$f":"+Name!A73","v":11},{"$f":"+Name!B73","v":" 563040614-3"},{"$f":"+Name!C73","v":" นายศิวัช เฮงพูลธนา"},{"$f":"+Name!D73","v":" EN-ME (พิเศษ ม.6)"},{"$f":"+Name!G73","v":2.21},{"$f":"+Name!H73","v":"4"},null,{"$f":"+QuizAll!S73","v":0},{"$f":"+TestAll!K73","v":0},{"$f":"(+Midterm!I73)*30/50","v":0},null,0,{"$error":"#DIV/0!"},"A",{"$f":"Class!AN24","v":0},70]
[{"$f":"+Name!A74","v":12},{"$f":"+Name!B74","v":" 563040618-5"},{"$f":"+Name!C74","v":" นายเสาเอก น้อยปรีชา"},{"$f":"+Name!D74","v":" EN-ME (พิเศษ ม.6)"},{"$f":"+Name!G74","v":2.2400000000000002},{"$f":"+Name!H74","v":"4"},null,{"$f":"+QuizAll!S74","v":0},{"$f":"+TestAll!K74","v":0},{"$f":"(+Midterm!I74)*30/50","v":0},null,0,{"$error":"#DIV/0!"},"A",{"$f":"Class!AN23","v":0},71]
[{"$f":"+Name!A75","v":13},{"$f":"+Name!B75","v":" 563040619-3"},{"$f":"+Name!C75","v":" นายอภิเศรษฐ์ อินทรพาณิชย์"},{"$f":"+Name!D75","v":" EN-ME (พิเศษ ม.6)"},{"$f":"+Name!G75","v":2.59},{"$f":"+Name!H75","v":"4"},null,{"$f":"+QuizAll!S75","v":0},{"$f":"+TestAll!K75","v":0},{"$f":"(+Midterm!I75)*30/50","v":0},null,0,{"$error":"#DIV/0!"},"A",{"$f":"Class!AN22","v":0},72]
[{"$f":"+Name!A76","v":14},{"$f":"+Name!B76","v":" 563040620-8"},{"$f":"+Name!C76","v":" นายอมรเทพ วงษ์สมศรี"},{"$f":"+Name!D76","v":" EN-ME (พิเศษ ม.6)"},{"$f":"+Name!G76","v":2.02},{"$f":"+Name!H76","v":"4"},null,{"$f":"+QuizAll!S76","v":0},{"$f":"+TestAll!K76","v":0},{"$f":"(+Midterm!I76)*30/50","v":0},null,0,{"$error":"#DIV/0!"},"A",{"$f":"Class!AN21","v":0},73]
[null,null,null,null,null,null,null,null,null,null,null,null,null,null,null,74]
[null,null,null,null,null,null,null,null,null,null,null,null,null,null,null,75]
[null,null,null,null,null,null,null,null,null,null,null,null,null,null,null,76]
[null,null,null,null,null,null,null,null,null,null,null,null,null,null,null,77]
[null,null,null,null,null,null,null,null,null,null,null,null,null,null,null,78]
[null,null,null,null,null,null,null,null,null,null,null,null,null,null,null,79]
[null,null,null,null,null,null,null,null,null,null,null,null,null,null,null,80]
[null,null,null,null,null,null,null,null,null,null,null,null,null,null,null,81]
[null,null,null,null,null,null,null,null,null,null,null,null,null,null,null,82]
[null,null,null,null,null,null,null,null,null,null,null,null,null,null,null,83]
[null,null,null,null,null,null,null,null,null,null,null,null,null,null,null,84]
[null,null,null,null,null,null,null,null,null,null,null,null,null,null,null,85]
[null,null,null,null,null,null,null,null,null,null,null,null,null,null,null,86]
[null,null,null,null,null,null,null,null,null,null,null,null,null,null,null,87]
[null,null,null,null,null,null,null,null,null,null,null,null,null,null,null,88]
[null,null,null,null,null,null,null,null,null,null,null,null,null,null,null,89]
[null,null,null,null,null,null,null,null,null,null,null,null,null,null,null,90]
[null,null,null,null,null,null,null,null,null,null,null,null,null,null,null,91]
[null,null,null,null,null,null,null,null,null,null,null,null,null,null,null,92]
[null,null,null,null,null,null,null,null,null,null,null,null,null,null,null,93]
[null,null,null,null,null,null,null,null,null,null,null,null,null,null,null,94]
[null,null,null,null,null,null,null,null,null,null,null,null,null,null,null,95]
[null,null,null,null,null,null,null,null,null,null,null,null,null,null,null,96]
[null,null,null,null,null,null,null,null,null,null,null,null,null,null,null,97]
[null,null,null,null,null,null,null,null,null,null,null,null,null,null,null,98]
[null,null,null,null,null,null,null,null,null,null,null,null,null,null,null,99]
[null,null,null,null,null,null,null,null,null,null,null,null,null,null,null,100]
[null,null,null,null,null,null,null,null,null,null,null,null,null,null,null,101]
[null,null,null,null,null,null,null,null,null,null,null,null,null,null,null,102]
[null,null,null,null,null,null,null,null,null,null,null,null,null,null,null,103]
[null,null,null,null,null,null,null,null,null,null,null,null,null,null,null,104]
[null,null,null,null,null,null,null,null,null,null,null,null,null,null,null,105]
[null,null,null,null,null,null,null,null,null,null,null,null,null,null,null,106]
[null,null,null,null,null,null,null,null,null,null,null,null,null,null,null,107]
[null,null,null,"Average",{"$f":"AVERAGE(E4:E109)","v":2.4753424657534242},null,{"$f":"AVERAGE(G5:G110)","v":{"$error":"#DIV/0!"}},{"$f":"AVERAGE(H4:H110)","v":0},{"$f":"AVERAGE(I4:I110)","v":0},null,{"$f":"AVERAGE(K4:K110)","v":{"$error":"#DIV/0!"}},{"$f":"AVERAGE(L4:L110)","v":0},{"$f":"AVERAGE(M4:M110)","v":{"$error":"#DIV/0!"}}]
[null,null,null,"Max",{"$f":"MAX(E4:E109)","v":3.51},null,{"$f":"MAX(G5:G110)","v":0},{"$f":"MAX(H4:H110)","v":0},{"$f":"MAX(I4:I110)","v":0},null,{"$f":"MAX(K4:K110)","v":0},{"$f":"MAX(L4:L110)","v":0},{"$f":"MAX(M4:M110)","v":{"$error":"#DIV/0!"}}]
[null,null,null,"SD",{"$f":"STDEV(E4:E109)","v":0.57757895610273602},null,{"$f":"STDEV(G4:G110)","v":{"$error":"#DIV/0!"}},{"$f":"STDEV(H4:H110)","v":0},{"$f":"STDEV(I4:I110)","v":0},null,{"$f":"STDEV(K4:K110)","v":{"$error":"#DIV/0!"}},{"$f":"STDEV(L4:L110)","v":0},{"$f":"STDEV(M4:M110)","v":{"$error":"#DIV/0!"}}]

{"sheet":"SignName","index":3,"n_rows":46,"n_cols":13,"rows_kept":46,"cut":false,"hidden":false,"merged":[]}
["รายวิชา  195231 : THERMODYNAMICS I",null,null,null,null,null,null,"ปีการศึกษา 2556 ภาคการศึกษาที่ 1",null,null,null,null,"รศ.ดร.สมหมาย ปรีเปรม"]
[null,"Test 1  Saturday 27 September 2014",null,null,null,null,null,null,null,null,null,null,"Section 1&4"]
["ที่"," รหัส","ชื่อ",null,null,null,null,"ที่"," รหัส","ชื่อ"]
[1," 513041112-7"," นายมติชน โอษะคลัง",null,null,null,null,44," 563040289-8"," นางสาวโชติณัฐ จงใจหาญ"]
[2," 543040294-3"," นายอธิปไตย นวลศิริ",null,null,null,null,45," 563040292-9"," นางสาวฐิติพร ฐานหมั่น"]
[3," 543040669-6"," นายเกียรติขจร ทัดทาอามาตย์",null,null,null,null,46," 563040296-1"," นางสาวณัฐชยา ทัศนจินดา"]
[4," 543040670-1"," นางสาวขนิษฐา ทวีแสง",null,null,null,null,47," 563040297-9"," นายณัฐภัทร ศรีสม"]
[5," 543040677-7"," นายธีรภัทร แก้วมะ",null,null,null,null,48," 563040304-8"," นายธนพนธ์ ตั้งวัฒนสุวรรณ"]
[6," 563040002-4"," นายกรวิชญ์ ศรีวัฒนาปิติกุล",null,null,null,null,49," 563040313-7"," นายธาดา วิริยบัณฑร"]
[7," 563040003-2"," นายกฤช ถาไชยลา",null,null,null,null,50," 563040315-3"," นางสาวธิดาวรรณ ใจตรง"]
[8," 563040022-8"," นายณัฐพล สิทธิอมรพร",null,null,null,null,51," 563040329-2"," นายปรัชญาวัชร วรรณชัย"]
[9," 563040025-2"," นายทรงพล เกียรติพนมแพ",null,null,null,null,52," 563040334-9"," นายพชร ไชยสมบูรณ์"]
[10," 563040032-5"," นางสาวธนัชชา ใหญ่สูงเนิน",null,null,null,null,53," 563040341-2"," นายพิทวัส เบ้าศรี"]
[11," 563040043-0"," นางสาวนันทิชา จริยาโสวรรณ",null,null,null,null,54," 563040344-6"," นายไพโรจน์ วงษ์จำปา"]
[12," 563040044-8"," นางสาวนิภาพร อายุวัฒน์",null,null,null,null,55," 563040346-2"," นายภระรถ ผาสิงห์"]
[13," 563040051-1"," นายพงศ์ทัช พรวิกุลรัตนา",null,null,null,null,56," 563040348-8"," นายภัทรธร สุดาจันทร์"]
[14," 563040059-5"," นายพสธร นามสร",null,null,null,null,57," 563040350-1"," นายภูริเดช บุดดาวงศ์"]
[15," 563040064-2"," นางสาวภัทรามาศ ฉวีชัย",null,null,null,null,58," 563040351-9"," นางสาวมุกดารัศมิ์ อาจบรรจง"]
[16," 563040065-0"," นายภาคิน จำปาศักดิ์",null,null,null,null,59," 563040359-3"," นายวริษฐ์ จวงพุ่ม"]
[17," 563040070-7"," นายมหคพันธุ์ เอมกลาง",null,null,null,null,60," 563040367-4"," นายไวพจน์ แสงกุดเรือ"]
[18," 563040071-5"," นายมานะ ติรโรจน์",null,null,null,null,61," 563040374-7"," นางสาวศิวะพร ภูเงินเหรียญ"]
[19," 563040076-5"," นายรัฐศาสตร์ พลยงค์",null,null,null,null,62," 563040389-4"," นางสาวสุธีรา นาหัวนิล"]
[20," 563040087-0"," นายวุฒินันท์ สัจสุวรรณ",null,null,null,null,63," 563040393-3"," นายสุภานุเดช ถาวิกุล"]
[21," 563040089-6"," นายศวัสชัย วิวรรธนจิตต์",null,null,null,null,64," 563040394-1"," นางสาวสุภาวิตา ทาเวียง"]
[22," 563040098-5"," นายสิทธิโชค ชูพงศ์พันธุ์",null,null,null,null,65," 563040396-7"," นางสาวสุวนันท์ ดวงพิมาย"]
[23," 563040107-0"," นายอภิเดช ชมภูวิเศษ",null,null,null,null,66," 563040397-5"," นางสาวเหมือนฝัน จินดามณี"]
[24," 563040114-3"," นายคฑาวุธ ศรีโสดาพล",null,null,null,null,67," 563040398-3"," นางสาวเหมือนฝัน เผือกไร่"]
[25," 563040115-1"," นายจุลดิศ ทองตัน",null,null,null,null,68," 563040400-2"," นายอดิศร โพธิ์ยา"]
[26," 563040116-9"," นายโชคชัย ซุยอุ้ย",null,null,null,null,69," 563040408-6"," นายอรรถศาสตร์ สุระคาย"]
[27," 563040118-5"," นายณพงศ์ พรหมแสนวิเศษ",null,null,null,null,70," 563040419-1"," นายชาญชัย มีสนาม"]
[28," 563040119-3"," นายณพรัช ศรีวัฒน์",null,null,null,null,71," 563040424-8"," นายนิติศักดิ์ แต่งเมือง"]
[29," 563040120-8"," นายณัฐธพงษ์ ปภาศรีวิบูลย์",null,null,null,null,72," 563040426-4"," นางสาวเพชรากร ยอดสุวรรณ์"]
[30," 563040121-6"," นายธนพล หลาบศิริ",null,null,null,null,73," 563040431-1"," นายวนัส ภูยาธร"]
[31," 563040123-2"," นายธนวร สันธนะสุรางค์",null,null,null,null,74," 563040433-7"," นางสาวศุภลักษณ์ เครือเพชร"]
[32," 563040128-2"," นายพิเชษฐ์ สังเกตชน",null,null,null,null,75," 563040435-3"," นายอัฑฒสิทธิ์ สุรเสียง"]
[33," 563040129-0"," นายพีรเมธ จุฑานันท์"]
[34," 563040130-5"," นายพีส คูณดี",null,null,null,null,"Section 4"]
[35," 563040137-1"," นายศุภณัฐ ลัภกิตโร",null,null,null,null,1," 563040586-2"," นายจักรกฤษณ์ ตันเจริญ"]
[36," 563040139-7"," นายสุธรรม ดิษาภิรมย์",null,null,null,null,2," 563040595-1"," นายทรงภพ กระสังข์"]
[37," 563040218-1"," นายณัฐพล มะลาศรี",null,null,null,null,3," 563040596-9"," นายทรงศิลป์ ศิริแก้ว"]
[38," 563040230-1"," นางสาวสุธินี เวียงดาว",null,null,null,null,4," 563040598-5"," นายธนะโชติ สาโม้"]
[39," 563040231-9"," นายอธิการ สุริโย",null,null,null,null,5," 563040604-6"," นายพิฆเนศ ระเบียบโอษฐ์"]
[40," 563040260-2"," นางสาวณัฐณิชา ศิริเหล่าไพศาล",null,null,null,null,6," 563040609-6"," นายรัฐศาสตร์ จันใหญ่"]
[41," 563040269-4"," นายกนกพล แก้วเฮียง",null,null,null,null,7," 563040610-1"," นายลักษมณ์ เฮงพูลธนา"]
[42," 563040272-5"," นายกีรติ มังษา",null,null,null,null,8," 563040614-3"," นายศิวัช เฮงพูลธนา"]
[43," 563040275-9"," นางสาวคุณัญญา ทวีสอน",null,null,null,null,9," 563040619-3"," นายอภิเศรษฐ์ อินทรพาณิชย์"]

{"sheet":"Sheet1","index":4,"n_rows":86,"n_cols":7,"rows_kept":86,"cut":false,"hidden":false,"merged":[]}
["ลำดับ"," รหัส","ชื่อ","หลักสูตร","สถานภาพ","เกรด","GPA"]
[1," 513041112-7"," นายมติชน โอษะคลัง"," EN-IE",10," ",1.8]
[2," 543040294-3"," นายอธิปไตย นวลศิริ"," EN-AE",10," ",1.86]
[3," 543040669-6"," นายเกียรติขจร ทัดทาอามาตย์"," EN-AE",10," ",2]
[4," 543040670-1"," นางสาวขนิษฐา ทวีแสง"," EN-AE",10," ",1.94]
[5," 543040677-7"," นายธีรภัทร แก้วมะ"," EN-AE",10," ",1.8]
[6," 563040002-4"," นายกรวิชญ์ ศรีวัฒนาปิติกุล"," EN-ME",10," ",3.14]
[7," 563040003-2"," นายกฤช ถาไชยลา"," EN-ME",10," ",2.84]
[8," 563040022-8"," นายณัฐพล สิทธิอมรพร"," EN-ME",10," ",3.41]
[9," 563040025-2"," นายทรงพล เกียรติพนมแพ"," EN-IE",10," ",3.04]
[10," 563040032-5"," นางสาวธนัชชา ใหญ่สูงเนิน"," EN-IE",10," ",2.76]
[11," 563040043-0"," นางสาวนันทิชา จริยาโสวรรณ"," EN-IE",10," ",2.04]
[12," 563040044-8"," นางสาวนิภาพร อายุวัฒน์"," EN-ME",10," ",2.92]
[13," 563040051-1"," นายพงศ์ทัช พรวิกุลรัตนา"," EN-ME",10," ",2.63]
[14," 563040059-5"," นายพสธร นามสร"," EN-ME",10," ",3.09]
[15," 563040064-2"," นางสาวภัทรามาศ ฉวีชัย"," EN-IE",10," ",3.12]
[16," 563040065-0"," นายภาคิน จำปาศักดิ์"," EN-ME",10," ",3.51]
[17," 563040070-7"," นายมหคพันธุ์ เอมกลาง"," EN-ME",10," ",2.71]
[18," 563040071-5"," นายมานะ ติรโรจน์"," EN-ME",10," ",3.46]
[19," 563040076-5"," นายรัฐศาสตร์ พลยงค์"," EN-ME",10," ",2.88]
[20," 563040087-0"," นายวุฒินันท์ สัจสุวรรณ"," EN-ME",10," ",3.21]
[21," 563040089-6"," นายศวัสชัย วิวรรธนจิตต์"," EN-IE",10," ",2.79]
[22," 563040098-5"," นายสิทธิโชค ชูพงศ์พันธุ์"," EN-ME",10," ",2.94]
[23," 563040107-0"," นายอภิเดช ชมภูวิเศษ"," EN-ME",10," ",3.12]
[24," 563040114-3"," นายคฑาวุธ ศรีโสดาพล"," EN-AE",10," ",1.51]
[25," 563040115-1"," นายจุลดิศ ทองตัน"," EN-AE",10," ",1.82]
[26," 563040116-9"," นายโชคชัย ซุยอุ้ย"," EN-AE",10," ",3.03]
[27," 563040118-5"," นายณพงศ์ พรหมแสนวิเศษ"," EN-AE",10," ",2.13]
[28," 563040119-3"," นายณพรัช ศรีวัฒน์"," EN-AE",10," ",3.43]
[29," 563040120-8"," นายณัฐธพงษ์ ปภาศรีวิบูลย์"," EN-AE",10," ",2.29]
[30," 563040121-6"," นายธนพล หลาบศิริ"," EN-AE",10," ",2.77]
[31," 563040123-2"," นายธนวร สันธนะสุรางค์"," EN-AE",10," ",2.35]
[32," 563040128-2"," นายพิเชษฐ์ สังเกตชน"," EN-AE",10," ",2.5099999999999998]
[33," 563040129-0"," นายพีรเมธ จุฑานันท์"," EN-AE",10," ",1.89]
[34," 563040130-5"," นายพีส คูณดี"," EN-AE",10," ",2.29]
[35," 563040137-1"," นายศุภณัฐ ลัภกิตโร"," EN-AE",10," ",2.58]
[36," 563040139-7"," นายสุธรรม ดิษาภิรมย์"," EN-AE",10," ",1.78]
[37," 563040218-1"," นายณัฐพล มะลาศรี"," EN-ME",10," ",2.61]
[38," 563040230-1"," นางสาวสุธินี เวียงดาว"," EN-ME",10," ",2.87]
[39," 563040231-9"," นายอธิการ สุริโย"," EN-IE",10," ",1.71]
[40," 563040260-2"," นางสาวณัฐณิชา ศิริเหล่าไพศาล"," EN-IE",10," ",3.17]
[41," 563040269-4"," นายกนกพล แก้วเฮียง"," EN-ME",10," ",3.06]
[42," 563040272-5"," นายกีรติ มังษา"," EN-ME",10," ",2.87]
[43," 563040275-9"," นางสาวคุณัญญา ทวีสอน"," EN-ME",10," ",2.69]
[44," 563040289-8"," นางสาวโชติณัฐ จงใจหาญ"," EN-IE",10," ",3]
[45," 563040292-9"," นางสาวฐิติพร ฐานหมั่น"," EN-IE",10," ",2.12]
[46," 563040296-1"," นางสาวณัฐชยา ทัศนจินดา"," EN-IE",10," ",2.75]
[47," 563040297-9"," นายณัฐภัทร ศรีสม"," EN-ME",10," ",2.37]
[48," 563040304-8"," นายธนพนธ์ ตั้งวัฒนสุวรรณ"," EN-IE",10," ",2.44]
[49," 563040313-7"," นายธาดา วิริยบัณฑร"," EN-ME",10," ",3.49]
[50," 563040315-3"," นางสาวธิดาวรรณ ใจตรง"," EN-IE",10," ",2.48]
[51," 563040329-2"," นายปรัชญาวัชร วรรณชัย"," EN-ME",10," ",3.34]
[52," 563040334-9"," นายพชร ไชยสมบูรณ์"," EN-IE",10," ",2.3199999999999998]
[53," 563040341-2"," นายพิทวัส เบ้าศรี"," EN-ME",10," ",2.68]
[54," 563040344-6"," นายไพโรจน์ วงษ์จำปา"," EN-ME",10," ",2.61]
[55," 563040346-2"," นายภระรถ ผาสิงห์"," EN-ME",10," ",3.13]
[56," 563040348-8"," นายภัทรธร สุดาจันทร์"," EN-IE",10," ",2.0499999999999998]
[57," 563040350-1"," นายภูริเดช บุดดาวงศ์"," EN-ME",10," ",3.49]
[58," 563040351-9"," นางสาวมุกดารัศมิ์ อาจบรรจง"," EN-ME",10," ",2.96]
[59," 563040359-3"," นายวริษฐ์ จวงพุ่ม"," EN-IE",10," ",2.34]
[60," 563040367-4"," นายไวพจน์ แสงกุดเรือ"," EN-ME",10," ",2.78]
[61," 563040374-7"," นางสาวศิวะพร ภูเงินเหรียญ"," EN-IE",10," ",1.76]
[62," 563040389-4"," นางสาวสุธีรา นาหัวนิล"," EN-IE",10," ",2.2999999999999998]
[63," 563040393-3"," นายสุภานุเดช ถาวิกุล"," EN-IE",10," ",1.58]
[64," 563040394-1"," นางสาวสุภาวิตา ทาเวียง"," EN-IE",10," ",2.37]
[65," 563040396-7"," นางสาวสุวนันท์ ดวงพิมาย"," EN-IE",10," ",2.19]
[66," 563040397-5"," นางสาวเหมือนฝัน จินดามณี"," EN-IE",10," ",1.72]
[67," 563040398-3"," นางสาวเหมือนฝัน เผือกไร่"," EN-ME",10," ",2.75]
[68," 563040400-2"," นายอดิศร โพธิ์ยา"," EN-IE",10," ",2.37]
[69," 563040408-6"," นายอรรถศาสตร์ สุระคาย"," EN-ME",10," ",2.57]
[70," 563040419-1"," นายชาญชัย มีสนาม"," EN-AE",10," ",2.88]
[71," 563040424-8"," นายนิติศักดิ์ แต่งเมือง"," EN-AE",10," ",2.2599999999999998]
[72," 563040426-4"," นางสาวเพชรากร ยอดสุวรรณ์"," EN-AE",10," ",2.89]
[73," 563040431-1"," นายวนัส ภูยาธร"," EN-AE",10," ",2.23]
[74," 563040433-7"," นางสาวศุภลักษณ์ เครือเพชร"," EN-AE",10," ",2.64]
[75," 563040435-3"," นายอัฑฒสิทธิ์ สุรเสียง"," EN-AE",10," ",2.63]
[]
[1," 563040586-2"," นายจักรกฤษณ์ ตันเจริญ"," EN-ME (พิเศษ ม.6)",10," ",1.8]
[2," 563040595-1"," นายทรงภพ กระสังข์"," EN-ME (พิเศษ ม.6)",10," ",2.52]
[3," 563040596-9"," นายทรงศิลป์ ศิริแก้ว"," EN-ME (พิเศษ ม.6)",10," ",1.9]
[4," 563040598-5"," นายธนะโชติ สาโม้"," EN-ME (พิเศษ ม.6)",10," ",2.12]
[5," 563040604-6"," นายพิฆเนศ ระเบียบโอษฐ์"," EN-ME (พิเศษ ม.6)",10," ",1.73]
[6," 563040609-6"," นายรัฐศาสตร์ จันใหญ่"," EN-ME (พิเศษ ม.6)",10," ",2.4700000000000002]
[7," 563040610-1"," นายลักษมณ์ เฮงพูลธนา"," EN-ME (พิเศษ ม.6)",10," ",1.51]
[8," 563040614-3"," นายศิวัช เฮงพูลธนา"," EN-ME (พิเศษ ม.6)",10," ",2.21]
[9," 563040619-3"," นายอภิเศรษฐ์ อินทรพาณิชย์"," EN-ME (พิเศษ ม.6)",10," ",2.59]

{"sheet":"Class","index":5,"n_rows":110,"n_cols":40,"rows_kept":110,"cut":false,"hidden":false,"merged":[]}
[null,"รายวิชา","185231 : THERMODYNAMICS I",null,null,null,null,"Section 1"]
[null,"ปีการศึกษา","2553 ภาคการศึกษาที่ 1",null,null,null,null,null,null,null,null,null,null,null,null,null,null,null,null,null,null,null,null,null,null,null,null,null,null,null,null,null,null,null,null,null,null,null,null,{"$f":"SUM(G2:AM2)","v":0}]
["ลำดับ"," รหัส","ชื่อ","หลักสูตร","GPA","Section",null,null,null,null,null,null,null,null,null,null,null,null,null,null,null,null,null,null,null,null,null,null,null,null,null,null,null,null,null,null,null,null,"Attened","Miss"]
[{"$f":"Score!A110","v":0},{"$f":"Score!B110","v":0},{"$f":"Score!C110","v":0},{"$f":"Score!D110","v":0},{"$f":"Score!E110","v":0},{"$f":"Score!F110","v":0},null,null,null,null,null,null,null,null,null,null,null,null,null,null,null,null,null,null,null,null,null,null,null,null,null,null,null,null,null,null,null,null,{"$f":"SUM(G4:AL4)","v":0},{"$f":"+$AN$2-AM4","v":0}]
[{"$f":"Score!A109","v":0},{"$f":"Score!B109","v":0},{"$f":"Score!C109","v":0},{"$f":"Score!D109","v":0},{"$f":"Score!E109","v":0},{"$f":"Score!F109","v":0},null,null,null,null,null,null,null,null,null,null,null,null,null,null,null,null,null,null,null,null,null,null,null,null,null,null,null,null,null,null,null,null,{"$f":"SUM(G5:AL5)","v":0},0]
[{"$f":"Score!A108","v":0},{"$f":"Score!B108","v":0},{"$f":"Score!C108","v":0},{"$f":"Score!D108","v":0},{"$f":"Score!E108","v":0},{"$f":"Score!F108","v":0},null,null,null,null,null,null,null,null,null,null,null,null,null,null,null,null,null,null,null,null,null,null,null,null,null,null,null,null,null,null,null,null,0,0]
[{"$f":"Score!A107","v":0},{"$f":"Score!B107","v":0},{"$f":"Score!C107","v":0},{"$f":"Score!D107","v":0},{"$f":"Score!E107","v":0},{"$f":"Score!F107","v":0},null,null,null,null,null,null,null,null,null,null,null,null,null,null,null,null,null,null,null,null,null,null,null,null,null,null,null,null,null,null,null,null,0,0]
[{"$f":"Score!A106","v":0},{"$f":"Score!B106","v":0},{"$f":"Score!C106","v":0},{"$f":"Score!D106","v":0},{"$f":"Score!E106","v":0},{"$f":"Score!F106","v":0},null,null,null,null,null,null,null,null,null,null,null,null,null,null,null,null,null,null,null,null,null,null,null,null,null,null,null,null,null,null,null,null,0,0]
[{"$f":"Score!A105","v":0},{"$f":"Score!B105","v":0},{"$f":"Score!C105","v":0},{"$f":"Score!D105","v":0},{"$f":"Score!E105","v":0},{"$f":"Score!F105","v":0},null,null,null,null,null,null,null,null,null,null,null,null,null,null,null,null,null,null,null,null,null,null,null,null,null,null,null,null,null,null,null,null,0,0]
[{"$f":"Score!A104","v":0},{"$f":"Score!B104","v":0},{"$f":"Score!C104","v":0},{"$f":"Score!D104","v":0},{"$f":"Score!E104","v":0},{"$f":"Score!F104","v":0},null,null,null,null,null,null,null,null,null,null,null,null,null,null,null,null,null,null,null,null,null,null,null,null,null,null,null,null,null,null,null,null,0,0]
[{"$f":"Score!A103","v":0},{"$f":"Score!B103","v":0},{"$f":"Score!C103","v":0},{"$f":"Score!D103","v":0},{"$f":"Score!E103","v":0},{"$f":"Score!F103","v":0},null,null,null,null,null,null,null,null,null,null,null,null,null,null,null,null,null,null,null,null,null,null,null,null,null,null,null,null,null,null,null,null,0,0]
[{"$f":"Score!A102","v":0},{"$f":"Score!B102","v":0},{"$f":"Score!C102","v":0},{"$f":"Score!D102","v":0},{"$f":"Score!E102","v":0},{"$f":"Score!F102","v":0},null,null,null,null,null,null,null,null,null,null,null,null,null,null,null,null,null,null,null,null,null,null,null,null,null,null,null,null,null,null,null,null,0,0]
[{"$f":"Score!A101","v":0},{"$f":"Score!B101","v":0},{"$f":"Score!C101","v":0},{"$f":"Score!D101","v":0},{"$f":"Score!E101","v":0},{"$f":"Score!F101","v":0},null,null,null,null,null,null,null,null,null,null,null,null,null,null,null,null,null,null,null,null,null,null,null,null,null,null,null,null,null,null,null,null,0,0]
[{"$f":"Score!A100","v":0},{"$f":"Score!B100","v":0},{"$f":"Score!C100","v":0},{"$f":"Score!D100","v":0},{"$f":"Score!E100","v":0},{"$f":"Score!F100","v":0},null,null,null,null,null,null,null,null,null,null,null,null,null,null,null,null,null,null,null,null,null,null,null,null,null,null,null,null,null,null,null,null,0,0]
[{"$f":"Score!A99","v":0},{"$f":"Score!B99","v":0},{"$f":"Score!C99","v":0},{"$f":"Score!D99","v":0},{"$f":"Score!E99","v":0},{"$f":"Score!F99","v":0},null,null,null,null,null,null,null,null,null,null,null,null,null,null,null,null,null,null,null,null,null,null,null,null,null,null,null,null,null,null,null,null,0,0]
[{"$f":"Score!A98","v":0},{"$f":"Score!B98","v":0},{"$f":"Score!C98","v":0},{"$f":"Score!D98","v":0},{"$f":"Score!E98","v":0},{"$f":"Score!F98","v":0},null,null,null,null,null,null,null,null,null,null,null,null,null,null,null,null,null,null,null,null,null,null,null,null,null,null,null,null,null,null,null,null,0,0]
[{"$f":"Score!A97","v":0},{"$f":"Score!B97","v":0},{"$f":"Score!C97","v":0},{"$f":"Score!D97","v":0},{"$f":"Score!E97","v":0},{"$f":"Score!F97","v":0},null,null,null,null,null,null,null,null,null,null,null,null,null,null,null,null,null,null,null,null,null,null,null,null,null,null,null,null,null,null,null,null,0,0]
[{"$f":"Score!A96","v":0},{"$f":"Score!B96","v":0},{"$f":"Score!C96","v":0},{"$f":"Score!D96","v":0},{"$f":"Score!E96","v":0},{"$f":"Score!F96","v":0},null,null,null,null,null,null,null,null,null,null,null,null,null,null,null,null,null,null,null,null,null,null,null,null,null,null,null,null,null,null,null,null,0,0]
[{"$f":"Score!A95","v":0},{"$f":"Score!B95","v":0},{"$f":"Score!C95","v":0},{"$f":"Score!D95","v":0},{"$f":"Score!E95","v":0},{"$f":"Score!F95","v":0},null,null,null,null,null,null,null,null,null,null,null,null,null,null,null,null,null,null,null,null,null,null,null,null,null,null,null,null,null,null,null,null,0,0]
[{"$f":"Score!A94","v":0},{"$f":"Score!B94","v":0},{"$f":"Score!C94","v":0},{"$f":"Score!D94","v":0},{"$f":"Score!E94","v":0},{"$f":"Score!F94","v":0},null,null,null,null,null,null,null,null,null,null,null,null,null,null,null,null,null,null,null,null,null,null,null,null,null,null,null,null,null,null,null,null,0,0]
[{"$f":"Score!A93","v":0},{"$f":"Score!B93","v":0},{"$f":"Score!C93","v":0},{"$f":"Score!D93","v":0},{"$f":"Score!E93","v":0},{"$f":"Score!F93","v":0},null,null,null,null,null,null,null,null,null,null,null,null,null,null,null,null,null,null,null,null,null,null,null,null,null,null,null,null,null,null,null,null,0,0]
[{"$f":"Score!A92","v":0},{"$f":"Score!B92","v":0},{"$f":"Score!C92","v":0},{"$f":"Score!D92","v":0},{"$f":"Score!E92","v":0},{"$f":"Score!F92","v":0},null,null,null,null,null,null,null,null,null,null,null,null,null,null,null,null,null,null,null,null,null,null,null,null,null,null,null,null,null,null,null,null,0,0]
[{"$f":"Score!A91","v":0},{"$f":"Score!B91","v":0},{"$f":"Score!C91","v":0},{"$f":"Score!D91","v":0},{"$f":"Score!E91","v":0},{"$f":"Score!F91","v":0},null,null,null,null,null,null,null,null,null,null,null,null,null,null,null,null,null,null,null,null,null,null,null,null,null,null,null,null,null,null,null,null,0,0]
[{"$f":"Score!A90","v":0},{"$f":"Score!B90","v":0},{"$f":"Score!C90","v":0},{"$f":"Score!D90","v":0},{"$f":"Score!E90","v":0},{"$f":"Score!F90","v":0},null,null,null,null,null,null,null,null,null,null,null,null,null,null,null,null,null,null,null,null,null,null,null,null,null,null,null,null,null,null,null,null,0,0]
[{"$f":"Score!A89","v":0},{"$f":"Score!B89","v":0},{"$f":"Score!C89","v":0},{"$f":"Score!D89","v":0},{"$f":"Score!E89","v":0},{"$f":"Score!F89","v":0},null,null,null,null,null,null,null,null,null,null,null,null,null,null,null,null,null,null,null,null,null,null,null,null,null,null,null,null,null,null,null,null,0,0]
[{"$f":"Score!A88","v":0},{"$f":"Score!B88","v":0},{"$f":"Score!C88","v":0},{"$f":"Score!D88","v":0},{"$f":"Score!E88","v":0},{"$f":"Score!F88","v":0},null,null,null,null,null,null,null,null,null,null,null,null,null,null,null,null,null,null,null,null,null,null,null,null,null,null,null,null,null,null,null,null,0,0]
[{"$f":"Score!A87","v":0},{"$f":"Score!B87","v":0},{"$f":"Score!C87","v":0},{"$f":"Score!D87","v":0},{"$f":"Score!E87","v":0},{"$f":"Score!F87","v":0},null,null,null,null,null,null,null,null,null,null,null,null,null,null,null,null,null,null,null,null,null,null,null,null,null,null,null,null,null,null,null,null,0,0]
[{"$f":"Score!A86","v":0},{"$f":"Score!B86","v":0},{"$f":"Score!C86","v":0},{"$f":"Score!D86","v":0},{"$f":"Score!E86","v":0},{"$f":"Score!F86","v":0},null,null,null,null,null,null,null,null,null,null,null,null,null,null,null,null,null,null,null,null,null,null,null,null,null,null,null,null,null,null,null,null,0,0]
[{"$f":"Score!A85","v":0},{"$f":"Score!B85","v":0},{"$f":"Score!C85","v":0},{"$f":"Score!D85","v":0},{"$f":"Score!E85","v":0},{"$f":"Score!F85","v":0},null,null,null,null,null,null,null,null,null,null,null,null,null,null,null,null,null,null,null,null,null,null,null,null,null,null,null,null,null,null,null,null,0,0]
[{"$f":"Score!A84","v":0},{"$f":"Score!B84","v":0},{"$f":"Score!C84","v":0},{"$f":"Score!D84","v":0},{"$f":"Score!E84","v":0},{"$f":"Score!F84","v":0},null,null,null,null,null,null,null,null,null,null,null,null,null,null,null,null,null,null,null,null,null,null,null,null,null,null,null,null,null,null,null,null,0,0]
[{"$f":"Score!A83","v":0},{"$f":"Score!B83","v":0},{"$f":"Score!C83","v":0},{"$f":"Score!D83","v":0},{"$f":"Score!E83","v":0},{"$f":"Score!F83","v":0},null,null,null,null,null,null,null,null,null,null,null,null,null,null,null,null,null,null,null,null,null,null,null,null,null,null,null,null,null,null,null,null,0,0]
[{"$f":"Score!A82","v":0},{"$f":"Score!B82","v":0},{"$f":"Score!C82","v":0},{"$f":"Score!D82","v":0},{"$f":"Score!E82","v":0},{"$f":"Score!F82","v":0},null,null,null,null,null,null,null,null,null,null,null,null,null,null,null,null,null,null,null,null,null,null,null,null,null,null,null,null,null,null,null,null,0,0]
[{"$f":"Score!A81","v":0},{"$f":"Score!B81","v":0},{"$f":"Score!C81","v":0},{"$f":"Score!D81","v":0},{"$f":"Score!E81","v":0},{"$f":"Score!F81","v":0},null,null,null,null,null,null,null,null,null,null,null,null,null,null,null,null,null,null,null,null,null,null,null,null,null,null,null,null,null,null,null,null,0,0]
[{"$f":"Score!A80","v":0},{"$f":"Score!B80","v":0},{"$f":"Score!C80","v":0},{"$f":"Score!D80","v":0},{"$f":"Score!E80","v":0},{"$f":"Score!F80","v":0},null,null,null,null,null,null,null,null,null,null,null,null,null,null,null,null,null,null,null,null,null,null,null,null,null,null,null,null,null,null,null,null,0,0]
[{"$f":"Score!A79","v":0},{"$f":"Score!B79","v":0},{"$f":"Score!C79","v":0},{"$f":"Score!D79","v":0},{"$f":"Score!E79","v":0},{"$f":"Score!F79","v":0},null,null,null,null,null,null,null,null,null,null,null,null,null,null,null,null,null,null,null,null,null,null,null,null,null,null,null,null,null,null,null,null,0,0]
[{"$f":"Score!A78","v":0},{"$f":"Score!B78","v":0},{"$f":"Score!C78","v":0},{"$f":"Score!D78","v":0},{"$f":"Score!E78","v":0},{"$f":"Score!F78","v":0},null,null,null,null,null,null,null,null,null,null,null,null,null,null,null,null,null,null,null,null,null,null,null,null,null,null,null,null,null,null,null,null,0,{"$f":"+$AN$2-AM36","v":0}]
[{"$f":"Score!A77","v":0},{"$f":"Score!B77","v":0},{"$f":"Score!C77","v":0},{"$f":"Score!D77","v":0},{"$f":"Score!E77","v":0},{"$f":"Score!F77","v":0},null,null,null,null,null,null,null,null,null,null,null,null,null,null,null,null,null,null,null,null,null,null,null,null,null,null,null,null,null,null,null,null,{"$f":"SUM(G37:AL37)","v":0},0]
[{"$f":"Score!A76","v":14},{"$f":"Score!B76","v":" 563040620-8"},{"$f":"Score!C76","v":" นายอมรเทพ วงษ์สมศรี"},{"$f":"Score!D76","v":" EN-ME (พิเศษ ม.6)"},{"$f":"Score!E76","v":2.02},{"$f":"Score!F76","v":"4"},null,null,null,null,null,null,null,null,null,null,null,null,null,null,null,null,null,null,null,null,null,null,null,null,null,null,null,null,null,null,null,null,0,0]
[{"$f":"Score!A75","v":13},{"$f":"Score!B75","v":" 563040619-3"},{"$f":"Score!C75","v":" นายอภิเศรษฐ์ อินทรพาณิชย์"},{"$f":"Score!D75","v":" EN-ME (พิเศษ ม.6)"},{"$f":"Score!E75","v":2.59},{"$f":"Score!F75","v":"4"},null,null,null,null,null,null,null,null,null,null,null,null,null,null,null,null,null,null,null,null,null,null,null,null,null,null,null,null,null,null,null,null,0,0]
[{"$f":"Score!A74","v":12},{"$f":"Score!B74","v":" 563040618-5"},{"$f":"Score!C74","v":" นายเสาเอก น้อยปรีชา"},{"$f":"Score!D74","v":" EN-ME (พิเศษ ม.6)"},{"$f":"Score!E74","v":2.2400000000000002},{"$f":"Score!F74","v":"4"},null,null,null,null,null,null,null,null,null,null,null,null,null,null,null,null,null,null,null,null,null,null,null,null,null,null,null,null,null,null,null,null,0,0]
[{"$f":"Score!A73","v":11},{"$f":"Score!B73","v":" 563040614-3"},{"$f":"Score!C73","v":" นายศิวัช เฮงพูลธนา"},{"$f":"Score!D73","v":" EN-ME (พิเศษ ม.6)"},{"$f":"Score!E73","v":2.21},{"$f":"Score!F73","v":"4"},null,null,null,null,null,null,null,null,null,null,null,null,null,null,null,null,null,null,null,null,null,null,null,null,null,null,null,null,null,null,null,null,0,0]
[{"$f":"Score!A72","v":10},{"$f":"Score!B72","v":" 563040610-1"},{"$f":"Score!C72","v":" นายลักษมณ์ เฮงพูลธนา"},{"$f":"Score!D72","v":" EN-ME (พิเศษ ม.6)"},{"$f":"Score!E72","v":1.51},{"$f":"Score!F72","v":"4"},null,null,null,null,null,null,null,null,null,null,null,null,null,null,null,null,null,null,null,null,null,null,null,null,null,null,null,null,null,null,null,null,0,0]
[{"$f":"Score!A71","v":9},{"$f":"Score!B71","v":" 563040609-6"},{"$f":"Score!C71","v":" นายรัฐศาสตร์ จันใหญ่"},{"$f":"Score!D71","v":" EN-ME (พิเศษ ม.6)"},{"$f":"Score!E71","v":2.4700000000000002},{"$f":"Score!F71","v":"4"},null,null,null,null,null,null,null,null,null,null,null,null,null,null,null,null,null,null,null,null,null,null,null,null,null,null,null,null,null,null,null,null,0,0]
[{"$f":"Score!A70","v":8},{"$f":"Score!B70","v":" 563040608-8"},{"$f":"Score!C70","v":" นางสาวมณฑกานต์ มูลสาร"},{"$f":"Score!D70","v":" EN-ME (พิเศษ ม.6)"},{"$f":"Score!E70","v":1.99},{"$f":"Score!F70","v":"4"},null,null,null,null,null,null,null,null,null,null,null,null,null,null,null,null,null,null,null,null,null,null,null,null,null,null,null,null,null,null,null,null,0,0]
[{"$f":"Score!A69","v":7},{"$f":"Score!B69","v":" 563040604-6"},{"$f":"Score!C69","v":" นายพิฆเนศ ระเบียบโอษฐ์"},{"$f":"Score!D69","v":" EN-ME (พิเศษ ม.6)"},{"$f":"Score!E69","v":1.73},{"$f":"Score!F69","v":"4"},null,null,null,null,null,null,null,null,null,null,null,null,null,null,null,null,null,null,null,null,null,null,null,null,null,null,null,null,null,null,null,null,0,0]
[{"$f":"Score!A68","v":6},{"$f":"Score!B68","v":" 563040602-0"},{"$f":"Score!C68","v":" นางสาวปฏิมาภรณ์ ทักขินัย"},{"$f":"Score!D68","v":" EN-ME (พิเศษ ม.6)"},{"$f":"Score!E68","v":2.42},{"$f":"Score!F68","v":"4"},null,null,null,null,null,null,null,null,null,null,null,null,null,null,null,null,null,null,null,null,null,null,null,null,null,null,null,null,null,null,null,null,0,0]
[{"$f":"Score!A67","v":5},{"$f":"Score!B67","v":" 563040598-5"},{"$f":"Score!C67","v":" นายธนะโชติ สาโม้"},{"$f":"Score!D67","v":" EN-ME (พิเศษ ม.6)"},{"$f":"Score!E67","v":2.12},{"$f":"Score!F67","v":"4"},null,null,null,null,null,null,null,null,null,null,null,null,null,null,null,null,null,null,null,null,null,null,null,null,null,null,null,null,null,null,null,null,0,0]
[{"$f":"Score!A66","v":4},{"$f":"Score!B66","v":" 563040596-9"},{"$f":"Score!C66","v":" นายทรงศิลป์ ศิริแก้ว"},{"$f":"Score!D66","v":" EN-ME (พิเศษ ม.6)"},{"$f":"Score!E66","v":1.9},{"$f":"Score!F66","v":"4"},null,null,null,null,null,null,null,null,null,null,null,null,null,null,null,null,null,null,null,null,null,null,null,null,null,null,null,null,null,null,null,null,0,0]
[{"$f":"Score!A65","v":3},{"$f":"Score!B65","v":" 563040595-1"},{"$f":"Score!C65","v":" นายทรงภพ กระสังข์"},{"$f":"Score!D65","v":" EN-ME (พิเศษ ม.6)"},{"$f":"Score!E65","v":2.52},{"$f":"Score!F65","v":"4"},null,null,null,null,null,null,null,null,null,null,null,null,null,null,null,null,null,null,null,null,null,null,null,null,null,null,null,null,null,null,null,null,0,0]
[{"$f":"Score!A64","v":2},{"$f":"Score!B64","v":" 563040586-2"},{"$f":"Score!C64","v":" นายจักรกฤษณ์ ตันเจริญ"},{"$f":"Score!D64","v":" EN-ME (พิเศษ ม.6)"},{"$f":"Score!E64","v":1.8},{"$f":"Score!F64","v":"4"},null,null,null,null,null,null,null,null,null,null,null,null,null,null,null,null,null,null,null,null,null,null,null,null,null,null,null,null,null,null,null,null,0,0]
[{"$f":"Score!A63","v":1},{"$f":"Score!B63","v":" 563040584-6"},{"$f":"Score!C63","v":" นายกรนันท์ พันธะสา"},{"$f":"Score!D63","v":" EN-ME (พิเศษ ม.6)"},{"$f":"Score!E63","v":2.64},{"$f":"Score!F63","v":"4"},null,null,null,null,null,null,null,null,null,null,null,null,null,null,null,null,null,null,null,null,null,null,null,null,null,null,null,null,null,null,null,null,0,0]
[{"$f":"Score!A62","v":0},{"$f":"Score!B62","v":0},{"$f":"Score!C62","v":0},{"$f":"Score!D62","v":0},{"$f":"Score!E62","v":0},{"$f":"Score!F62","v":0},null,null,null,null,null,null,null,null,null,null,null,null,null,null,null,null,null,null,null,null,null,null,null,null,null,null,null,null,null,null,null,null,0,0]
[{"$f":"Score!A61","v":58},{"$f":"Score!B61","v":" 563040433-7"},{"$f":"Score!C61","v":" นางสาวศุภลักษณ์ เครือเพชร"},{"$f":"Score!D61","v":" EN-AE"},{"$f":"Score!E61","v":2.64},{"$f":"Score!F61","v":1},null,null,null,null,null,null,null,null,null,null,null,null,null,null,null,null,null,null,null,null,null,null,null,null,null,null,null,null,null,null,null,null,0,0]
[{"$f":"Score!A60","v":57},{"$f":"Score!B60","v":" 563040431-1"},{"$f":"Score!C60","v":" นายวนัส ภูยาธร"},{"$f":"Score!D60","v":" EN-AE"},{"$f":"Score!E60","v":2.23},{"$f":"Score!F60","v":1},null,null,null,null,null,null,null,null,null,null,null,null,null,null,null,null,null,null,null,null,null,null,null,null,null,null,null,null,null,null,null,null,0,0]
[{"$f":"Score!A59","v":56},{"$f":"Score!B59","v":" 563040426-4"},{"$f":"Score!C59","v":" นางสาวเพชรากร ยอดสุวรรณ์"},{"$f":"Score!D59","v":" EN-AE"},{"$f":"Score!E59","v":2.89},{"$f":"Score!F59","v":1},null,null,null,null,null,null,null,null,null,null,null,null,null,null,null,null,null,null,null,null,null,null,null,null,null,null,null,null,null,null,null,null,0,0]
[{"$f":"Score!A58","v":55},{"$f":"Score!B58","v":" 563040424-8"},{"$f":"Score!C58","v":" นายนิติศักดิ์ แต่งเมือง"},{"$f":"Score!D58","v":" EN-AE"},{"$f":"Score!E58","v":2.2599999999999998},{"$f":"Score!F58","v":1},null,null,null,null,null,null,null,null,null,null,null,null,null,null,null,null,null,null,null,null,null,null,null,null,null,null,null,null,null,null,null,null,0,0]
[{"$f":"Score!A57","v":54},{"$f":"Score!B57","v":" 563040419-1"},{"$f":"Score!C57","v":" นายชาญชัย มีสนาม"},{"$f":"Score!D57","v":" EN-AE"},{"$f":"Score!E57","v":2.88},{"$f":"Score!F57","v":1},null,null,null,null,null,null,null,null,null,null,null,null,null,null,null,null,null,null,null,null,null,null,null,null,null,null,null,null,null,null,null,null,0,0]
[{"$f":"Score!A56","v":53},{"$f":"Score!B56","v":" 563040408-6"},{"$f":"Score!C56","v":" นายอรรถศาสตร์ สุระคาย"},{"$f":"Score!D56","v":" EN-ME"},{"$f":"Score!E56","v":2.57},{"$f":"Score!F56","v":1},null,null,null,null,null,null,null,null,null,null,null,null,null,null,null,null,null,null,null,null,null,null,null,null,null,null,null,null,null,null,null,null,0,0]
[{"$f":"Score!A55","v":52},{"$f":"Score!B55","v":" 563040400-2"},{"$f":"Score!C55","v":" นายอดิศร โพธิ์ยา"},{"$f":"Score!D55","v":" EN-IE"},{"$f":"Score!E55","v":2.37},{"$f":"Score!F55","v":1},null,null,null,null,null,null,null,null,null,null,null,null,null,null,null,null,null,null,null,null,null,null,null,null,null,null,null,null,null,null,null,null,0,0]
[{"$f":"Score!A54","v":51},{"$f":"Score!B54","v":" 563040398-3"},{"$f":"Score!C54","v":" นางสาวเหมือนฝัน เผือกไร่"},{"$f":"Score!D54","v":" EN-ME"},{"$f":"Score!E54","v":2.75},{"$f":"Score!F54","v":1},null,null,null,null,null,null,null,null,null,null,null,null,null,null,null,null,null,null,null,null,null,null,null,null,null,null,null,null,null,null,null,null,0,0]
[{"$f":"Score!A53","v":50},{"$f":"Score!B53","v":" 563040397-5"},{"$f":"Score!C53","v":" นางสาวเหมือนฝัน จินดามณี"},{"$f":"Score!D53","v":" EN-IE"},{"$f":"Score!E53","v":1.72},{"$f":"Score!F53","v":1},null,null,null,null,null,null,null,null,null,null,null,null,null,null,null,null,null,null,null,null,null,null,null,null,null,null,null,null,null,null,null,null,0,0]
[{"$f":"Score!A52","v":49},{"$f":"Score!B52","v":" 563040396-7"},{"$f":"Score!C52","v":" นางสาวสุวนันท์ ดวงพิมาย"},{"$f":"Score!D52","v":" EN-IE"},{"$f":"Score!E52","v":2.19},{"$f":"Score!F52","v":1},null,null,null,null,null,null,null,null,null,null,null,null,null,null,null,null,null,null,null,null,null,null,null,null,null,null,null,null,null,null,null,null,0,0]
[{"$f":"Score!A51","v":48},{"$f":"Score!B51","v":" 563040394-1"},{"$f":"Score!C51","v":" นางสาวสุภาวิตา ทาเวียง"},{"$f":"Score!D51","v":" EN-IE"},{"$f":"Score!E51","v":2.37},{"$f":"Score!F51","v":1},null,null,null,null,null,null,null,null,null,null,null,null,null,null,null,null,null,null,null,null,null,null,null,null,null,null,null,null,null,null,null,null,0,0]
[{"$f":"Score!A50","v":47},{"$f":"Score!B50","v":" 563040393-3"},{"$f":"Score!C50","v":" นายสุภานุเดช ถาวิกุล"},{"$f":"Score!D50","v":" EN-IE"},{"$f":"Score!E50","v":1.58},{"$f":"Score!F50","v":1},null,null,null,null,null,null,null,null,null,null,null,null,null,null,null,null,null,null,null,null,null,null,null,null,null,null,null,null,null,null,null,null,0,0]
[{"$f":"Score!A49","v":46},{"$f":"Score!B49","v":" 563040389-4"},{"$f":"Score!C49","v":" นางสาวสุธีรา นาหัวนิล"},{"$f":"Score!D49","v":" EN-IE"},{"$f":"Score!E49","v":2.2999999999999998},{"$f":"Score!F49","v":1},null,null,null,null,null,null,null,null,null,null,null,null,null,null,null,null,null,null,null,null,null,null,null,null,null,null,null,null,null,null,null,null,0,0]
[{"$f":"Score!A48","v":45},{"$f":"Score!B48","v":" 563040367-4"},{"$f":"Score!C48","v":" นายไวพจน์ แสงกุดเรือ"},{"$f":"Score!D48","v":" EN-ME"},{"$f":"Score!E48","v":2.78},{"$f":"Score!F48","v":1},null,null,null,null,null,null,null,null,null,null,null,null,null,null,null,null,null,null,null,null,null,null,null,null,null,null,null,null,null,null,null,null,0,0]
[{"$f":"Score!A47","v":44},{"$f":"Score!B47","v":" 563040359-3"},{"$f":"Score!C47","v":" นายวริษฐ์ จวงพุ่ม"},{"$f":"Score!D47","v":" EN-IE"},{"$f":"Score!E47","v":2.34},{"$f":"Score!F47","v":1},null,null,null,null,null,null,null,null,null,null,null,null,null,null,null,null,null,null,null,null,null,null,null,null,null,null,null,null,null,null,null,null,0,0]
[{"$f":"Score!A46","v":43},{"$f":"Score!B46","v":" 563040351-9"},{"$f":"Score!C46","v":" นางสาวมุกดารัศมิ์ อาจบรรจง"},{"$f":"Score!D46","v":" EN-ME"},{"$f":"Score!E46","v":2.96},{"$f":"Score!F46","v":1},null,null,null,null,null,null,null,null,null,null,null,null,null,null,null,null,null,null,null,null,null,null,null,null,null,null,null,null,null,null,null,null,0,{"$f":"+$AN$2-AM68","v":0}]
[{"$f":"Score!A45","v":42},{"$f":"Score!B45","v":" 563040346-2"},{"$f":"Score!C45","v":" นายภระรถ ผาสิงห์"},{"$f":"Score!D45","v":" EN-ME"},{"$f":"Score!E45","v":3.13},{"$f":"Score!F45","v":1},null,null,null,null,null,null,null,null,null,null,null,null,null,null,null,null,null,null,null,null,null,null,null,null,null,null,null,null,null,null,null,null,{"$f":"SUM(G69:AL69)","v":0},0]
[{"$f":"Score!A44","v":41},{"$f":"Score!B44","v":" 563040344-6"},{"$f":"Score!C44","v":" นายไพโรจน์ วงษ์จำปา"},{"$f":"Score!D44","v":" EN-ME"},{"$f":"Score!E44","v":2.61},{"$f":"Score!F44","v":1},null,null,null,null,null,null,null,null,null,null,null,null,null,null,null,null,null,null,null,null,null,null,null,null,null,null,null,null,null,null,null,null,0,0]
[{"$f":"Score!A43","v":40},{"$f":"Score!B43","v":" 563040341-2"},{"$f":"Score!C43","v":" นายพิทวัส เบ้าศรี"},{"$f":"Score!D43","v":" EN-ME"},{"$f":"Score!E43","v":2.68},{"$f":"Score!F43","v":1},null,null,null,null,null,null,null,null,null,null,null,null,null,null,null,null,null,null,null,null,null,null,null,null,null,null,null,null,null,null,null,null,0,0]
[{"$f":"Score!A42","v":39},{"$f":"Score!B42","v":" 563040334-9"},{"$f":"Score!C42","v":" นายพชร ไชยสมบูรณ์"},{"$f":"Score!D42","v":" EN-IE"},{"$f":"Score!E42","v":2.3199999999999998},{"$f":"Score!F42","v":1},null,null,null,null,null,null,null,null,null,null,null,null,null,null,null,null,null,null,null,null,null,null,null,null,null,null,null,null,null,null,null,null,0,0]
[{"$f":"Score!A41","v":38},{"$f":"Score!B41","v":" 563040315-3"},{"$f":"Score!C41","v":" นางสาวธิดาวรรณ ใจตรง"},{"$f":"Score!D41","v":" EN-IE"},{"$f":"Score!E41","v":2.48},{"$f":"Score!F41","v":1},null,null,null,null,null,null,null,null,null,null,null,null,null,null,null,null,null,null,null,null,null,null,null,null,null,null,null,null,null,null,null,null,0,0]
[{"$f":"Score!A40","v":37},{"$f":"Score!B40","v":" 563040313-7"},{"$f":"Score!C40","v":" นายธาดา วิริยบัณฑร"},{"$f":"Score!D40","v":" EN-ME"},{"$f":"Score!E40","v":3.49},{"$f":"Score!F40","v":1},null,null,null,null,null,null,null,null,null,null,null,null,null,null,null,null,null,null,null,null,null,null,null,null,null,null,null,null,null,null,null,null,0,0]
[{"$f":"Score!A39","v":36},{"$f":"Score!B39","v":" 563040304-8"},{"$f":"Score!C39","v":" นายธนพนธ์ ตั้งวัฒนสุวรรณ"},{"$f":"Score!D39","v":" EN-IE"},{"$f":"Score!E39","v":2.44},{"$f":"Score!F39","v":1},null,null,null,null,null,null,null,null,null,null,null,null,null,null,null,null,null,null,null,null,null,null,null,null,null,null,null,null,null,null,null,null,0,0]
[{"$f":"Score!A38","v":35},{"$f":"Score!B38","v":" 563040296-1"},{"$f":"Score!C38","v":" นางสาวณัฐชยา ทัศนจินดา"},{"$f":"Score!D38","v":" EN-IE"},{"$f":"Score!E38","v":2.75},{"$f":"Score!F38","v":1},null,null,null,null,null,null,null,null,null,null,null,null,null,null,null,null,null,null,null,null,null,null,null,null,null,null,null,null,null,null,null,null,0,0]
[{"$f":"Score!A37","v":34},{"$f":"Score!B37","v":" 563040292-9"},{"$f":"Score!C37","v":" นางสาวฐิติพร ฐานหมั่น"},{"$f":"Score!D37","v":" EN-IE"},{"$f":"Score!E37","v":2.12},{"$f":"Score!F37","v":1},null,null,null,null,null,null,null,null,null,null,null,null,null,null,null,null,null,null,null,null,null,null,null,null,null,null,null,null,null,null,null,null,0,0]
[{"$f":"Score!A36","v":33},{"$f":"Score!B36","v":" 563040289-8"},{"$f":"Score!C36","v":" นางสาวโชติณัฐ จงใจหาญ"},{"$f":"Score!D36","v":" EN-IE"},{"$f":"Score!E36","v":3},{"$f":"Score!F36","v":1},null,null,null,null,null,null,null,null,null,null,null,null,null,null,null,null,null,null,null,null,null,null,null,null,null,null,null,null,null,null,null,null,0,0]
[{"$f":"Score!A35","v":32},{"$f":"Score!B35","v":" 563040275-9"},{"$f":"Score!C35","v":" นางสาวคุณัญญา ทวีสอน"},{"$f":"Score!D35","v":" EN-ME"},{"$f":"Score!E35","v":2.69},{"$f":"Score!F35","v":1},null,null,null,null,null,null,null,null,null,null,null,null,null,null,null,null,null,null,null,null,null,null,null,null,null,null,null,null,null,null,null,null,0,0]
[{"$f":"Score!A34","v":31},{"$f":"Score!B34","v":" 563040272-5"},{"$f":"Score!C34","v":" นายกีรติ มังษา"},{"$f":"Score!D34","v":" EN-ME"},{"$f":"Score!E34","v":2.87},{"$f":"Score!F34","v":1},null,null,null,null,null,null,null,null,null,null,null,null,null,null,null,null,null,null,null,null,null,null,null,null,null,null,null,null,null,null,null,null,0,0]
[{"$f":"Score!A33","v":30},{"$f":"Score!B33","v":" 563040269-4"},{"$f":"Score!C33","v":" นายกนกพล แก้วเฮียง"},{"$f":"Score!D33","v":" EN-ME"},{"$f":"Score!E33","v":3.06},{"$f":"Score!F33","v":1},null,null,null,null,null,null,null,null,null,null,null,null,null,null,null,null,null,null,null,null,null,null,null,null,null,null,null,null,null,null,null,null,0,0]
[{"$f":"Score!A32","v":29},{"$f":"Score!B32","v":" 563040260-2"},{"$f":"Score!C32","v":" นางสาวณัฐณิชา ศิริเหล่าไพศาล"},{"$f":"Score!D32","v":" EN-IE"},{"$f":"Score!E32","v":3.17},{"$f":"Score!F32","v":1},null,null,null,null,null,null,null,null,null,null,null,null,null,null,null,null,null,null,null,null,null,null,null,null,null,null,null,null,null,null,null,null,0,0]
[{"$f":"Score!A31","v":28},{"$f":"Score!B31","v":" 563040231-9"},{"$f":"Score!C31","v":" นายอธิการ สุริโย"},{"$f":"Score!D31","v":" EN-IE"},{"$f":"Score!E31","v":1.71},{"$f":"Score!F31","v":1},null,null,null,null,null,null,null,null,null,null,null,null,null,null,null,null,null,null,null,null,null,null,null,null,null,null,null,null,null,null,null,null,0,0]
[{"$f":"Score!A30","v":27},{"$f":"Score!B30","v":" 563040139-7"},{"$f":"Score!C30","v":" นายสุธรรม ดิษาภิรมย์"},{"$f":"Score!D30","v":" EN-AE"},{"$f":"Score!E30","v":1.78},{"$f":"Score!F30","v":1},null,null,null,null,null,null,null,null,null,null,null,null,null,null,null,null,null,null,null,null,null,null,null,null,null,null,null,null,null,null,null,null,0,0]
[{"$f":"Score!A29","v":26},{"$f":"Score!B29","v":" 563040137-1"},{"$f":"Score!C29","v":" นายศุภณัฐ ลัภกิตโร"},{"$f":"Score!D29","v":" EN-AE"},{"$f":"Score!E29","v":2.58},{"$f":"Score!F29","v":1},null,null,null,null,null,null,null,null,null,null,null,null,null,null,null,null,null,null,null,null,null,null,null,null,null,null,null,null,null,null,null,null,0,0]
[{"$f":"Score!A28","v":25},{"$f":"Score!B28","v":" 563040130-5"},{"$f":"Score!C28","v":" นายพีส คูณดี"},{"$f":"Score!D28","v":" EN-AE"},{"$f":"Score!E28","v":2.29},{"$f":"Score!F28","v":1},null,null,null,null,null,null,null,null,null,null,null,null,null,null,null,null,null,null,null,null,null,null,null,null,null,null,null,null,null,null,null,null,0,0]
[{"$f":"Score!A27","v":24},{"$f":"Score!B27","v":" 563040129-0"},{"$f":"Score!C27","v":" นายพีรเมธ จุฑานันท์"},{"$f":"Score!D27","v":" EN-AE"},{"$f":"Score!E27","v":1.89},{"$f":"Score!F27","v":1},null,null,null,null,null,null,null,null,null,null,null,null,null,null,null,null,null,null,null,null,null,null,null,null,null,null,null,null,null,null,null,null,0,0]
[{"$f":"Score!A26","v":23},{"$f":"Score!B26","v":" 563040123-2"},{"$f":"Score!C26","v":" นายธนวร สันธนะสุรางค์"},{"$f":"Score!D26","v":" EN-AE"},{"$f":"Score!E26","v":2.35},{"$f":"Score!F26","v":1},null,null,null,null,null,null,null,null,null,null,null,null,null,null,null,null,null,null,null,null,null,null,null,null,null,null,null,null,null,null,null,null,0,0]
[{"$f":"Score!A25","v":22},{"$f":"Score!B25","v":" 563040121-6"},{"$f":"Score!C25","v":" นายธนพล หลาบศิริ"},{"$f":"Score!D25","v":" EN-AE"},{"$f":"Score!E25","v":2.77},{"$f":"Score!F25","v":1},null,null,null,null,null,null,null,null,null,null,null,null,null,null,null,null,null,null,null,null,null,null,null,null,null,null,null,null,null,null,null,null,0,0]
[{"$f":"Score!A24","v":21},{"$f":"Score!B24","v":" 563040116-9"},{"$f":"Score!C24","v":" นายโชคชัย ซุยอุ้ย"},{"$f":"Score!D24","v":" EN-AE"},{"$f":"Score!E24","v":3.03},{"$f":"Score!F24","v":1},null,null,null,null,null,null,null,null,null,null,null,null,null,null,null,null,null,null,null,null,null,null,null,null,null,null,null,null,null,null,null,null,0,0]
[{"$f":"Score!A23","v":20},{"$f":"Score!B23","v":" 563040115-1"},{"$f":"Score!C23","v":" นายจุลดิศ ทองตัน"},{"$f":"Score!D23","v":" EN-AE"},{"$f":"Score!E23","v":1.82},{"$f":"Score!F23","v":1},null,null,null,null,null,null,null,null,null,null,null,null,null,null,null,null,null,null,null,null,null,null,null,null,null,null,null,null,null,null,null,null,0,0]
[{"$f":"Score!A22","v":19},{"$f":"Score!B22","v":" 563040114-3"},{"$f":"Score!C22","v":" นายคฑาวุธ ศรีโสดาพล"},{"$f":"Score!D22","v":" EN-AE"},{"$f":"Score!E22","v":1.51},{"$f":"Score!F22","v":1},null,null,null,null,null,null,null,null,null,null,null,null,null,null,null,null,null,null,null,null,null,null,null,null,null,null,null,null,null,null,null,null,0,0]
[{"$f":"Score!A21","v":18},{"$f":"Score!B21","v":" 563040098-5"},{"$f":"Score!C21","v":" นายสิทธิโชค ชูพงศ์พันธุ์"},{"$f":"Score!D21","v":" EN-ME"},{"$f":"Score!E21","v":2.94},{"$f":"Score!F21","v":1},null,null,null,null,null,null,null,null,null,null,null,null,null,null,null,null,null,null,null,null,null,null,null,null,null,null,null,null,null,null,null,null,0,0]
[{"$f":"Score!A20","v":17},{"$f":"Score!B20","v":" 563040089-6"},{"$f":"Score!C20","v":" นายศวัสชัย วิวรรธนจิตต์"},{"$f":"Score!D20","v":" EN-IE"},{"$f":"Score!E20","v":2.79},{"$f":"Score!F20","v":1},null,null,null,null,null,null,null,null,null,null,null,null,null,null,null,null,null,null,null,null,null,null,null,null,null,null,null,null,null,null,null,null,{"$f":"SUM(G94:AL94)","v":0},{"$f":"+$AN$2-AM94","v":0}]
[{"$f":"Score!A19","v":16},{"$f":"Score!B19","v":" 563040076-5"},{"$f":"Score!C19","v":" นายรัฐศาสตร์ พลยงค์"},{"$f":"Score!D19","v":" EN-ME"},{"$f":"Score!E19","v":2.88},{"$f":"Score!F19","v":1},null,null,null,null,null,null,null,null,null,null,null,null,null,null,null,null,null,null,null,null,null,null,null,null,null,null,null,null,null,null,null,null,0,0]
[{"$f":"Score!A18","v":15},{"$f":"Score!B18","v":" 563040071-5"},{"$f":"Score!C18","v":" นายมานะ ติรโรจน์"},{"$f":"Score!D18","v":" EN-ME"},{"$f":"Score!E18","v":3.46},{"$f":"Score!F18","v":1},null,null,null,null,null,null,null,null,null,null,null,null,null,null,null,null,null,null,null,null,null,null,null,null,null,null,null,null,null,null,null,null,0,0]
[{"$f":"Score!A17","v":14},{"$f":"Score!B17","v":" 563040070-7"},{"$f":"Score!C17","v":" นายมหคพันธุ์ เอมกลาง"},{"$f":"Score!D17","v":" EN-ME"},{"$f":"Score!E17","v":2.71},{"$f":"Score!F17","v":1},null,null,null,null,null,null,null,null,null,null,null,null,null,null,null,null,null,null,null,null,null,null,null,null,null,null,null,null,null,null,null,null,0,0]
[{"$f":"Score!A16","v":13},{"$f":"Score!B16","v":" 563040065-0"},{"$f":"Score!C16","v":" นายภาคิน จำปาศักดิ์"},{"$f":"Score!D16","v":" EN-ME"},{"$f":"Score!E16","v":3.51},{"$f":"Score!F16","v":1},null,null,null,null,null,null,null,null,null,null,null,null,null,null,null,null,null,null,null,null,null,null,null,null,null,null,null,null,null,null,null,null,0,0]
[{"$f":"Score!A15","v":12},{"$f":"Score!B15","v":" 563040064-2"},{"$f":"Score!C15","v":" นางสาวภัทรามาศ ฉวีชัย"},{"$f":"Score!D15","v":" EN-IE"},{"$f":"Score!E15","v":3.12},{"$f":"Score!F15","v":1},null,null,null,null,null,null,null,null,null,null,null,null,null,null,null,null,null,null,null,null,null,null,null,null,null,null,null,null,null,null,null,null,0,0]
[{"$f":"Score!A14","v":11},{"$f":"Score!B14","v":" 563040059-5"},{"$f":"Score!C14","v":" นายพสธร นามสร"},{"$f":"Score!D14","v":" EN-ME"},{"$f":"Score!E14","v":3.09},{"$f":"Score!F14","v":1},null,null,null,null,null,null,null,null,null,null,null,null,null,null,null,null,null,null,null,null,null,null,null,null,null,null,null,null,null,null,null,null,0,0]
[{"$f":"Score!A13","v":10},{"$f":"Score!B13","v":" 563040051-1"},{"$f":"Score!C13","v":" นายพงศ์ทัช พรวิกุลรัตนา"},{"$f":"Score!D13","v":" EN-ME"},{"$f":"Score!E13","v":2.63},{"$f":"Score!F13","v":1},null,null,null,null,null,null,null,null,null,null,null,null,null,null,null,null,null,null,null,null,null,null,null,null,null,null,null,null,null,null,null,null,0,0]
[{"$f":"Score!A12","v":9},{"$f":"Score!B12","v":" 563040044-8"},{"$f":"Score!C12","v":" นางสาวนิภาพร อายุวัฒน์"},{"$f":"Score!D12","v":" EN-ME"},{"$f":"Score!E12","v":2.92},{"$f":"Score!F12","v":1},null,null,null,null,null,null,null,null,null,null,null,null,null,null,null,null,null,null,null,null,null,null,null,null,null,null,null,null,null,null,null,null,0,0]
[{"$f":"Score!A11","v":8},{"$f":"Score!B11","v":" 563040043-0"},{"$f":"Score!C11","v":" นางสาวนันทิชา จริยาโสวรรณ"},{"$f":"Score!D11","v":" EN-IE"},{"$f":"Score!E11","v":2.04},{"$f":"Score!F11","v":1},null,null,null,null,null,null,null,null,null,null,null,null,null,null,null,null,null,null,null,null,null,null,null,null,null,null,null,null,null,null,null,null,0,0]
[{"$f":"Score!A10","v":7},{"$f":"Score!B10","v":" 563040032-5"},{"$f":"Score!C10","v":" นางสาวธนัชชา ใหญ่สูงเนิน"},{"$f":"Score!D10","v":" EN-IE"},{"$f":"Score!E10","v":2.76},{"$f":"Score!F10","v":1},null,null,null,null,null,null,null,null,null,null,null,null,null,null,null,null,null,null,null,null,null,null,null,null,null,null,null,null,null,null,null,null,0,0]
[{"$f":"Score!A9","v":6},{"$f":"Score!B9","v":" 563040025-2"},{"$f":"Score!C9","v":" นายทรงพล เกียรติพนมแพ"},{"$f":"Score!D9","v":" EN-IE"},{"$f":"Score!E9","v":3.04},{"$f":"Score!F9","v":1},null,null,null,null,null,null,null,null,null,null,null,null,null,null,null,null,null,null,null,null,null,null,null,null,null,null,null,null,null,null,null,null,0,0]
[{"$f":"Score!A8","v":5},{"$f":"Score!B8","v":" 563040022-8"},{"$f":"Score!C8","v":" นายณัฐพล สิทธิอมรพร"},{"$f":"Score!D8","v":" EN-ME"},{"$f":"Score!E8","v":3.41},{"$f":"Score!F8","v":1},null,null,null,null,null,null,null,null,null,null,null,null,null,null,null,null,null,null,null,null,null,null,null,null,null,null,null,null,null,null,null,null,0,0]
[{"$f":"Score!A7","v":4},{"$f":"Score!B7","v":" 563040003-2"},{"$f":"Score!C7","v":" นายกฤช ถาไชยลา"},{"$f":"Score!D7","v":" EN-ME"},{"$f":"Score!E7","v":2.84},{"$f":"Score!F7","v":1},null,null,null,null,null,null,null,null,null,null,null,null,null,null,null,null,null,null,null,null,null,null,null,null,null,null,null,null,null,null,null,null,0,0]
[{"$f":"Score!A6","v":3},{"$f":"Score!B6","v":" 563040002-4"},{"$f":"Score!C6","v":" นายกรวิชญ์ ศรีวัฒนาปิติกุล"},{"$f":"Score!D6","v":" EN-ME"},{"$f":"Score!E6","v":3.14},{"$f":"Score!F6","v":1},null,null,null,null,null,null,null,null,null,null,null,null,null,null,null,null,null,null,null,null,null,null,null,null,null,null,null,null,null,null,null,null,0,0]
[{"$f":"Score!A5","v":2},{"$f":"Score!B5","v":" 553040404-3"},{"$f":"Score!C5","v":" นายวนัสมัญ กฤษณะสุวรรณ"},{"$f":"Score!D5","v":" EN-IE"},{"$f":"Score!E5","v":1.89},{"$f":"Score!F5","v":1},null,null,null,null,null,null,null,null,null,null,null,null,null,null,null,null,null,null,null,null,null,null,null,null,null,null,null,null,null,null,null,null,0,0]
[{"$f":"Score!A4","v":1},{"$f":"Score!B4","v":" 543040669-6"},{"$f":"Score!C4","v":" นายเกียรติขจร ทัดทาอามาตย์"},{"$f":"Score!D4","v":" EN-AE"},{"$f":"Score!E4","v":2},{"$f":"Score!F4","v":1},null,null,null,null,null,null,null,null,null,null,null,null,null,null,null,null,null,null,null,null,null,null,null,null,null,null,null,null,null,null,null,null,{"$f":"SUM(G110:AL110)","v":0},{"$f":"+$AN$2-AM110","v":0}]

{"sheet":"QuizAll","index":6,"n_rows":110,"n_cols":32,"rows_kept":110,"cut":false,"hidden":false,"merged":[]}
[null,"รายวิชา","185231 : THERMODYNAMICS I",null,null,"Section 1",{"$f":"+G2","v":1},{"$f":"+H2","v":1},1,1,1,1,1,1,1,1,1,1,{"$f":"SUM(G1:R1)/1.2","v":10}]
[null,"ปีการศึกษา","2553 ภาคการศึกษาที่ 1",null,null,"รศ.ดร.สมหมาย ปรีเปรม",1,{"$f":"+G2","v":1},{"$f":"+H2","v":1},1,1,1,1,1,1,1,1,1,{"$f":"SUM(G2:R2)/1.2","v":10},null,20,10,100,10,100,100,100,10,10,10,100,10]
["ลำดับ"," รหัส","ชื่อ","หลักสูตร","GPA","Section","Quiz 1","Quiz 2","Quiz 3","Quiz 4","Quiz 5","Quiz 6","Quiz 7","Quiz 8","Quiz 9","Quiz 10","Quiz 11","Quiz 12","Sum",null,"Quiz 1","Quiz 2","Quiz 3","Quiz 4","Quiz 5","Quiz 6","Quiz 7","Quiz 8","Quiz 9","Quiz 10","Quiz 11","Quiz 12"]
[{"$f":"Score!A4","v":1},{"$f":"Score!B4","v":" 543040669-6"},{"$f":"Score!C4","v":" นายเกียรติขจร ทัดทาอามาตย์"},{"$f":"Score!D4","v":" EN-AE"},{"$f":"Score!E4","v":2},{"$f":"Score!F4","v":1},{"$f":"U4/20","v":0},{"$f":"V4/10","v":0},{"$f":"W4/100","v":0},{"$f":"X4/10","v":0},{"$f":"Y4/100","v":0},{"$f":"Z4/100","v":0},{"$f":"AA4/100","v":0},{"$f":"AB4/10","v":0},{"$f":"AC4/10","v":0},{"$f":"AD4/10","v":0},{"$f":"AE4/100","v":0},{"$f":"AF4/10","v":0},{"$f":"SUM(G4:R4)/1.2","v":0}]
[{"$f":"Score!A5","v":2},{"$f":"Score!B5","v":" 553040404-3"},{"$f":"Score!C5","v":" นายวนัสมัญ กฤษณะสุวรรณ"},{"$f":"Score!D5","v":" EN-IE"},{"$f":"Score!E5","v":1.89},{"$f":"Score!F5","v":1},{"$f":"U5/20","v":0},{"$f":"V5/10","v":0},{"$f":"W5/100","v":0},{"$f":"X5/10","v":0},{"$f":"Y5/100","v":0},{"$f":"Z5/100","v":0},{"$f":"AA5/100","v":0},{"$f":"AB5/10","v":0},{"$f":"AC5/10","v":0},{"$f":"AD5/10","v":0},{"$f":"AE5/100","v":0},{"$f":"AF5/10","v":0},{"$f":"SUM(G5:R5)/1.2","v":0}]
[{"$f":"Score!A6","v":3},{"$f":"Score!B6","v":" 563040002-4"},{"$f":"Score!C6","v":" นายกรวิชญ์ ศรีวัฒนาปิติกุล"},{"$f":"Score!D6","v":" EN-ME"},{"$f":"Score!E6","v":3.14},{"$f":"Score!F6","v":1},{"$f":"U6/20","v":0},{"$f":"V6/10","v":0},{"$f":"W6/100","v":0},{"$f":"X6/10","v":0},{"$f":"Y6/100","v":0},0,0,0,0,0,0,0,0]
[{"$f":"Score!A7","v":4},{"$f":"Score!B7","v":" 563040003-2"},{"$f":"Score!C7","v":" นายกฤช ถาไชยลา"},{"$f":"Score!D7","v":" EN-ME"},{"$f":"Score!E7","v":2.84},{"$f":"Score!F7","v":1},0,0,0,0,0,0,0,0,0,0,0,0,0]
[{"$f":"Score!A8","v":5},{"$f":"Score!B8","v":" 563040022-8"},{"$f":"Score!C8","v":" นายณัฐพล สิทธิอมรพร"},{"$f":"Score!D8","v":" EN-ME"},{"$f":"Score!E8","v":3.41},{"$f":"Score!F8","v":1},0,0,0,0,0,0,0,0,0,{"$f":"AD8/10","v":0},{"$f":"AE8/100","v":0},{"$f":"AF8/10","v":0},0]
[{"$f":"Score!A9","v":6},{"$f":"Score!B9","v":" 563040025-2"},{"$f":"Score!C9","v":" นายทรงพล เกียรติพนมแพ"},{"$f":"Score!D9","v":" EN-IE"},{"$f":"Score!E9","v":3.04},{"$f":"Score!F9","v":1},0,0,0,0,0,0,0,0,0,0,0,0,0]
[{"$f":"Score!A10","v":7},{"$f":"Score!B10","v":" 563040032-5"},{"$f":"Score!C10","v":" นางสาวธนัชชา ใหญ่สูงเนิน"},{"$f":"Score!D10","v":" EN-IE"},{"$f":"Score!E10","v":2.76},{"$f":"Score!F10","v":1},0,0,0,0,0,0,0,0,0,0,0,0,0]
[{"$f":"Score!A11","v":8},{"$f":"Score!B11","v":" 563040043-0"},{"$f":"Score!C11","v":" นางสาวนันทิชา จริยาโสวรรณ"},{"$f":"Score!D11","v":" EN-IE"},{"$f":"Score!E11","v":2.04},{"$f":"Score!F11","v":1},0,0,0,0,0,0,0,0,0,0,0,0,0]
[{"$f":"Score!A12","v":9},{"$f":"Score!B12","v":" 563040044-8"},{"$f":"Score!C12","v":" นางสาวนิภาพร อายุวัฒน์"},{"$f":"Score!D12","v":" EN-ME"},{"$f":"Score!E12","v":2.92},{"$f":"Score!F12","v":1},0,0,0,0,0,0,0,0,0,0,0,0,0]
[{"$f":"Score!A13","v":10},{"$f":"Score!B13","v":" 563040051-1"},{"$f":"Score!C13","v":" นายพงศ์ทัช พรวิกุลรัตนา"},{"$f":"Score!D13","v":" EN-ME"},{"$f":"Score!E13","v":2.63},{"$f":"Score!F13","v":1},0,0,0,0,0,0,0,0,0,0,0,0,0]
[{"$f":"Score!A14","v":11},{"$f":"Score!B14","v":" 563040059-5"},{"$f":"Score!C14","v":" นายพสธร นามสร"},{"$f":"Score!D14","v":" EN-ME"},{"$f":"Score!E14","v":3.09},{"$f":"Score!F14","v":1},0,0,0,0,0,0,0,0,0,{"$f":"AD14/10","v":0},{"$f":"AE14/100","v":0},{"$f":"AF14/10","v":0},0]
[{"$f":"Score!A15","v":12},{"$f":"Score!B15","v":" 563040064-2"},{"$f":"Score!C15","v":" นางสาวภัทรามาศ ฉวีชัย"},{"$f":"Score!D15","v":" EN-IE"},{"$f":"Score!E15","v":3.12},{"$f":"Score!F15","v":1},0,0,0,0,0,0,0,0,0,0,0,0,0]
[{"$f":"Score!A16","v":13},{"$f":"Score!B16","v":" 563040065-0"},{"$f":"Score!C16","v":" นายภาคิน จำปาศักดิ์"},{"$f":"Score!D16","v":" EN-ME"},{"$f":"Score!E16","v":3.51},{"$f":"Score!F16","v":1},0,0,0,0,0,0,0,0,0,0,0,0,0]
[{"$f":"Score!A17","v":14},{"$f":"Score!B17","v":" 563040070-7"},{"$f":"Score!C17","v":" นายมหคพันธุ์ เอมกลาง"},{"$f":"Score!D17","v":" EN-ME"},{"$f":"Score!E17","v":2.71},{"$f":"Score!F17","v":1},0,0,0,0,0,0,0,0,0,0,0,0,0]
[{"$f":"Score!A18","v":15},{"$f":"Score!B18","v":" 563040071-5"},{"$f":"Score!C18","v":" นายมานะ ติรโรจน์"},{"$f":"Score!D18","v":" EN-ME"},{"$f":"Score!E18","v":3.46},{"$f":"Score!F18","v":1},0,0,0,0,0,0,0,0,0,0,0,0,0]
[{"$f":"Score!A19","v":16},{"$f":"Score!B19","v":" 563040076-5"},{"$f":"Score!C19","v":" นายรัฐศาสตร์ พลยงค์"},{"$f":"Score!D19","v":" EN-ME"},{"$f":"Score!E19","v":2.88},{"$f":"Score!F19","v":1},0,0,0,0,0,0,0,0,0,0,0,0,0]
[{"$f":"Score!A20","v":17},{"$f":"Score!B20","v":" 563040089-6"},{"$f":"Score!C20","v":" นายศวัสชัย วิวรรธนจิตต์"},{"$f":"Score!D20","v":" EN-IE"},{"$f":"Score!E20","v":2.79},{"$f":"Score!F20","v":1},0,0,0,0,0,0,0,0,0,{"$f":"AD20/10","v":0},{"$f":"AE20/100","v":0},{"$f":"AF20/10","v":0},0]
[{"$f":"Score!A21","v":18},{"$f":"Score!B21","v":" 563040098-5"},{"$f":"Score!C21","v":" นายสิทธิโชค ชูพงศ์พันธุ์"},{"$f":"Score!D21","v":" EN-ME"},{"$f":"Score!E21","v":2.94},{"$f":"Score!F21","v":1},0,0,0,0,0,0,0,0,0,0,0,0,0]
[{"$f":"Score!A22","v":19},{"$f":"Score!B22","v":" 563040114-3"},{"$f":"Score!C22","v":" นายคฑาวุธ ศรีโสดาพล"},{"$f":"Score!D22","v":" EN-AE"},{"$f":"Score!E22","v":1.51},{"$f":"Score!F22","v":1},0,0,0,0,0,0,0,0,0,0,0,0,0]
[{"$f":"Score!A23","v":20},{"$f":"Score!B23","v":" 563040115-1"},{"$f":"Score!C23","v":" นายจุลดิศ ทองตัน"},{"$f":"Score!D23","v":" EN-AE"},{"$f":"Score!E23","v":1.82},{"$f":"Score!F23","v":1},0,0,0,0,0,0,0,0,0,0,0,0,0]
[{"$f":"Score!A24","v":21},{"$f":"Score!B24","v":" 563040116-9"},{"$f":"Score!C24","v":" นายโชคชัย ซุยอุ้ย"},{"$f":"Score!D24","v":" EN-AE"},{"$f":"Score!E24","v":3.03},{"$f":"Score!F24","v":1},0,0,0,0,0,0,0,0,0,0,0,0,0]
[{"$f":"Score!A25","v":22},{"$f":"Score!B25","v":" 563040121-6"},{"$f":"Score!C25","v":" นายธนพล หลาบศิริ"},{"$f":"Score!D25","v":" EN-AE"},{"$f":"Score!E25","v":2.77},{"$f":"Score!F25","v":1},0,0,0,0,0,0,0,0,0,0,0,0,0]
[{"$f":"Score!A26","v":23},{"$f":"Score!B26","v":" 563040123-2"},{"$f":"Score!C26","v":" นายธนวร สันธนะสุรางค์"},{"$f":"Score!D26","v":" EN-AE"},{"$f":"Score!E26","v":2.35},{"$f":"Score!F26","v":1},0,0,0,0,0,0,0,0,0,0,0,0,0]
[{"$f":"Score!A27","v":24},{"$f":"Score!B27","v":" 563040129-0"},{"$f":"Score!C27","v":" นายพีรเมธ จุฑานันท์"},{"$f":"Score!D27","v":" EN-AE"},{"$f":"Score!E27","v":1.89},{"$f":"Score!F27","v":1},0,0,0,0,0,0,0,0,0,0,0,0,0]
[{"$f":"Score!A28","v":25},{"$f":"Score!B28","v":" 563040130-5"},{"$f":"Score!C28","v":" นายพีส คูณดี"},{"$f":"Score!D28","v":" EN-AE"},{"$f":"Score!E28","v":2.29},{"$f":"Score!F28","v":1},0,0,0,0,0,0,0,0,0,0,0,0,0]
[{"$f":"Score!A29","v":26},{"$f":"Score!B29","v":" 563040137-1"},{"$f":"Score!C29","v":" นายศุภณัฐ ลัภกิตโร"},{"$f":"Score!D29","v":" EN-AE"},{"$f":"Score!E29","v":2.58},{"$f":"Score!F29","v":1},0,0,0,0,0,0,0,0,0,0,0,0,0]
[{"$f":"Score!A30","v":27},{"$f":"Score!B30","v":" 563040139-7"},{"$f":"Score!C30","v":" นายสุธรรม ดิษาภิรมย์"},{"$f":"Score!D30","v":" EN-AE"},{"$f":"Score!E30","v":1.78},{"$f":"Score!F30","v":1},0,0,0,0,0,0,0,0,0,0,0,0,0]
[{"$f":"Score!A31","v":28},{"$f":"Score!B31","v":" 563040231-9"},{"$f":"Score!C31","v":" นายอธิการ สุริโย"},{"$f":"Score!D31","v":" EN-IE"},{"$f":"Score!E31","v":1.71},{"$f":"Score!F31","v":1},0,0,0,0,0,0,0,0,0,0,0,0,0]
[{"$f":"Score!A32","v":29},{"$f":"Score!B32","v":" 563040260-2"},{"$f":"Score!C32","v":" นางสาวณัฐณิชา ศิริเหล่าไพศาล"},{"$f":"Score!D32","v":" EN-IE"},{"$f":"Score!E32","v":3.17},{"$f":"Score!F32","v":1},0,0,0,0,0,0,0,0,0,0,0,0,0]
[{"$f":"Score!A33","v":30},{"$f":"Score!B33","v":" 563040269-4"},{"$f":"Score!C33","v":" นายกนกพล แก้วเฮียง"},{"$f":"Score!D33","v":" EN-ME"},{"$f":"Score!E33","v":3.06},{"$f":"Score!F33","v":1},0,0,0,0,0,0,0,0,0,0,0,0,0]
[{"$f":"Score!A34","v":31},{"$f":"Score!B34","v":" 563040272-5"},{"$f":"Score!C34","v":" นายกีรติ มังษา"},{"$f":"Score!D34","v":" EN-ME"},{"$f":"Score!E34","v":2.87},{"$f":"Score!F34","v":1},0,0,0,0,0,0,0,0,0,0,0,0,0]
[{"$f":"Score!A35","v":32},{"$f":"Score!B35","v":" 563040275-9"},{"$f":"Score!C35","v":" นางสาวคุณัญญา ทวีสอน"},{"$f":"Score!D35","v":" EN-ME"},{"$f":"Score!E35","v":2.69},{"$f":"Score!F35","v":1},0,0,0,0,0,0,0,0,0,0,0,0,0]
[{"$f":"Score!A36","v":33},{"$f":"Score!B36","v":" 563040289-8"},{"$f":"Score!C36","v":" นางสาวโชติณัฐ จงใจหาญ"},{"$f":"Score!D36","v":" EN-IE"},{"$f":"Score!E36","v":3},{"$f":"Score!F36","v":1},0,0,0,0,0,0,0,0,0,0,0,0,0]
[{"$f":"Score!A37","v":34},{"$f":"Score!B37","v":" 563040292-9"},{"$f":"Score!C37","v":" นางสาวฐิติพร ฐานหมั่น"},{"$f":"Score!D37","v":" EN-IE"},{"$f":"Score!E37","v":2.12},{"$f":"Score!F37","v":1},0,0,0,0,0,0,0,0,0,0,0,0,0]
[{"$f":"Score!A38","v":35},{"$f":"Score!B38","v":" 563040296-1"},{"$f":"Score!C38","v":" นางสาวณัฐชยา ทัศนจินดา"},{"$f":"Score!D38","v":" EN-IE"},{"$f":"Score!E38","v":2.75},{"$f":"Score!F38","v":1},0,0,0,0,0,0,0,0,0,0,0,0,0]
[{"$f":"Score!A39","v":36},{"$f":"Score!B39","v":" 563040304-8"},{"$f":"Score!C39","v":" นายธนพนธ์ ตั้งวัฒนสุวรรณ"},{"$f":"Score!D39","v":" EN-IE"},{"$f":"Score!E39","v":2.44},{"$f":"Score!F39","v":1},0,0,0,0,0,0,0,0,0,0,0,0,0]
[{"$f":"Score!A40","v":37},{"$f":"Score!B40","v":" 563040313-7"},{"$f":"Score!C40","v":" นายธาดา วิริยบัณฑร"},{"$f":"Score!D40","v":" EN-ME"},{"$f":"Score!E40","v":3.49},{"$f":"Score!F40","v":1},0,0,0,0,0,0,0,0,0,0,0,0,0]
[{"$f":"Score!A41","v":38},{"$f":"Score!B41","v":" 563040315-3"},{"$f":"Score!C41","v":" นางสาวธิดาวรรณ ใจตรง"},{"$f":"Score!D41","v":" EN-IE"},{"$f":"Score!E41","v":2.48},{"$f":"Score!F41","v":1},0,0,0,0,0,0,0,0,0,0,0,0,0]
[{"$f":"Score!A42","v":39},{"$f":"Score!B42","v":" 563040334-9"},{"$f":"Score!C42","v":" นายพชร ไชยสมบูรณ์"},{"$f":"Score!D42","v":" EN-IE"},{"$f":"Score!E42","v":2.3199999999999998},{"$f":"Score!F42","v":1},0,0,0,0,0,0,0,0,0,0,0,0,0]
[{"$f":"Score!A43","v":40},{"$f":"Score!B43","v":" 563040341-2"},{"$f":"Score!C43","v":" นายพิทวัส เบ้าศรี"},{"$f":"Score!D43","v":" EN-ME"},{"$f":"Score!E43","v":2.68},{"$f":"Score!F43","v":1},0,0,0,0,0,0,0,0,0,0,0,0,0]
[{"$f":"Score!A44","v":41},{"$f":"Score!B44","v":" 563040344-6"},{"$f":"Score!C44","v":" นายไพโรจน์ วงษ์จำปา"},{"$f":"Score!D44","v":" EN-ME"},{"$f":"Score!E44","v":2.61},{"$f":"Score!F44","v":1},0,0,0,0,0,0,0,0,0,0,0,0,0]
[{"$f":"Score!A45","v":42},{"$f":"Score!B45","v":" 563040346-2"},{"$f":"Score!C45","v":" นายภระรถ ผาสิงห์"},{"$f":"Score!D45","v":" EN-ME"},{"$f":"Score!E45","v":3.13},{"$f":"Score!F45","v":1},0,0,0,0,0,0,0,0,0,0,0,0,0]
[{"$f":"Score!A46","v":43},{"$f":"Score!B46","v":" 563040351-9"},{"$f":"Score!C46","v":" นางสาวมุกดารัศมิ์ อาจบรรจง"},{"$f":"Score!D46","v":" EN-ME"},{"$f":"Score!E46","v":2.96},{"$f":"Score!F46","v":1},0,0,0,0,0,0,0,0,0,0,0,0,0]
[{"$f":"Score!A47","v":44},{"$f":"Score!B47","v":" 563040359-3"},{"$f":"Score!C47","v":" นายวริษฐ์ จวงพุ่ม"},{"$f":"Score!D47","v":" EN-IE"},{"$f":"Score!E47","v":2.34},{"$f":"Score!F47","v":1},0,0,0,0,0,0,0,0,0,0,0,0,0]
[{"$f":"Score!A48","v":45},{"$f":"Score!B48","v":" 563040367-4"},{"$f":"Score!C48","v":" นายไวพจน์ แสงกุดเรือ"},{"$f":"Score!D48","v":" EN-ME"},{"$f":"Score!E48","v":2.78},{"$f":"Score!F48","v":1},0,0,0,0,0,0,0,0,0,0,0,0,0]
[{"$f":"Score!A49","v":46},{"$f":"Score!B49","v":" 563040389-4"},{"$f":"Score!C49","v":" นางสาวสุธีรา นาหัวนิล"},{"$f":"Score!D49","v":" EN-IE"},{"$f":"Score!E49","v":2.2999999999999998},{"$f":"Score!F49","v":1},0,0,0,0,0,0,0,0,0,0,0,0,0]
[{"$f":"Score!A50","v":47},{"$f":"Score!B50","v":" 563040393-3"},{"$f":"Score!C50","v":" นายสุภานุเดช ถาวิกุล"},{"$f":"Score!D50","v":" EN-IE"},{"$f":"Score!E50","v":1.58},{"$f":"Score!F50","v":1},0,0,0,0,0,0,0,0,0,0,0,0,0]
[{"$f":"Score!A51","v":48},{"$f":"Score!B51","v":" 563040394-1"},{"$f":"Score!C51","v":" นางสาวสุภาวิตา ทาเวียง"},{"$f":"Score!D51","v":" EN-IE"},{"$f":"Score!E51","v":2.37},{"$f":"Score!F51","v":1},0,0,0,0,0,0,0,0,0,0,0,0,0]
[{"$f":"Score!A52","v":49},{"$f":"Score!B52","v":" 563040396-7"},{"$f":"Score!C52","v":" นางสาวสุวนันท์ ดวงพิมาย"},{"$f":"Score!D52","v":" EN-IE"},{"$f":"Score!E52","v":2.19},{"$f":"Score!F52","v":1},0,0,0,0,0,0,0,0,0,0,0,0,0]
[{"$f":"Score!A53","v":50},{"$f":"Score!B53","v":" 563040397-5"},{"$f":"Score!C53","v":" นางสาวเหมือนฝัน จินดามณี"},{"$f":"Score!D53","v":" EN-IE"},{"$f":"Score!E53","v":1.72},{"$f":"Score!F53","v":1},0,0,0,0,0,0,0,0,0,0,0,0,0]
[{"$f":"Score!A54","v":51},{"$f":"Score!B54","v":" 563040398-3"},{"$f":"Score!C54","v":" นางสาวเหมือนฝัน เผือกไร่"},{"$f":"Score!D54","v":" EN-ME"},{"$f":"Score!E54","v":2.75},{"$f":"Score!F54","v":1},0,0,0,0,0,0,0,0,0,0,0,0,0]
[{"$f":"Score!A55","v":52},{"$f":"Score!B55","v":" 563040400-2"},{"$f":"Score!C55","v":" นายอดิศร โพธิ์ยา"},{"$f":"Score!D55","v":" EN-IE"},{"$f":"Score!E55","v":2.37},{"$f":"Score!F55","v":1},0,0,0,0,0,0,0,0,0,0,0,0,0]
[{"$f":"Score!A56","v":53},{"$f":"Score!B56","v":" 563040408-6"},{"$f":"Score!C56","v":" นายอรรถศาสตร์ สุระคาย"},{"$f":"Score!D56","v":" EN-ME"},{"$f":"Score!E56","v":2.57},{"$f":"Score!F56","v":1},0,0,0,0,0,0,0,0,0,0,0,0,0]
[{"$f":"Score!A57","v":54},{"$f":"Score!B57","v":" 563040419-1"},{"$f":"Score!C57","v":" นายชาญชัย มีสนาม"},{"$f":"Score!D57","v":" EN-AE"},{"$f":"Score!E57","v":2.88},{"$f":"Score!F57","v":1},0,0,0,0,0,0,0,0,0,0,0,0,0]
[{"$f":"Score!A58","v":55},{"$f":"Score!B58","v":" 563040424-8"},{"$f":"Score!C58","v":" นายนิติศักดิ์ แต่งเมือง"},{"$f":"Score!D58","v":" EN-AE"},{"$f":"Score!E58","v":2.2599999999999998},{"$f":"Score!F58","v":1},0,0,0,0,0,0,0,0,0,0,0,0,0]
[{"$f":"Score!A59","v":56},{"$f":"Score!B59","v":" 563040426-4"},{"$f":"Score!C59","v":" นางสาวเพชรากร ยอดสุวรรณ์"},{"$f":"Score!D59","v":" EN-AE"},{"$f":"Score!E59","v":2.89},{"$f":"Score!F59","v":1},0,0,0,0,0,0,0,0,0,0,0,0,0]
[{"$f":"Score!A60","v":57},{"$f":"Score!B60","v":" 563040431-1"},{"$f":"Score!C60","v":" นายวนัส ภูยาธร"},{"$f":"Score!D60","v":" EN-AE"},{"$f":"Score!E60","v":2.23},{"$f":"Score!F60","v":1},0,0,0,0,0,0,0,0,0,0,0,0,0]
[{"$f":"Score!A61","v":58},{"$f":"Score!B61","v":" 563040433-7"},{"$f":"Score!C61","v":" นางสาวศุภลักษณ์ เครือเพชร"},{"$f":"Score!D61","v":" EN-AE"},{"$f":"Score!E61","v":2.64},{"$f":"Score!F61","v":1},0,0,0,0,0,0,0,0,0,0,0,0,0]
[{"$f":"Score!A62","v":0},{"$f":"Score!B62","v":0},{"$f":"Score!C62","v":0},{"$f":"Score!D62","v":0},{"$f":"Score!E62","v":0},{"$f":"Score!F62","v":0},0,0,0,0,0,0,0,0,0,0,0,0,0]
[{"$f":"Score!A63","v":1},{"$f":"Score!B63","v":" 563040584-6"},{"$f":"Score!C63","v":" นายกรนันท์ พันธะสา"},{"$f":"Score!D63","v":" EN-ME (พิเศษ ม.6)"},{"$f":"Score!E63","v":2.64},{"$f":"Score!F63","v":"4"},0,0,0,0,0,0,0,0,0,0,0,0,0]
[{"$f":"Score!A64","v":2},{"$f":"Score!B64","v":" 563040586-2"},{"$f":"Score!C64","v":" นายจักรกฤษณ์ ตันเจริญ"},{"$f":"Score!D64","v":" EN-ME (พิเศษ ม.6)"},{"$f":"Score!E64","v":1.8},{"$f":"Score!F64","v":"4"},0,0,0,0,0,0,0,0,0,0,0,0,0]
[{"$f":"Score!A65","v":3},{"$f":"Score!B65","v":" 563040595-1"},{"$f":"Score!C65","v":" นายทรงภพ กระสังข์"},{"$f":"Score!D65","v":" EN-ME (พิเศษ ม.6)"},{"$f":"Score!E65","v":2.52},{"$f":"Score!F65","v":"4"},0,0,0,0,0,0,0,0,0,0,0,0,0]
[{"$f":"Score!A66","v":4},{"$f":"Score!B66","v":" 563040596-9"},{"$f":"Score!C66","v":" นายทรงศิลป์ ศิริแก้ว"},{"$f":"Score!D66","v":" EN-ME (พิเศษ ม.6)"},{"$f":"Score!E66","v":1.9},{"$f":"Score!F66","v":"4"},0,0,0,0,0,0,0,0,0,0,0,0,0]
[{"$f":"Score!A67","v":5},{"$f":"Score!B67","v":" 563040598-5"},{"$f":"Score!C67","v":" นายธนะโชติ สาโม้"},{"$f":"Score!D67","v":" EN-ME (พิเศษ ม.6)"},{"$f":"Score!E67","v":2.12},{"$f":"Score!F67","v":"4"},0,0,0,0,0,0,0,0,0,0,0,0,0]
[{"$f":"Score!A68","v":6},{"$f":"Score!B68","v":" 563040602-0"},{"$f":"Score!C68","v":" นางสาวปฏิมาภรณ์ ทักขินัย"},{"$f":"Score!D68","v":" EN-ME (พิเศษ ม.6)"},{"$f":"Score!E68","v":2.42},{"$f":"Score!F68","v":"4"},0,0,0,0,0,0,0,0,0,0,0,0,0]
[{"$f":"Score!A69","v":7},{"$f":"Score!B69","v":" 563040604-6"},{"$f":"Score!C69","v":" นายพิฆเนศ ระเบียบโอษฐ์"},{"$f":"Score!D69","v":" EN-ME (พิเศษ ม.6)"},{"$f":"Score!E69","v":1.73},{"$f":"Score!F69","v":"4"},0,0,0,0,0,{"$f":"Z69/100","v":0},{"$f":"AA69/100","v":0},{"$f":"AB69/10","v":0},{"$f":"AC69/10","v":0},0,0,0,{"$f":"SUM(G69:R69)/1.2","v":0}]
[{"$f":"Score!A70","v":8},{"$f":"Score!B70","v":" 563040608-8"},{"$f":"Score!C70","v":" นางสาวมณฑกานต์ มูลสาร"},{"$f":"Score!D70","v":" EN-ME (พิเศษ ม.6)"},{"$f":"Score!E70","v":1.99},{"$f":"Score!F70","v":"4"},{"$f":"U70/20","v":0},{"$f":"V70/10","v":0},{"$f":"W70/100","v":0},{"$f":"X70/10","v":0},{"$f":"Y70/100","v":0},0,0,0,0,0,0,0,0]
[{"$f":"Score!A71","v":9},{"$f":"Score!B71","v":" 563040609-6"},{"$f":"Score!C71","v":" นายรัฐศาสตร์ จันใหญ่"},{"$f":"Score!D71","v":" EN-ME (พิเศษ ม.6)"},{"$f":"Score!E71","v":2.4700000000000002},{"$f":"Score!F71","v":"4"},0,0,0,0,0,0,0,0,0,0,0,0,0]
[{"$f":"Score!A72","v":10},{"$f":"Score!B72","v":" 563040610-1"},{"$f":"Score!C72","v":" นายลักษมณ์ เฮงพูลธนา"},{"$f":"Score!D72","v":" EN-ME (พิเศษ ม.6)"},{"$f":"Score!E72","v":1.51},{"$f":"Score!F72","v":"4"},0,0,0,0,0,0,0,0,0,0,0,0,0]
[{"$f":"Score!A73","v":11},{"$f":"Score!B73","v":" 563040614-3"},{"$f":"Score!C73","v":" นายศิวัช เฮงพูลธนา"},{"$f":"Score!D73","v":" EN-ME (พิเศษ ม.6)"},{"$f":"Score!E73","v":2.21},{"$f":"Score!F73","v":"4"},0,0,0,0,0,0,0,0,0,0,0,0,0]
[{"$f":"Score!A74","v":12},{"$f":"Score!B74","v":" 563040618-5"},{"$f":"Score!C74","v":" นายเสาเอก น้อยปรีชา"},{"$f":"Score!D74","v":" EN-ME (พิเศษ ม.6)"},{"$f":"Score!E74","v":2.2400000000000002},{"$f":"Score!F74","v":"4"},0,0,0,0,0,0,0,0,0,0,0,0,0]
[{"$f":"Score!A75","v":13},{"$f":"Score!B75","v":" 563040619-3"},{"$f":"Score!C75","v":" นายอภิเศรษฐ์ อินทรพาณิชย์"},{"$f":"Score!D75","v":" EN-ME (พิเศษ ม.6)"},{"$f":"Score!E75","v":2.59},{"$f":"Score!F75","v":"4"},0,0,0,0,0,0,0,0,0,0,0,0,0]
[{"$f":"Score!A76","v":14},{"$f":"Score!B76","v":" 563040620-8"},{"$f":"Score!C76","v":" นายอมรเทพ วงษ์สมศรี"},{"$f":"Score!D76","v":" EN-ME (พิเศษ ม.6)"},{"$f":"Score!E76","v":2.02},{"$f":"Score!F76","v":"4"},0,0,0,0,0,0,0,0,0,0,0,0,0]
[{"$f":"Score!A77","v":0},{"$f":"Score!B77","v":0},{"$f":"Score!C77","v":0},{"$f":"Score!D77","v":0},{"$f":"Score!E77","v":0},{"$f":"Score!F77","v":0},0,0,0,0,0,0,0,0,0,0,0,0,0]
[{"$f":"Score!A78","v":0},{"$f":"Score!B78","v":0},{"$f":"Score!C78","v":0},{"$f":"Score!D78","v":0},{"$f":"Score!E78","v":0},{"$f":"Score!F78","v":0},0,0,0,0,0,0,0,0,0,0,0,0,0]
[{"$f":"Score!A79","v":0},{"$f":"Score!B79","v":0},{"$f":"Score!C79","v":0},{"$f":"Score!D79","v":0},{"$f":"Score!E79","v":0},{"$f":"Score!F79","v":0},0,0,0,0,0,0,0,0,0,0,0,0,0]
[{"$f":"Score!A80","v":0},{"$f":"Score!B80","v":0},{"$f":"Score!C80","v":0},{"$f":"Score!D80","v":0},{"$f":"Score!E80","v":0},{"$f":"Score!F80","v":0},0,0,0,0,0,0,0,0,0,0,0,0,0]
[{"$f":"Score!A81","v":0},{"$f":"Score!B81","v":0},{"$f":"Score!C81","v":0},{"$f":"Score!D81","v":0},{"$f":"Score!E81","v":0},{"$f":"Score!F81","v":0},0,0,0,0,0,0,0,0,0,0,0,0,0]
[{"$f":"Score!A82","v":0},{"$f":"Score!B82","v":0},{"$f":"Score!C82","v":0},{"$f":"Score!D82","v":0},{"$f":"Score!E82","v":0},{"$f":"Score!F82","v":0},0,0,0,0,0,0,0,0,0,0,0,0,0]
[{"$f":"Score!A83","v":0},{"$f":"Score!B83","v":0},{"$f":"Score!C83","v":0},{"$f":"Score!D83","v":0},{"$f":"Score!E83","v":0},{"$f":"Score!F83","v":0},0,0,0,0,0,0,0,0,0,0,0,0,0]
[{"$f":"Score!A84","v":0},{"$f":"Score!B84","v":0},{"$f":"Score!C84","v":0},{"$f":"Score!D84","v":0},{"$f":"Score!E84","v":0},{"$f":"Score!F84","v":0},0,0,0,0,0,0,0,0,0,{"$f":"AD84/10","v":0},{"$f":"AE84/100","v":0},{"$f":"AF84/10","v":0},0]
[{"$f":"Score!A85","v":0},{"$f":"Score!B85","v":0},{"$f":"Score!C85","v":0},{"$f":"Score!D85","v":0},{"$f":"Score!E85","v":0},{"$f":"Score!F85","v":0},0,0,0,0,0,0,0,0,0,0,0,0,0]
[{"$f":"Score!A86","v":0},{"$f":"Score!B86","v":0},{"$f":"Score!C86","v":0},{"$f":"Score!D86","v":0},{"$f":"Score!E86","v":0},{"$f":"Score!F86","v":0},0,0,0,0,0,0,0,0,0,0,0,0,0]
[{"$f":"Score!A87","v":0},{"$f":"Score!B87","v":0},{"$f":"Score!C87","v":0},{"$f":"Score!D87","v":0},{"$f":"Score!E87","v":0},{"$f":"Score!F87","v":0},0,0,0,0,0,0,0,0,0,0,0,0,0]
[{"$f":"Score!A88","v":0},{"$f":"Score!B88","v":0},{"$f":"Score!C88","v":0},{"$f":"Score!D88","v":0},{"$f":"Score!E88","v":0},{"$f":"Score!F88","v":0},0,0,0,0,0,0,0,0,0,0,0,0,0]
[{"$f":"Score!A89","v":0},{"$f":"Score!B89","v":0},{"$f":"Score!C89","v":0},{"$f":"Score!D89","v":0},{"$f":"Score!E89","v":0},{"$f":"Score!F89","v":0},0,0,0,0,0,0,0,0,0,0,0,0,0]
[{"$f":"Score!A90","v":0},{"$f":"Score!B90","v":0},{"$f":"Score!C90","v":0},{"$f":"Score!D90","v":0},{"$f":"Score!E90","v":0},{"$f":"Score!F90","v":0},0,0,0,0,0,0,0,0,0,0,0,0,0]
[{"$f":"Score!A91","v":0},{"$f":"Score!B91","v":0},{"$f":"Score!C91","v":0},{"$f":"Score!D91","v":0},{"$f":"Score!E91","v":0},{"$f":"Score!F91","v":0},0,0,0,0,0,0,0,0,0,0,0,0,0]
[{"$f":"Score!A92","v":0},{"$f":"Score!B92","v":0},{"$f":"Score!C92","v":0},{"$f":"Score!D92","v":0},{"$f":"Score!E92","v":0},{"$f":"Score!F92","v":0},0,0,0,0,0,0,0,0,0,0,0,0,0]
[{"$f":"Score!A93","v":0},{"$f":"Score!B93","v":0},{"$f":"Score!C93","v":0},{"$f":"Score!D93","v":0},{"$f":"Score!E93","v":0},{"$f":"Score!F93","v":0},0,0,0,0,0,0,0,0,0,0,0,0,0]
[{"$f":"Score!A94","v":0},{"$f":"Score!B94","v":0},{"$f":"Score!C94","v":0},{"$f":"Score!D94","v":0},{"$f":"Score!E94","v":0},{"$f":"Score!F94","v":0},0,0,0,0,0,0,0,0,0,0,0,0,0]
[{"$f":"Score!A95","v":0},{"$f":"Score!B95","v":0},{"$f":"Score!C95","v":0},{"$f":"Score!D95","v":0},{"$f":"Score!E95","v":0},{"$f":"Score!F95","v":0},0,0,0,0,0,0,0,0,0,0,0,0,0]
[{"$f":"Score!A96","v":0},{"$f":"Score!B96","v":0},{"$f":"Score!C96","v":0},{"$f":"Score!D96","v":0},{"$f":"Score!E96","v":0},{"$f":"Score!F96","v":0},0,0,0,0,0,0,0,0,0,0,0,0,0]
[{"$f":"Score!A97","v":0},{"$f":"Score!B97","v":0},{"$f":"Score!C97","v":0},{"$f":"Score!D97","v":0},{"$f":"Score!E97","v":0},{"$f":"Score!F97","v":0},0,0,0,0,0,0,0,0,0,0,0,0,0]
[{"$f":"Score!A98","v":0},{"$f":"Score!B98","v":0},{"$f":"Score!C98","v":0},{"$f":"Score!D98","v":0},{"$f":"Score!E98","v":0},{"$f":"Score!F98","v":0},0,0,0,0,0,0,0,0,0,0,0,0,0]
[{"$f":"Score!A99","v":0},{"$f":"Score!B99","v":0},{"$f":"Score!C99","v":0},{"$f":"Score!D99","v":0},{"$f":"Score!E99","v":0},{"$f":"Score!F99","v":0},0,0,0,0,0,0,0,0,0,0,0,0,0]
[{"$f":"Score!A100","v":0},{"$f":"Score!B100","v":0},{"$f":"Score!C100","v":0},{"$f":"Score!D100","v":0},{"$f":"Score!E100","v":0},{"$f":"Score!F100","v":0},0,0,0,0,0,0,0,0,0,0,0,0,0]
[{"$f":"Score!A101","v":0},{"$f":"Score!B101","v":0},{"$f":"Score!C101","v":0},{"$f":"Score!D101","v":0},{"$f":"Score!E101","v":0},{"$f":"Score!F101","v":0},0,0,0,0,0,0,0,0,0,0,0,0,0]
[{"$f":"Score!A102","v":0},{"$f":"Score!B102","v":0},{"$f":"Score!C102","v":0},{"$f":"Score!D102","v":0},{"$f":"Score!E102","v":0},{"$f":"Score!F102","v":0},0,0,0,0,0,0,0,0,0,0,0,0,0]
[{"$f":"Score!A103","v":0},{"$f":"Score!B103","v":0},{"$f":"Score!C103","v":0},{"$f":"Score!D103","v":0},{"$f":"Score!E103","v":0},{"$f":"Score!F103","v":0},0,0,0,0,0,0,0,0,0,0,0,0,0]
[{"$f":"Score!A104","v":0},{"$f":"Score!B104","v":0},{"$f":"Score!C104","v":0},{"$f":"Score!D104","v":0},{"$f":"Score!E104","v":0},{"$f":"Score!F104","v":0},0,0,0,0,0,0,0,0,0,0,0,0,0]
[{"$f":"Score!A105","v":0},{"$f":"Score!B105","v":0},{"$f":"Score!C105","v":0},{"$f":"Score!D105","v":0},{"$f":"Score!E105","v":0},{"$f":"Score!F105","v":0},0,0,0,0,0,0,0,0,0,0,0,0,0]
[{"$f":"Score!A106","v":0},{"$f":"Score!B106","v":0},{"$f":"Score!C106","v":0},{"$f":"Score!D106","v":0},{"$f":"Score!E106","v":0},{"$f":"Score!F106","v":0},0,0,0,0,0,0,0,0,0,0,0,0,0]
[{"$f":"Score!A107","v":0},{"$f":"Score!B107","v":0},{"$f":"Score!C107","v":0},{"$f":"Score!D107","v":0},{"$f":"Score!E107","v":0},{"$f":"Score!F107","v":0},0,0,0,0,0,0,0,0,0,0,0,0,0]
[{"$f":"Score!A108","v":0},{"$f":"Score!B108","v":0},{"$f":"Score!C108","v":0},{"$f":"Score!D108","v":0},{"$f":"Score!E108","v":0},{"$f":"Score!F108","v":0},0,0,0,0,0,0,0,0,0,0,0,0,0]
[{"$f":"Score!A109","v":0},{"$f":"Score!B109","v":0},{"$f":"Score!C109","v":0},{"$f":"Score!D109","v":0},{"$f":"Score!E109","v":0},{"$f":"Score!F109","v":0},0,0,0,0,0,0,0,0,0,0,0,0,0]
[{"$f":"Score!A110","v":0},{"$f":"Score!B110","v":0},{"$f":"Score!C110","v":0},{"$f":"Score!D110","v":0},{"$f":"Score!E110","v":0},{"$f":"Score!F110","v":0},{"$f":"U110/20","v":0},{"$f":"V110/10","v":0},{"$f":"W110/100","v":0},{"$f":"X110/10","v":0},{"$f":"Y110/100","v":0},{"$f":"Z110/100","v":0},{"$f":"AA110/100","v":0},0,0,0,0,0,{"$f":"SUM(G110:R110)/1.2","v":0}]

{"sheet":"HomeworkAll","index":7,"n_rows":110,"n_cols":45,"rows_kept":110,"cut":false,"hidden":false,"merged":[]}
[null,"รายวิชา","195231 : THERMODYNAMICS I",null,null,"Section 1",null,null,null,null,null,null,null,null,null,null,null,null,null,"Accumulated",null,"Full","Score","Full","Score","Full","Score","full","score","Full","Score","full","score","Full","Score","full","score","full","score","full","score","full","score","full","score"]
[null,"ปีการศึกษา","2556 ภาคการศึกษาที่ 1",null,null,"รศ.ดร.สมหมาย ปรีเปรม",1,1,1,1,1,1,1,1,1,1,1,1,{"$f":"SUM(G2:R2)/1.2","v":10},"Full score",null,40,1,50,1,30,1,60,1,60,1,30,1,110,1,40,1,72,1,30,1,45,1,20,1]
["ลำดับ"," รหัส","ชื่อ","หลักสูตร","GPA","Section 1","HW1***","HW2","HW3","HW4","HW5","HW6","HW7","HW8","HW9","HW10","HW11","HW12","Sum",null,null,"HW1***",null,"HW2",null,"HW3",null,"HW4",null,"HW5",null,"HW6",null,"HW7",null,"HW8",null,"HW9",null,"HW10",null,"HW11",null,"HW12"]
[{"$f":"+Score!A4","v":1},{"$f":"+Score!B4","v":" 543040669-6"},{"$f":"+Score!C4","v":" นายเกียรติขจร ทัดทาอามาตย์"},{"$f":"+Score!D4","v":" EN-AE"},{"$f":"+Score!E4","v":2},{"$f":"+Score!F4","v":1},{"$f":"W4","v":0.72499999999999998},{"$f":"Y4","v":1},{"$f":"AA4","v":0.9},{"$f":"AC4","v":0.8666666666666667},{"$f":"AE4","v":0.91666666666666663},{"$f":"AG4","v":0.96666666666666667},{"$f":"AI4","v":1},{"$f":"AK4","v":1},{"$f":"AM4","v":1},{"$f":"AO4","v":1},{"$f":"AQ4","v":1},{"$f":"AS4","v":1},{"$f":"SUM(G4:R4)/1.2","v":9.4791666666666679},null,null,29,{"$f":"V4/40","v":0.72499999999999998},50,{"$f":"X4/50","v":1},27,{"$f":"Z4/30","v":0.9},52,{"$f":"AB4/60","v":0.8666666666666667},55,{"$f":"AD4/60","v":0.91666666666666663},29,{"$f":"AF4/30","v":0.96666666666666667},110,{"$f":"AH4/110","v":1},40,{"$f":"AJ4/40","v":1},72,{"$f":"AL4/72","v":1},30,{"$f":"AN4/30","v":1},45,{"$f":"AP4/45","v":1},20,{"$f":"AR4/20","v":1}]
[{"$f":"+Score!A5","v":2},{"$f":"+Score!B5","v":" 553040404-3"},{"$f":"+Score!C5","v":" นายวนัสมัญ กฤษณะสุวรรณ"},{"$f":"+Score!D5","v":" EN-IE"},{"$f":"+Score!E5","v":1.89},{"$f":"+Score!F5","v":1},{"$f":"W5","v":0.75},{"$f":"Y5","v":1},{"$f":"AA5","v":0.96666666666666667},{"$f":"AC5","v":0.83333333333333337},{"$f":"AE5","v":0.93333333333333335},{"$f":"AG5","v":0.96666666666666667},{"$f":"AI5","v":1},{"$f":"AK5","v":1},{"$f":"AM5","v":0.97222222222222221},{"$f":"AO5","v":1},{"$f":"AQ5","v":1},{"$f":"AS5","v":1},{"$f":"SUM(G5:R5)/1.2","v":9.518518518518519},null,null,30,{"$f":"V5/40","v":0.75},50,{"$f":"X5/50","v":1},29,{"$f":"Z5/30","v":0.96666666666666667},50,{"$f":"AB5/60","v":0.83333333333333337},56,{"$f":"AD5/60","v":0.93333333333333335},29,{"$f":"AF5/30","v":0.96666666666666667},110,{"$f":"AH5/110","v":1},40,{"$f":"AJ5/40","v":1},70,{"$f":"AL5/72","v":0.97222222222222221},30,{"$f":"AN5/30","v":1},45,{"$f":"AP5/45","v":1},20,{"$f":"AR5/20","v":1}]
[{"$f":"+Score!A6","v":3},{"$f":"+Score!B6","v":" 563040002-4"},{"$f":"+Score!C6","v":" นายกรวิชญ์ ศรีวัฒนาปิติกุล"},{"$f":"+Score!D6","v":" EN-ME"},{"$f":"+Score!E6","v":3.14},{"$f":"+Score!F6","v":1},{"$f":"W6","v":0.77500000000000002},{"$f":"Y6","v":0.9},{"$f":"AA6","v":0.96666666666666667},0.96666666666666667,0.96666666666666667,0.96666666666666667,0.86363636363636365,1,0.91666666666666663,1,0.9555555555555556,0.9,9.3146043771043789,null,null,31,0.77500000000000002,45,0.9,29,0.96666666666666667,58,0.96666666666666667,58,0.96666666666666667,29,0.96666666666666667,95,0.86363636363636365,40,1,66,0.91666666666666663,30,1,43,0.9555555555555556,18,0.9]
[{"$f":"+Score!A7","v":4},{"$f":"+Score!B7","v":" 563040003-2"},{"$f":"+Score!C7","v":" นายกฤช ถาไชยลา"},{"$f":"+Score!D7","v":" EN-ME"},{"$f":"+Score!E7","v":2.84},{"$f":"+Score!F7","v":1},{"$f":"W7","v":1},0.94,0.96666666666666667,0.8833333333333333,1,1,1,1,1,1,1,1,9.8249999999999993,null,null,40,1,47,0.94,29,0.96666666666666667,53,0.8833333333333333,60,1,30,1,110,1,40,1,72,1,30,1,45,1,20,1]
[{"$f":"+Score!A8","v":5},{"$f":"+Score!B8","v":" 563040022-8"},{"$f":"+Score!C8","v":" นายณัฐพล สิทธิอมรพร"},{"$f":"+Score!D8","v":" EN-ME"},{"$f":"+Score!E8","v":3.41},{"$f":"+Score!F8","v":1},0.9,1,0.8666666666666667,0.95,1,0,1,1,1,1,1,1,8.9305555555555554,null,null,36,0.9,50,1,26,0.8666666666666667,57,0.95,60,1,0,0,110,1,40,1,72,1,30,1,45,1,20,1]
[{"$f":"+Score!A9","v":6},{"$f":"+Score!B9","v":" 563040025-2"},{"$f":"+Score!C9","v":" นายทรงพล เกียรติพนมแพ"},{"$f":"+Score!D9","v":" EN-IE"},{"$f":"+Score!E9","v":3.04},{"$f":"+Score!F9","v":1},0.8,1,0.8666666666666667,0.85,1,1,0.9363636363636364,0.95,1,0,1,0,7.8358585858585874,null,null,32,0.8,50,1,26,0.8666666666666667,51,0.85,60,1,30,1,103,0.9363636363636364,38,0.95,72,1,0,0,45,1,0,0]
[{"$f":"+Score!A10","v":7},{"$f":"+Score!B10","v":" 563040032-5"},{"$f":"+Score!C10","v":" นางสาวธนัชชา ใหญ่สูงเนิน"},{"$f":"+Score!D10","v":" EN-IE"},{"$f":"+Score!E10","v":2.76},{"$f":"+Score!F10","v":1},0.57499999999999996,0,0.93333333333333335,0.71666666666666667,1,0.96666666666666667,0.9363636363636364,0.95,0,0,0,1,5.8983585858585865,null,null,23,0.57499999999999996,0,0,28,0.93333333333333335,43,0.71666666666666667,60,1,29,0.96666666666666667,103,0.9363636363636364,38,0.95,0,0,0,0,0,0,20,1]
[{"$f":"+Score!A11","v":8},{"$f":"+Score!B11","v":" 563040043-0"},{"$f":"+Score!C11","v":" นางสาวนันทิชา จริยาโสวรรณ"},{"$f":"+Score!D11","v":" EN-IE"},{"$f":"+Score!E11","v":2.04},{"$f":"+Score!F11","v":1},0.75,1,0.76666666666666672,1,0.76666666666666672,1,1,1,1,1,0,1,8.5694444444444446,null,null,30,0.75,50,1,23,0.76666666666666672,60,1,46,0.76666666666666672,30,1,110,1,40,1,72,1,30,1,0,0,20,1]
[{"$f":"+Score!A12","v":9},{"$f":"+Score!B12","v":" 563040044-8"},{"$f":"+Score!C12","v":" นางสาวนิภาพร อายุวัฒน์"},{"$f":"+Score!D12","v":" EN-ME"},{"$f":"+Score!E12","v":2.92},{"$f":"+Score!F12","v":1},0.85,1,1,0.91666666666666663,0.83333333333333337,1,1,0,1,1,0.88888888888888884,0,7.9074074074074074,null,null,34,0.85,50,1,30,1,55,0.91666666666666663,50,0.83333333333333337,30,1,110,1,0,0,72,1,30,1,40,0.88888888888888884,0,0]
[{"$f":"+Score!A13","v":10},{"$f":"+Score!B13","v":" 563040051-1"},{"$f":"+Score!C13","v":" นายพงศ์ทัช พรวิกุลรัตนา"},{"$f":"+Score!D13","v":" EN-ME"},{"$f":"+Score!E13","v":2.63},{"$f":"+Score!F13","v":1},0,0,0,0,0.9,0,0,0,0,0,0,1,1.5833333333333333,null,null,0,0,0,0,0,0,0,0,54,0.9,0,0,0,0,0,0,0,0,0,0,0,0,20,1]
[{"$f":"+Score!A14","v":11},{"$f":"+Score!B14","v":" 563040059-5"},{"$f":"+Score!C14","v":" นายพสธร นามสร"},{"$f":"+Score!D14","v":" EN-ME"},{"$f":"+Score!E14","v":3.09},{"$f":"+Score!F14","v":1},1,1,1,0.96666666666666667,1,1,1,1,1,1,1,1,9.9722222222222232,null,null,40,1,50,1,30,1,58,0.96666666666666667,60,1,30,1,110,1,40,1,72,1,30,1,45,1,20,1]
[{"$f":"+Score!A15","v":12},{"$f":"+Score!B15","v":" 563040064-2"},{"$f":"+Score!C15","v":" นางสาวภัทรามาศ ฉวีชัย"},{"$f":"+Score!D15","v":" EN-IE"},{"$f":"+Score!E15","v":3.12},{"$f":"+Score!F15","v":1},1,1,1,0.96666666666666667,0.96666666666666667,1,1,1,1,1,1,1,9.9444444444444446,null,null,40,1,50,1,30,1,58,0.96666666666666667,58,0.96666666666666667,30,1,110,1,40,1,72,1,30,1,45,1,20,1]
[{"$f":"+Score!A16","v":13},{"$f":"+Score!B16","v":" 563040065-0"},{"$f":"+Score!C16","v":" นายภาคิน จำปาศักดิ์"},{"$f":"+Score!D16","v":" EN-ME"},{"$f":"+Score!E16","v":3.51},{"$f":"+Score!F16","v":1},1,1,0.83333333333333337,0,0.9,1,0,0,0.93055555555555558,0,1,1,6.3865740740740744,null,null,40,1,50,1,25,0.83333333333333337,0,0,54,0.9,30,1,0,0,0,0,67,0.93055555555555558,0,0,45,1,20,1]
[{"$f":"+Score!A17","v":14},{"$f":"+Score!B17","v":" 563040070-7"},{"$f":"+Score!C17","v":" นายมหคพันธุ์ เอมกลาง"},{"$f":"+Score!D17","v":" EN-ME"},{"$f":"+Score!E17","v":2.71},{"$f":"+Score!F17","v":1},0.67500000000000004,1,0.96666666666666667,0.83333333333333337,1,1,1,1,1,1,0.88888888888888884,1,9.4699074074074083,null,null,27,0.67500000000000004,50,1,29,0.96666666666666667,50,0.83333333333333337,60,1,30,1,110,1,40,1,72,1,30,1,40,0.88888888888888884,20,1]
[{"$f":"+Score!A18","v":15},{"$f":"+Score!B18","v":" 563040071-5"},{"$f":"+Score!C18","v":" นายมานะ ติรโรจน์"},{"$f":"+Score!D18","v":" EN-ME"},{"$f":"+Score!E18","v":3.46},{"$f":"+Score!F18","v":1},1,0.92,1,0.96666666666666667,1,1,1,1,1,1,1,1,9.9055555555555568,null,null,40,1,46,0.92,30,1,58,0.96666666666666667,60,1,30,1,110,1,40,1,72,1,30,1,45,1,20,1]
[{"$f":"+Score!A19","v":16},{"$f":"+Score!B19","v":" 563040076-5"},{"$f":"+Score!C19","v":" นายรัฐศาสตร์ พลยงค์"},{"$f":"+Score!D19","v":" EN-ME"},{"$f":"+Score!E19","v":2.88},{"$f":"+Score!F19","v":1},0,0,0,0,0,0,0,0,0,0,0,0,0]
[{"$f":"+Score!A20","v":17},{"$f":"+Score!B20","v":" 563040089-6"},{"$f":"+Score!C20","v":" นายศวัสชัย วิวรรธนจิตต์"},{"$f":"+Score!D20","v":" EN-IE"},{"$f":"+Score!E20","v":2.79},{"$f":"+Score!F20","v":1},0,0,0,0,0,0,0,0,0,0,0,0,0]
[{"$f":"+Score!A21","v":18},{"$f":"+Score!B21","v":" 563040098-5"},{"$f":"+Score!C21","v":" นายสิทธิโชค ชูพงศ์พันธุ์"},{"$f":"+Score!D21","v":" EN-ME"},{"$f":"+Score!E21","v":2.94},{"$f":"+Score!F21","v":1},0,0,0,0,0,0,0,0,0,0,0,0,0]
[{"$f":"+Score!A22","v":19},{"$f":"+Score!B22","v":" 563040114-3"},{"$f":"+Score!C22","v":" นายคฑาวุธ ศรีโสดาพล"},{"$f":"+Score!D22","v":" EN-AE"},{"$f":"+Score!E22","v":1.51},{"$f":"+Score!F22","v":1},0,0,0,0,0,0,0,0,0,0,0,0,0]
[{"$f":"+Score!A23","v":20},{"$f":"+Score!B23","v":" 563040115-1"},{"$f":"+Score!C23","v":" นายจุลดิศ ทองตัน"},{"$f":"+Score!D23","v":" EN-AE"},{"$f":"+Score!E23","v":1.82},{"$f":"+Score!F23","v":1},0,0,0,0,0,0,0,0,0,0,0,0,0]
[{"$f":"+Score!A24","v":21},{"$f":"+Score!B24","v":" 563040116-9"},{"$f":"+Score!C24","v":" นายโชคชัย ซุยอุ้ย"},{"$f":"+Score!D24","v":" EN-AE"},{"$f":"+Score!E24","v":3.03},{"$f":"+Score!F24","v":1},0,0,0,0,0,0,0,0,0,0,0,0,0]
[{"$f":"+Score!A25","v":22},{"$f":"+Score!B25","v":" 563040121-6"},{"$f":"+Score!C25","v":" นายธนพล หลาบศิริ"},{"$f":"+Score!D25","v":" EN-AE"},{"$f":"+Score!E25","v":2.77},{"$f":"+Score!F25","v":1},0,0,0,0,0,0,0,0,0,0,0,0,0]
[{"$f":"+Score!A26","v":23},{"$f":"+Score!B26","v":" 563040123-2"},{"$f":"+Score!C26","v":" นายธนวร สันธนะสุรางค์"},{"$f":"+Score!D26","v":" EN-AE"},{"$f":"+Score!E26","v":2.35},{"$f":"+Score!F26","v":1},0,0,0,0,0,0,0,0,0,0,0,0,0]
[{"$f":"+Score!A27","v":24},{"$f":"+Score!B27","v":" 563040129-0"},{"$f":"+Score!C27","v":" นายพีรเมธ จุฑานันท์"},{"$f":"+Score!D27","v":" EN-AE"},{"$f":"+Score!E27","v":1.89},{"$f":"+Score!F27","v":1},0,0,0,0,0,0,0,0,0,0,0,0,0]
[{"$f":"+Score!A28","v":25},{"$f":"+Score!B28","v":" 563040130-5"},{"$f":"+Score!C28","v":" นายพีส คูณดี"},{"$f":"+Score!D28","v":" EN-AE"},{"$f":"+Score!E28","v":2.29},{"$f":"+Score!F28","v":1},0,0,0,0,0,0,0,0,0,0,0,0,0]
[{"$f":"+Score!A29","v":26},{"$f":"+Score!B29","v":" 563040137-1"},{"$f":"+Score!C29","v":" นายศุภณัฐ ลัภกิตโร"},{"$f":"+Score!D29","v":" EN-AE"},{"$f":"+Score!E29","v":2.58},{"$f":"+Score!F29","v":1},0,0,0,0,0,0,0,0,0,0,0,0,0]
[{"$f":"+Score!A30","v":27},{"$f":"+Score!B30","v":" 563040139-7"},{"$f":"+Score!C30","v":" นายสุธรรม ดิษาภิรมย์"},{"$f":"+Score!D30","v":" EN-AE"},{"$f":"+Score!E30","v":1.78},{"$f":"+Score!F30","v":1},0,0,0,0,0,0,0,0,0,0,0,0,0]
[{"$f":"+Score!A31","v":28},{"$f":"+Score!B31","v":" 563040231-9"},{"$f":"+Score!C31","v":" นายอธิการ สุริโย"},{"$f":"+Score!D31","v":" EN-IE"},{"$f":"+Score!E31","v":1.71},{"$f":"+Score!F31","v":1},0,0,0,0,0,0,0,0,0,0,0,0,0]
[{"$f":"+Score!A32","v":29},{"$f":"+Score!B32","v":" 563040260-2"},{"$f":"+Score!C32","v":" นางสาวณัฐณิชา ศิริเหล่าไพศาล"},{"$f":"+Score!D32","v":" EN-IE"},{"$f":"+Score!E32","v":3.17},{"$f":"+Score!F32","v":1},0,0,0,0,0,0,0,0,0,0,0,0,0]
[{"$f":"+Score!A33","v":30},{"$f":"+Score!B33","v":" 563040269-4"},{"$f":"+Score!C33","v":" นายกนกพล แก้วเฮียง"},{"$f":"+Score!D33","v":" EN-ME"},{"$f":"+Score!E33","v":3.06},{"$f":"+Score!F33","v":1},0,0,0,0,0,0,0,0,0,0,0,0,0]
[{"$f":"+Score!A34","v":31},{"$f":"+Score!B34","v":" 563040272-5"},{"$f":"+Score!C34","v":" นายกีรติ มังษา"},{"$f":"+Score!D34","v":" EN-ME"},{"$f":"+Score!E34","v":2.87},{"$f":"+Score!F34","v":1},0,0,0,0,0,0,0,0,0,0,0,0,0]
[{"$f":"+Score!A35","v":32},{"$f":"+Score!B35","v":" 563040275-9"},{"$f":"+Score!C35","v":" นางสาวคุณัญญา ทวีสอน"},{"$f":"+Score!D35","v":" EN-ME"},{"$f":"+Score!E35","v":2.69},{"$f":"+Score!F35","v":1},0,0,0,0,0,0,0,0,0,0,0,0,0]
[{"$f":"+Score!A36","v":33},{"$f":"+Score!B36","v":" 563040289-8"},{"$f":"+Score!C36","v":" นางสาวโชติณัฐ จงใจหาญ"},{"$f":"+Score!D36","v":" EN-IE"},{"$f":"+Score!E36","v":3},{"$f":"+Score!F36","v":1},0,0,0,0,0,0,0,0,0,0,0,0,0]
[{"$f":"+Score!A37","v":34},{"$f":"+Score!B37","v":" 563040292-9"},{"$f":"+Score!C37","v":" นางสาวฐิติพร ฐานหมั่น"},{"$f":"+Score!D37","v":" EN-IE"},{"$f":"+Score!E37","v":2.12},{"$f":"+Score!F37","v":1},0,0,0,0,0,0,0,0,0,0,0,0,0]
[{"$f":"+Score!A38","v":35},{"$f":"+Score!B38","v":" 563040296-1"},{"$f":"+Score!C38","v":" นางสาวณัฐชยา ทัศนจินดา"},{"$f":"+Score!D38","v":" EN-IE"},{"$f":"+Score!E38","v":2.75},{"$f":"+Score!F38","v":1},0,0,0,0,0,0,0,0,0,0,0,0,0]
[{"$f":"+Score!A39","v":36},{"$f":"+Score!B39","v":" 563040304-8"},{"$f":"+Score!C39","v":" นายธนพนธ์ ตั้งวัฒนสุวรรณ"},{"$f":"+Score!D39","v":" EN-IE"},{"$f":"+Score!E39","v":2.44},{"$f":"+Score!F39","v":1},0,0,0,0,0,0,0,0,0,0,0,0,0]
[{"$f":"+Score!A40","v":37},{"$f":"+Score!B40","v":" 563040313-7"},{"$f":"+Score!C40","v":" นายธาดา วิริยบัณฑร"},{"$f":"+Score!D40","v":" EN-ME"},{"$f":"+Score!E40","v":3.49},{"$f":"+Score!F40","v":1},0,0,0,0,0,0,0,0,0,0,0,0,0]
[{"$f":"+Score!A41","v":38},{"$f":"+Score!B41","v":" 563040315-3"},{"$f":"+Score!C41","v":" นางสาวธิดาวรรณ ใจตรง"},{"$f":"+Score!D41","v":" EN-IE"},{"$f":"+Score!E41","v":2.48},{"$f":"+Score!F41","v":1},0,0,0,0,0,0,0,0,0,0,0,0,0]
[{"$f":"+Score!A42","v":39},{"$f":"+Score!B42","v":" 563040334-9"},{"$f":"+Score!C42","v":" นายพชร ไชยสมบูรณ์"},{"$f":"+Score!D42","v":" EN-IE"},{"$f":"+Score!E42","v":2.3199999999999998},{"$f":"+Score!F42","v":1},0,0,0,0,0,0,0,0,0,0,0,0,0]
[{"$f":"+Score!A43","v":40},{"$f":"+Score!B43","v":" 563040341-2"},{"$f":"+Score!C43","v":" นายพิทวัส เบ้าศรี"},{"$f":"+Score!D43","v":" EN-ME"},{"$f":"+Score!E43","v":2.68},{"$f":"+Score!F43","v":1},0,0,0,0,0,0,0,0,0,0,0,0,0]
[{"$f":"+Score!A44","v":41},{"$f":"+Score!B44","v":" 563040344-6"},{"$f":"+Score!C44","v":" นายไพโรจน์ วงษ์จำปา"},{"$f":"+Score!D44","v":" EN-ME"},{"$f":"+Score!E44","v":2.61},{"$f":"+Score!F44","v":1},0,0,0,0,0,0,0,0,0,0,0,0,0]
[{"$f":"+Score!A45","v":42},{"$f":"+Score!B45","v":" 563040346-2"},{"$f":"+Score!C45","v":" นายภระรถ ผาสิงห์"},{"$f":"+Score!D45","v":" EN-ME"},{"$f":"+Score!E45","v":3.13},{"$f":"+Score!F45","v":1},0,0,0,0,0,0,0,0,0,0,0,0,0]
[{"$f":"+Score!A46","v":43},{"$f":"+Score!B46","v":" 563040351-9"},{"$f":"+Score!C46","v":" นางสาวมุกดารัศมิ์ อาจบรรจง"},{"$f":"+Score!D46","v":" EN-ME"},{"$f":"+Score!E46","v":2.96},{"$f":"+Score!F46","v":1},0,0,0,0,0,0,0,0,0,0,0,0,0]
[{"$f":"+Score!A47","v":44},{"$f":"+Score!B47","v":" 563040359-3"},{"$f":"+Score!C47","v":" นายวริษฐ์ จวงพุ่ม"},{"$f":"+Score!D47","v":" EN-IE"},{"$f":"+Score!E47","v":2.34},{"$f":"+Score!F47","v":1},0,0,0,0,0,0,0,0,0,0,0,0,0]
[{"$f":"+Score!A48","v":45},{"$f":"+Score!B48","v":" 563040367-4"},{"$f":"+Score!C48","v":" นายไวพจน์ แสงกุดเรือ"},{"$f":"+Score!D48","v":" EN-ME"},{"$f":"+Score!E48","v":2.78},{"$f":"+Score!F48","v":1},0,0,0,0,0,0,0,0,0,0,0,0,0]
[{"$f":"+Score!A49","v":46},{"$f":"+Score!B49","v":" 563040389-4"},{"$f":"+Score!C49","v":" นางสาวสุธีรา นาหัวนิล"},{"$f":"+Score!D49","v":" EN-IE"},{"$f":"+Score!E49","v":2.2999999999999998},{"$f":"+Score!F49","v":1},0,0,0,0,0,0,0,0,0,0,0,0,0]
[{"$f":"+Score!A50","v":47},{"$f":"+Score!B50","v":" 563040393-3"},{"$f":"+Score!C50","v":" นายสุภานุเดช ถาวิกุล"},{"$f":"+Score!D50","v":" EN-IE"},{"$f":"+Score!E50","v":1.58},{"$f":"+Score!F50","v":1},0,0,0,0,0,0,0,0,0,0,0,0,0]
[{"$f":"+Score!A51","v":48},{"$f":"+Score!B51","v":" 563040394-1"},{"$f":"+Score!C51","v":" นางสาวสุภาวิตา ทาเวียง"},{"$f":"+Score!D51","v":" EN-IE"},{"$f":"+Score!E51","v":2.37},{"$f":"+Score!F51","v":1},0,0,0,0,0,0,0,0,0,0,0,0,0]
[{"$f":"+Score!A52","v":49},{"$f":"+Score!B52","v":" 563040396-7"},{"$f":"+Score!C52","v":" นางสาวสุวนันท์ ดวงพิมาย"},{"$f":"+Score!D52","v":" EN-IE"},{"$f":"+Score!E52","v":2.19},{"$f":"+Score!F52","v":1},0,0,0,0,0,0,0,0,0,0,0,0,0]
[{"$f":"+Score!A53","v":50},{"$f":"+Score!B53","v":" 563040397-5"},{"$f":"+Score!C53","v":" นางสาวเหมือนฝัน จินดามณี"},{"$f":"+Score!D53","v":" EN-IE"},{"$f":"+Score!E53","v":1.72},{"$f":"+Score!F53","v":1},0,0,0,0,0,0,0,0,0,0,0,0,0]
[{"$f":"+Score!A54","v":51},{"$f":"+Score!B54","v":" 563040398-3"},{"$f":"+Score!C54","v":" นางสาวเหมือนฝัน เผือกไร่"},{"$f":"+Score!D54","v":" EN-ME"},{"$f":"+Score!E54","v":2.75},{"$f":"+Score!F54","v":1},0,0,0,0,0,0,0,0,0,0,0,0,0]
[{"$f":"+Score!A55","v":52},{"$f":"+Score!B55","v":" 563040400-2"},{"$f":"+Score!C55","v":" นายอดิศร โพธิ์ยา"},{"$f":"+Score!D55","v":" EN-IE"},{"$f":"+Score!E55","v":2.37},{"$f":"+Score!F55","v":1},0,0,0,0,0,0,0,0,0,0,0,0,0]
[{"$f":"+Score!A56","v":53},{"$f":"+Score!B56","v":" 563040408-6"},{"$f":"+Score!C56","v":" นายอรรถศาสตร์ สุระคาย"},{"$f":"+Score!D56","v":" EN-ME"},{"$f":"+Score!E56","v":2.57},{"$f":"+Score!F56","v":1},0,0,0,0,0,0,0,0,0,0,0,0,0]
[{"$f":"+Score!A57","v":54},{"$f":"+Score!B57","v":" 563040419-1"},{"$f":"+Score!C57","v":" นายชาญชัย มีสนาม"},{"$f":"+Score!D57","v":" EN-AE"},{"$f":"+Score!E57","v":2.88},{"$f":"+Score!F57","v":1},0,0,0,0,0,0,0,0,0,0,0,0,0]
[{"$f":"+Score!A58","v":55},{"$f":"+Score!B58","v":" 563040424-8"},{"$f":"+Score!C58","v":" นายนิติศักดิ์ แต่งเมือง"},{"$f":"+Score!D58","v":" EN-AE"},{"$f":"+Score!E58","v":2.2599999999999998},{"$f":"+Score!F58","v":1},0,0,0,0,0,0,0,0,0,0,0,0,0]
[{"$f":"+Score!A59","v":56},{"$f":"+Score!B59","v":" 563040426-4"},{"$f":"+Score!C59","v":" นางสาวเพชรากร ยอดสุวรรณ์"},{"$f":"+Score!D59","v":" EN-AE"},{"$f":"+Score!E59","v":2.89},{"$f":"+Score!F59","v":1},0,0,0,0,0,0,0,0,0,0,0,0,0]
[{"$f":"+Score!A60","v":57},{"$f":"+Score!B60","v":" 563040431-1"},{"$f":"+Score!C60","v":" นายวนัส ภูยาธร"},{"$f":"+Score!D60","v":" EN-AE"},{"$f":"+Score!E60","v":2.23},{"$f":"+Score!F60","v":1},0,0,0,0,0,0,0,0,0,0,0,0,0]
[{"$f":"+Score!A61","v":58},{"$f":"+Score!B61","v":" 563040433-7"},{"$f":"+Score!C61","v":" นางสาวศุภลักษณ์ เครือเพชร"},{"$f":"+Score!D61","v":" EN-AE"},{"$f":"+Score!E61","v":2.64},{"$f":"+Score!F61","v":1},0,0,0,0,0,0,0,0,0,0,0,0,0]
[{"$f":"+Score!A62","v":0},{"$f":"+Score!B62","v":0},{"$f":"+Score!C62","v":0},{"$f":"+Score!D62","v":0},{"$f":"+Score!E62","v":0},{"$f":"+Score!F62","v":0},0,0,0,0,0,0,0,0,0,0,0,0,0]
[{"$f":"+Score!A63","v":1},{"$f":"+Score!B63","v":" 563040584-6"},{"$f":"+Score!C63","v":" นายกรนันท์ พันธะสา"},{"$f":"+Score!D63","v":" EN-ME (พิเศษ ม.6)"},{"$f":"+Score!E63","v":2.64},{"$f":"+Score!F63","v":"4"},0,0,0,0,0,0,0,0,0,0,0,0,0]
[{"$f":"+Score!A64","v":2},{"$f":"+Score!B64","v":" 563040586-2"},{"$f":"+Score!C64","v":" นายจักรกฤษณ์ ตันเจริญ"},{"$f":"+Score!D64","v":" EN-ME (พิเศษ ม.6)"},{"$f":"+Score!E64","v":1.8},{"$f":"+Score!F64","v":"4"},0,0,0,0,0,0,0,0,0,0,0,0,0]
[{"$f":"+Score!A65","v":3},{"$f":"+Score!B65","v":" 563040595-1"},{"$f":"+Score!C65","v":" นายทรงภพ กระสังข์"},{"$f":"+Score!D65","v":" EN-ME (พิเศษ ม.6)"},{"$f":"+Score!E65","v":2.52},{"$f":"+Score!F65","v":"4"},0,0,0,0,0,0,0,0,0,0,0,0,0]
[{"$f":"+Score!A66","v":4},{"$f":"+Score!B66","v":" 563040596-9"},{"$f":"+Score!C66","v":" นายทรงศิลป์ ศิริแก้ว"},{"$f":"+Score!D66","v":" EN-ME (พิเศษ ม.6)"},{"$f":"+Score!E66","v":1.9},{"$f":"+Score!F66","v":"4"},0,0,0,0,0,0,0,0,0,0,0,0,0]
[{"$f":"+Score!A67","v":5},{"$f":"+Score!B67","v":" 563040598-5"},{"$f":"+Score!C67","v":" นายธนะโชติ สาโม้"},{"$f":"+Score!D67","v":" EN-ME (พิเศษ ม.6)"},{"$f":"+Score!E67","v":2.12},{"$f":"+Score!F67","v":"4"},0,0,0,0,0,0,0,0,0,0,0,0,0]
[{"$f":"+Score!A68","v":6},{"$f":"+Score!B68","v":" 563040602-0"},{"$f":"+Score!C68","v":" นางสาวปฏิมาภรณ์ ทักขินัย"},{"$f":"+Score!D68","v":" EN-ME (พิเศษ ม.6)"},{"$f":"+Score!E68","v":2.42},{"$f":"+Score!F68","v":"4"},0,0,0,0,0,0,0,0,0,0,0,0,0]
[{"$f":"+Score!A69","v":7},{"$f":"+Score!B69","v":" 563040604-6"},{"$f":"+Score!C69","v":" นายพิฆเนศ ระเบียบโอษฐ์"},{"$f":"+Score!D69","v":" EN-ME (พิเศษ ม.6)"},{"$f":"+Score!E69","v":1.73},{"$f":"+Score!F69","v":"4"},0,0,0,{"$f":"AC69","v":0},{"$f":"AE69","v":0},{"$f":"AG69","v":0},{"$f":"AI69","v":0},{"$f":"AK69","v":0},{"$f":"AM69","v":0},{"$f":"AO69","v":0},{"$f":"AQ69","v":0},{"$f":"AS69","v":0},{"$f":"SUM(G69:R69)/1.2","v":0}]
[{"$f":"+Score!A70","v":8},{"$f":"+Score!B70","v":" 563040608-8"},{"$f":"+Score!C70","v":" นางสาวมณฑกานต์ มูลสาร"},{"$f":"+Score!D70","v":" EN-ME (พิเศษ ม.6)"},{"$f":"+Score!E70","v":1.99},{"$f":"+Score!F70","v":"4"},0,{"$f":"Y70","v":0},{"$f":"AA70","v":0},0,0,0,0,0,0,0,0,0,0]
[{"$f":"+Score!A71","v":9},{"$f":"+Score!B71","v":" 563040609-6"},{"$f":"+Score!C71","v":" นายรัฐศาสตร์ จันใหญ่"},{"$f":"+Score!D71","v":" EN-ME (พิเศษ ม.6)"},{"$f":"+Score!E71","v":2.4700000000000002},{"$f":"+Score!F71","v":"4"},{"$f":"W71","v":0},0,0,0,0,0,0,0,0,0,0,0,0]
[{"$f":"+Score!A72","v":10},{"$f":"+Score!B72","v":" 563040610-1"},{"$f":"+Score!C72","v":" นายลักษมณ์ เฮงพูลธนา"},{"$f":"+Score!D72","v":" EN-ME (พิเศษ ม.6)"},{"$f":"+Score!E72","v":1.51},{"$f":"+Score!F72","v":"4"},0,0,0,0,0,0,0,0,0,0,0,0,0]
[{"$f":"+Score!A73","v":11},{"$f":"+Score!B73","v":" 563040614-3"},{"$f":"+Score!C73","v":" นายศิวัช เฮงพูลธนา"},{"$f":"+Score!D73","v":" EN-ME (พิเศษ ม.6)"},{"$f":"+Score!E73","v":2.21},{"$f":"+Score!F73","v":"4"},0,0,0,0,0,0,0,0,0,0,0,0,0]
[{"$f":"+Score!A74","v":12},{"$f":"+Score!B74","v":" 563040618-5"},{"$f":"+Score!C74","v":" นายเสาเอก น้อยปรีชา"},{"$f":"+Score!D74","v":" EN-ME (พิเศษ ม.6)"},{"$f":"+Score!E74","v":2.2400000000000002},{"$f":"+Score!F74","v":"4"},0,0,0,0,0,0,0,0,0,0,0,0,0]
[{"$f":"+Score!A75","v":13},{"$f":"+Score!B75","v":" 563040619-3"},{"$f":"+Score!C75","v":" นายอภิเศรษฐ์ อินทรพาณิชย์"},{"$f":"+Score!D75","v":" EN-ME (พิเศษ ม.6)"},{"$f":"+Score!E75","v":2.59},{"$f":"+Score!F75","v":"4"},0,0,0,0,0,0,0,0,0,0,0,0,0]
[{"$f":"+Score!A76","v":14},{"$f":"+Score!B76","v":" 563040620-8"},{"$f":"+Score!C76","v":" นายอมรเทพ วงษ์สมศรี"},{"$f":"+Score!D76","v":" EN-ME (พิเศษ ม.6)"},{"$f":"+Score!E76","v":2.02},{"$f":"+Score!F76","v":"4"},0,0,0,0,0,0,0,0,0,0,0,0,0]
[{"$f":"+Score!A77","v":0},{"$f":"+Score!B77","v":0},{"$f":"+Score!C77","v":0},{"$f":"+Score!D77","v":0},{"$f":"+Score!E77","v":0},{"$f":"+Score!F77","v":0},0,0,0,0,0,0,0,0,0,0,0,0,0]
[{"$f":"+Score!A78","v":0},{"$f":"+Score!B78","v":0},{"$f":"+Score!C78","v":0},{"$f":"+Score!D78","v":0},{"$f":"+Score!E78","v":0},{"$f":"+Score!F78","v":0},0,0,0,0,0,0,0,0,0,0,0,0,{"$f":"SUM(G78:R78)/1.2","v":0}]
[{"$f":"+Score!A79","v":0},{"$f":"+Score!B79","v":0},{"$f":"+Score!C79","v":0},{"$f":"+Score!D79","v":0},{"$f":"+Score!E79","v":0},{"$f":"+Score!F79","v":0},0,0,0,0,0,0,0,0,0,0,0,0,0]
[{"$f":"+Score!A80","v":0},{"$f":"+Score!B80","v":0},{"$f":"+Score!C80","v":0},{"$f":"+Score!D80","v":0},{"$f":"+Score!E80","v":0},{"$f":"+Score!F80","v":0},0,0,0,0,0,0,0,0,0,0,0,0,0]
[{"$f":"+Score!A81","v":0},{"$f":"+Score!B81","v":0},{"$f":"+Score!C81","v":0},{"$f":"+Score!D81","v":0},{"$f":"+Score!E81","v":0},{"$f":"+Score!F81","v":0},0,0,0,0,0,0,0,0,0,0,0,0,0]
[{"$f":"+Score!A82","v":0},{"$f":"+Score!B82","v":0},{"$f":"+Score!C82","v":0},{"$f":"+Score!D82","v":0},{"$f":"+Score!E82","v":0},{"$f":"+Score!F82","v":0},0,0,0,0,0,0,0,0,0,0,0,0,0]
[{"$f":"+Score!A83","v":0},{"$f":"+Score!B83","v":0},{"$f":"+Score!C83","v":0},{"$f":"+Score!D83","v":0},{"$f":"+Score!E83","v":0},{"$f":"+Score!F83","v":0},0,0,0,0,0,0,0,0,0,0,0,0,0]
[{"$f":"+Score!A84","v":0},{"$f":"+Score!B84","v":0},{"$f":"+Score!C84","v":0},{"$f":"+Score!D84","v":0},{"$f":"+Score!E84","v":0},{"$f":"+Score!F84","v":0},0,0,0,0,0,0,0,0,0,0,0,0,0]
[{"$f":"+Score!A85","v":0},{"$f":"+Score!B85","v":0},{"$f":"+Score!C85","v":0},{"$f":"+Score!D85","v":0},{"$f":"+Score!E85","v":0},{"$f":"+Score!F85","v":0},0,0,0,0,0,0,0,0,0,0,0,0,0]
[{"$f":"+Score!A86","v":0},{"$f":"+Score!B86","v":0},{"$f":"+Score!C86","v":0},{"$f":"+Score!D86","v":0},{"$f":"+Score!E86","v":0},{"$f":"+Score!F86","v":0},0,0,0,0,0,0,0,0,0,0,0,0,0]
[{"$f":"+Score!A87","v":0},{"$f":"+Score!B87","v":0},{"$f":"+Score!C87","v":0},{"$f":"+Score!D87","v":0},{"$f":"+Score!E87","v":0},{"$f":"+Score!F87","v":0},0,0,0,0,0,0,0,0,0,0,0,0,0]
[{"$f":"+Score!A88","v":0},{"$f":"+Score!B88","v":0},{"$f":"+Score!C88","v":0},{"$f":"+Score!D88","v":0},{"$f":"+Score!E88","v":0},{"$f":"+Score!F88","v":0},0,0,0,0,0,0,0,0,0,0,0,0,0]
[{"$f":"+Score!A89","v":0},{"$f":"+Score!B89","v":0},{"$f":"+Score!C89","v":0},{"$f":"+Score!D89","v":0},{"$f":"+Score!E89","v":0},{"$f":"+Score!F89","v":0},0,0,0,0,0,0,0,0,0,0,0,0,0]
[{"$f":"+Score!A90","v":0},{"$f":"+Score!B90","v":0},{"$f":"+Score!C90","v":0},{"$f":"+Score!D90","v":0},{"$f":"+Score!E90","v":0},{"$f":"+Score!F90","v":0},0,0,0,0,0,0,0,0,0,0,0,0,0]
[{"$f":"+Score!A91","v":0},{"$f":"+Score!B91","v":0},{"$f":"+Score!C91","v":0},{"$f":"+Score!D91","v":0},{"$f":"+Score!E91","v":0},{"$f":"+Score!F91","v":0},0,0,0,0,0,0,0,0,0,0,0,0,0]
[{"$f":"+Score!A92","v":0},{"$f":"+Score!B92","v":0},{"$f":"+Score!C92","v":0},{"$f":"+Score!D92","v":0},{"$f":"+Score!E92","v":0},{"$f":"+Score!F92","v":0},0,0,0,0,0,0,0,0,0,0,0,0,0]
[{"$f":"+Score!A93","v":0},{"$f":"+Score!B93","v":0},{"$f":"+Score!C93","v":0},{"$f":"+Score!D93","v":0},{"$f":"+Score!E93","v":0},{"$f":"+Score!F93","v":0},0,0,0,0,0,0,0,0,0,0,0,0,0]
[{"$f":"+Score!A94","v":0},{"$f":"+Score!B94","v":0},{"$f":"+Score!C94","v":0},{"$f":"+Score!D94","v":0},{"$f":"+Score!E94","v":0},{"$f":"+Score!F94","v":0},0,0,0,0,0,0,0,0,0,0,0,0,0]
[{"$f":"+Score!A95","v":0},{"$f":"+Score!B95","v":0},{"$f":"+Score!C95","v":0},{"$f":"+Score!D95","v":0},{"$f":"+Score!E95","v":0},{"$f":"+Score!F95","v":0},0,0,0,0,0,0,0,0,0,0,0,0,0]
[{"$f":"+Score!A96","v":0},{"$f":"+Score!B96","v":0},{"$f":"+Score!C96","v":0},{"$f":"+Score!D96","v":0},{"$f":"+Score!E96","v":0},{"$f":"+Score!F96","v":0},0,0,0,0,0,0,0,0,0,0,0,0,0]
[{"$f":"+Score!A97","v":0},{"$f":"+Score!B97","v":0},{"$f":"+Score!C97","v":0},{"$f":"+Score!D97","v":0},{"$f":"+Score!E97","v":0},{"$f":"+Score!F97","v":0},0,0,0,0,0,0,0,0,0,0,0,0,0]
[{"$f":"+Score!A98","v":0},{"$f":"+Score!B98","v":0},{"$f":"+Score!C98","v":0},{"$f":"+Score!D98","v":0},{"$f":"+Score!E98","v":0},{"$f":"+Score!F98","v":0},0,0,0,0,0,0,0,0,0,0,0,0,0]
[{"$f":"+Score!A99","v":0},{"$f":"+Score!B99","v":0},{"$f":"+Score!C99","v":0},{"$f":"+Score!D99","v":0},{"$f":"+Score!E99","v":0},{"$f":"+Score!F99","v":0},0,0,0,0,0,0,0,0,0,0,0,0,0]
[{"$f":"+Score!A100","v":0},{"$f":"+Score!B100","v":0},{"$f":"+Score!C100","v":0},{"$f":"+Score!D100","v":0},{"$f":"+Score!E100","v":0},{"$f":"+Score!F100","v":0},0,0,0,0,0,0,0,0,0,0,0,0,0]
[{"$f":"+Score!A101","v":0},{"$f":"+Score!B101","v":0},{"$f":"+Score!C101","v":0},{"$f":"+Score!D101","v":0},{"$f":"+Score!E101","v":0},{"$f":"+Score!F101","v":0},0,0,0,0,0,0,0,0,0,0,0,0,0]
[{"$f":"+Score!A102","v":0},{"$f":"+Score!B102","v":0},{"$f":"+Score!C102","v":0},{"$f":"+Score!D102","v":0},{"$f":"+Score!E102","v":0},{"$f":"+Score!F102","v":0},0,0,0,0,0,0,0,0,0,0,0,0,0]
[{"$f":"+Score!A103","v":0},{"$f":"+Score!B103","v":0},{"$f":"+Score!C103","v":0},{"$f":"+Score!D103","v":0},{"$f":"+Score!E103","v":0},{"$f":"+Score!F103","v":0},0,0,0,0,0,0,0,0,0,0,0,0,0]
[{"$f":"+Score!A104","v":0},{"$f":"+Score!B104","v":0},{"$f":"+Score!C104","v":0},{"$f":"+Score!D104","v":0},{"$f":"+Score!E104","v":0},{"$f":"+Score!F104","v":0},0,0,0,0,0,0,0,0,0,0,0,0,0]
[{"$f":"+Score!A105","v":0},{"$f":"+Score!B105","v":0},{"$f":"+Score!C105","v":0},{"$f":"+Score!D105","v":0},{"$f":"+Score!E105","v":0},{"$f":"+Score!F105","v":0},0,0,0,0,0,0,0,0,0,0,0,0,0]
[{"$f":"+Score!A106","v":0},{"$f":"+Score!B106","v":0},{"$f":"+Score!C106","v":0},{"$f":"+Score!D106","v":0},{"$f":"+Score!E106","v":0},{"$f":"+Score!F106","v":0},0,0,0,0,0,0,0,0,0,0,0,0,0]
[{"$f":"+Score!A107","v":0},{"$f":"+Score!B107","v":0},{"$f":"+Score!C107","v":0},{"$f":"+Score!D107","v":0},{"$f":"+Score!E107","v":0},{"$f":"+Score!F107","v":0},0,0,0,0,0,0,0,0,0,0,0,0,0]
[{"$f":"+Score!A108","v":0},{"$f":"+Score!B108","v":0},{"$f":"+Score!C108","v":0},{"$f":"+Score!D108","v":0},{"$f":"+Score!E108","v":0},{"$f":"+Score!F108","v":0},0,0,0,0,0,0,0,0,0,0,0,0,0]
[{"$f":"+Score!A109","v":0},{"$f":"+Score!B109","v":0},{"$f":"+Score!C109","v":0},{"$f":"+Score!D109","v":0},{"$f":"+Score!E109","v":0},{"$f":"+Score!F109","v":0},0,0,0,0,0,0,0,0,0,0,0,0,0]
[{"$f":"+Score!A110","v":0},{"$f":"+Score!B110","v":0},{"$f":"+Score!C110","v":0},{"$f":"+Score!D110","v":0},{"$f":"+Score!E110","v":0},{"$f":"+Score!F110","v":0},{"$f":"W110","v":0},{"$f":"Y110","v":0},{"$f":"AA110","v":0},{"$f":"AC110","v":0},{"$f":"AE110","v":0},0,0,0,0,0,0,0,0]

{"sheet":"TestAll","index":8,"n_rows":110,"n_cols":21,"rows_kept":110,"cut":false,"hidden":false,"merged":[]}
[null,"รายวิชา","185231 : THERMODYNAMICS I",null,null,"Section 1",5,5,null,null,{"$f":"SUM(G1:J1)","v":10},"Accumulated",null,"Full","Score","Full","Score","Full","Score","full","score"]
[null,"ปีการศึกษา","2553 ภาคการศึกษาที่ 1",null,null,"รศ.ดร.สมหมาย ปรีเปรม",5,5,null,null,{"$f":"SUM(G2:J2)","v":10},"Full score",null,30,5,35,5]
["ลำดับ"," รหัส","ชื่อ","หลักสูตร","GPA","Section","Test1","Test2","Test3","Test4","Sum",null,null,"Test1",null,"Test2",null,"Test3",null,"Test4"]
[{"$f":"Score!A4","v":1},{"$f":"Score!B4","v":" 543040669-6"},{"$f":"Score!C4","v":" นายเกียรติขจร ทัดทาอามาตย์"},{"$f":"Score!D4","v":" EN-AE"},{"$f":"Score!E4","v":2},{"$f":"Score!F4","v":1},{"$f":"+O4","v":0},{"$f":"Q4","v":0},null,null,{"$f":"SUM(G4:J4)","v":0}]
[{"$f":"Score!A5","v":2},{"$f":"Score!B5","v":" 553040404-3"},{"$f":"Score!C5","v":" นายวนัสมัญ กฤษณะสุวรรณ"},{"$f":"Score!D5","v":" EN-IE"},{"$f":"Score!E5","v":1.89},{"$f":"Score!F5","v":1},{"$f":"+O5","v":0},{"$f":"Q5","v":0},null,null,{"$f":"SUM(G5:J5)","v":0}]
[{"$f":"Score!A6","v":3},{"$f":"Score!B6","v":" 563040002-4"},{"$f":"Score!C6","v":" นายกรวิชญ์ ศรีวัฒนาปิติกุล"},{"$f":"Score!D6","v":" EN-ME"},{"$f":"Score!E6","v":3.14},{"$f":"Score!F6","v":1},0,0,null,null,0]
[{"$f":"Score!A7","v":4},{"$f":"Score!B7","v":" 563040003-2"},{"$f":"Score!C7","v":" นายกฤช ถาไชยลา"},{"$f":"Score!D7","v":" EN-ME"},{"$f":"Score!E7","v":2.84},{"$f":"Score!F7","v":1},0,0,null,null,0]
[{"$f":"Score!A8","v":5},{"$f":"Score!B8","v":" 563040022-8"},{"$f":"Score!C8","v":" นายณัฐพล สิทธิอมรพร"},{"$f":"Score!D8","v":" EN-ME"},{"$f":"Score!E8","v":3.41},{"$f":"Score!F8","v":1},0,0,null,null,0]
[{"$f":"Score!A9","v":6},{"$f":"Score!B9","v":" 563040025-2"},{"$f":"Score!C9","v":" นายทรงพล เกียรติพนมแพ"},{"$f":"Score!D9","v":" EN-IE"},{"$f":"Score!E9","v":3.04},{"$f":"Score!F9","v":1},0,0,null,null,0]
[{"$f":"Score!A10","v":7},{"$f":"Score!B10","v":" 563040032-5"},{"$f":"Score!C10","v":" นางสาวธนัชชา ใหญ่สูงเนิน"},{"$f":"Score!D10","v":" EN-IE"},{"$f":"Score!E10","v":2.76},{"$f":"Score!F10","v":1},0,0,null,null,0]
[{"$f":"Score!A11","v":8},{"$f":"Score!B11","v":" 563040043-0"},{"$f":"Score!C11","v":" นางสาวนันทิชา จริยาโสวรรณ"},{"$f":"Score!D11","v":" EN-IE"},{"$f":"Score!E11","v":2.04},{"$f":"Score!F11","v":1},0,0,null,null,0]
[{"$f":"Score!A12","v":9},{"$f":"Score!B12","v":" 563040044-8"},{"$f":"Score!C12","v":" นางสาวนิภาพร อายุวัฒน์"},{"$f":"Score!D12","v":" EN-ME"},{"$f":"Score!E12","v":2.92},{"$f":"Score!F12","v":1},0,0,null,null,0]
[{"$f":"Score!A13","v":10},{"$f":"Score!B13","v":" 563040051-1"},{"$f":"Score!C13","v":" นายพงศ์ทัช พรวิกุลรัตนา"},{"$f":"Score!D13","v":" EN-ME"},{"$f":"Score!E13","v":2.63},{"$f":"Score!F13","v":1},0,0,null,null,0]
[{"$f":"Score!A14","v":11},{"$f":"Score!B14","v":" 563040059-5"},{"$f":"Score!C14","v":" นายพสธร นามสร"},{"$f":"Score!D14","v":" EN-ME"},{"$f":"Score!E14","v":3.09},{"$f":"Score!F14","v":1},0,0,null,null,0]
[{"$f":"Score!A15","v":12},{"$f":"Score!B15","v":" 563040064-2"},{"$f":"Score!C15","v":" นางสาวภัทรามาศ ฉวีชัย"},{"$f":"Score!D15","v":" EN-IE"},{"$f":"Score!E15","v":3.12},{"$f":"Score!F15","v":1},0,0,null,null,0]
[{"$f":"Score!A16","v":13},{"$f":"Score!B16","v":" 563040065-0"},{"$f":"Score!C16","v":" นายภาคิน จำปาศักดิ์"},{"$f":"Score!D16","v":" EN-ME"},{"$f":"Score!E16","v":3.51},{"$f":"Score!F16","v":1},0,0,null,null,0]
[{"$f":"Score!A17","v":14},{"$f":"Score!B17","v":" 563040070-7"},{"$f":"Score!C17","v":" นายมหคพันธุ์ เอมกลาง"},{"$f":"Score!D17","v":" EN-ME"},{"$f":"Score!E17","v":2.71},{"$f":"Score!F17","v":1},0,0,null,null,0]
[{"$f":"Score!A18","v":15},{"$f":"Score!B18","v":" 563040071-5"},{"$f":"Score!C18","v":" นายมานะ ติรโรจน์"},{"$f":"Score!D18","v":" EN-ME"},{"$f":"Score!E18","v":3.46},{"$f":"Score!F18","v":1},0,0,null,null,0]
[{"$f":"Score!A19","v":16},{"$f":"Score!B19","v":" 563040076-5"},{"$f":"Score!C19","v":" นายรัฐศาสตร์ พลยงค์"},{"$f":"Score!D19","v":" EN-ME"},{"$f":"Score!E19","v":2.88},{"$f":"Score!F19","v":1},0,0,null,null,0]
[{"$f":"Score!A20","v":17},{"$f":"Score!B20","v":" 563040089-6"},{"$f":"Score!C20","v":" นายศวัสชัย วิวรรธนจิตต์"},{"$f":"Score!D20","v":" EN-IE"},{"$f":"Score!E20","v":2.79},{"$f":"Score!F20","v":1},0,0,null,null,0]
[{"$f":"Score!A21","v":18},{"$f":"Score!B21","v":" 563040098-5"},{"$f":"Score!C21","v":" นายสิทธิโชค ชูพงศ์พันธุ์"},{"$f":"Score!D21","v":" EN-ME"},{"$f":"Score!E21","v":2.94},{"$f":"Score!F21","v":1},0,0,null,null,0]
[{"$f":"Score!A22","v":19},{"$f":"Score!B22","v":" 563040114-3"},{"$f":"Score!C22","v":" นายคฑาวุธ ศรีโสดาพล"},{"$f":"Score!D22","v":" EN-AE"},{"$f":"Score!E22","v":1.51},{"$f":"Score!F22","v":1},0,0,null,null,0]
[{"$f":"Score!A23","v":20},{"$f":"Score!B23","v":" 563040115-1"},{"$f":"Score!C23","v":" นายจุลดิศ ทองตัน"},{"$f":"Score!D23","v":" EN-AE"},{"$f":"Score!E23","v":1.82},{"$f":"Score!F23","v":1},0,0,null,null,0]
[{"$f":"Score!A24","v":21},{"$f":"Score!B24","v":" 563040116-9"},{"$f":"Score!C24","v":" นายโชคชัย ซุยอุ้ย"},{"$f":"Score!D24","v":" EN-AE"},{"$f":"Score!E24","v":3.03},{"$f":"Score!F24","v":1},0,0,null,null,0]
[{"$f":"Score!A25","v":22},{"$f":"Score!B25","v":" 563040121-6"},{"$f":"Score!C25","v":" นายธนพล หลาบศิริ"},{"$f":"Score!D25","v":" EN-AE"},{"$f":"Score!E25","v":2.77},{"$f":"Score!F25","v":1},0,0,null,null,0]
[{"$f":"Score!A26","v":23},{"$f":"Score!B26","v":" 563040123-2"},{"$f":"Score!C26","v":" นายธนวร สันธนะสุรางค์"},{"$f":"Score!D26","v":" EN-AE"},{"$f":"Score!E26","v":2.35},{"$f":"Score!F26","v":1},0,0,null,null,0]
[{"$f":"Score!A27","v":24},{"$f":"Score!B27","v":" 563040129-0"},{"$f":"Score!C27","v":" นายพีรเมธ จุฑานันท์"},{"$f":"Score!D27","v":" EN-AE"},{"$f":"Score!E27","v":1.89},{"$f":"Score!F27","v":1},0,0,null,null,0]
[{"$f":"Score!A28","v":25},{"$f":"Score!B28","v":" 563040130-5"},{"$f":"Score!C28","v":" นายพีส คูณดี"},{"$f":"Score!D28","v":" EN-AE"},{"$f":"Score!E28","v":2.29},{"$f":"Score!F28","v":1},0,0,null,null,0]
[{"$f":"Score!A29","v":26},{"$f":"Score!B29","v":" 563040137-1"},{"$f":"Score!C29","v":" นายศุภณัฐ ลัภกิตโร"},{"$f":"Score!D29","v":" EN-AE"},{"$f":"Score!E29","v":2.58},{"$f":"Score!F29","v":1},0,0,null,null,0]
[{"$f":"Score!A30","v":27},{"$f":"Score!B30","v":" 563040139-7"},{"$f":"Score!C30","v":" นายสุธรรม ดิษาภิรมย์"},{"$f":"Score!D30","v":" EN-AE"},{"$f":"Score!E30","v":1.78},{"$f":"Score!F30","v":1},0,0,null,null,0]
[{"$f":"Score!A31","v":28},{"$f":"Score!B31","v":" 563040231-9"},{"$f":"Score!C31","v":" นายอธิการ สุริโย"},{"$f":"Score!D31","v":" EN-IE"},{"$f":"Score!E31","v":1.71},{"$f":"Score!F31","v":1},0,0,null,null,0]
[{"$f":"Score!A32","v":29},{"$f":"Score!B32","v":" 563040260-2"},{"$f":"Score!C32","v":" นางสาวณัฐณิชา ศิริเหล่าไพศาล"},{"$f":"Score!D32","v":" EN-IE"},{"$f":"Score!E32","v":3.17},{"$f":"Score!F32","v":1},0,0,null,null,0]
[{"$f":"Score!A33","v":30},{"$f":"Score!B33","v":" 563040269-4"},{"$f":"Score!C33","v":" นายกนกพล แก้วเฮียง"},{"$f":"Score!D33","v":" EN-ME"},{"$f":"Score!E33","v":3.06},{"$f":"Score!F33","v":1},0,0,null,null,0]
[{"$f":"Score!A34","v":31},{"$f":"Score!B34","v":" 563040272-5"},{"$f":"Score!C34","v":" นายกีรติ มังษา"},{"$f":"Score!D34","v":" EN-ME"},{"$f":"Score!E34","v":2.87},{"$f":"Score!F34","v":1},0,0,null,null,0]
[{"$f":"Score!A35","v":32},{"$f":"Score!B35","v":" 563040275-9"},{"$f":"Score!C35","v":" นางสาวคุณัญญา ทวีสอน"},{"$f":"Score!D35","v":" EN-ME"},{"$f":"Score!E35","v":2.69},{"$f":"Score!F35","v":1},0,0,null,null,0]
[{"$f":"Score!A36","v":33},{"$f":"Score!B36","v":" 563040289-8"},{"$f":"Score!C36","v":" นางสาวโชติณัฐ จงใจหาญ"},{"$f":"Score!D36","v":" EN-IE"},{"$f":"Score!E36","v":3},{"$f":"Score!F36","v":1},0,0,null,null,0]
[{"$f":"Score!A37","v":34},{"$f":"Score!B37","v":" 563040292-9"},{"$f":"Score!C37","v":" นางสาวฐิติพร ฐานหมั่น"},{"$f":"Score!D37","v":" EN-IE"},{"$f":"Score!E37","v":2.12},{"$f":"Score!F37","v":1},0,0,null,null,0]
[{"$f":"Score!A38","v":35},{"$f":"Score!B38","v":" 563040296-1"},{"$f":"Score!C38","v":" นางสาวณัฐชยา ทัศนจินดา"},{"$f":"Score!D38","v":" EN-IE"},{"$f":"Score!E38","v":2.75},{"$f":"Score!F38","v":1},0,0,null,null,0]
[{"$f":"Score!A39","v":36},{"$f":"Score!B39","v":" 563040304-8"},{"$f":"Score!C39","v":" นายธนพนธ์ ตั้งวัฒนสุวรรณ"},{"$f":"Score!D39","v":" EN-IE"},{"$f":"Score!E39","v":2.44},{"$f":"Score!F39","v":1},0,0,null,null,0]
[{"$f":"Score!A40","v":37},{"$f":"Score!B40","v":" 563040313-7"},{"$f":"Score!C40","v":" นายธาดา วิริยบัณฑร"},{"$f":"Score!D40","v":" EN-ME"},{"$f":"Score!E40","v":3.49},{"$f":"Score!F40","v":1},0,0,null,null,0]
[{"$f":"Score!A41","v":38},{"$f":"Score!B41","v":" 563040315-3"},{"$f":"Score!C41","v":" นางสาวธิดาวรรณ ใจตรง"},{"$f":"Score!D41","v":" EN-IE"},{"$f":"Score!E41","v":2.48},{"$f":"Score!F41","v":1},0,0,null,null,0]
[{"$f":"Score!A42","v":39},{"$f":"Score!B42","v":" 563040334-9"},{"$f":"Score!C42","v":" นายพชร ไชยสมบูรณ์"},{"$f":"Score!D42","v":" EN-IE"},{"$f":"Score!E42","v":2.3199999999999998},{"$f":"Score!F42","v":1},0,0,null,null,0]
[{"$f":"Score!A43","v":40},{"$f":"Score!B43","v":" 563040341-2"},{"$f":"Score!C43","v":" นายพิทวัส เบ้าศรี"},{"$f":"Score!D43","v":" EN-ME"},{"$f":"Score!E43","v":2.68},{"$f":"Score!F43","v":1},0,0,null,null,0]
[{"$f":"Score!A44","v":41},{"$f":"Score!B44","v":" 563040344-6"},{"$f":"Score!C44","v":" นายไพโรจน์ วงษ์จำปา"},{"$f":"Score!D44","v":" EN-ME"},{"$f":"Score!E44","v":2.61},{"$f":"Score!F44","v":1},0,0,null,null,0]
[{"$f":"Score!A45","v":42},{"$f":"Score!B45","v":" 563040346-2"},{"$f":"Score!C45","v":" นายภระรถ ผาสิงห์"},{"$f":"Score!D45","v":" EN-ME"},{"$f":"Score!E45","v":3.13},{"$f":"Score!F45","v":1},0,0,null,null,0]
[{"$f":"Score!A46","v":43},{"$f":"Score!B46","v":" 563040351-9"},{"$f":"Score!C46","v":" นางสาวมุกดารัศมิ์ อาจบรรจง"},{"$f":"Score!D46","v":" EN-ME"},{"$f":"Score!E46","v":2.96},{"$f":"Score!F46","v":1},0,0,null,null,0]
[{"$f":"Score!A47","v":44},{"$f":"Score!B47","v":" 563040359-3"},{"$f":"Score!C47","v":" นายวริษฐ์ จวงพุ่ม"},{"$f":"Score!D47","v":" EN-IE"},{"$f":"Score!E47","v":2.34},{"$f":"Score!F47","v":1},0,0,null,null,0]
[{"$f":"Score!A48","v":45},{"$f":"Score!B48","v":" 563040367-4"},{"$f":"Score!C48","v":" นายไวพจน์ แสงกุดเรือ"},{"$f":"Score!D48","v":" EN-ME"},{"$f":"Score!E48","v":2.78},{"$f":"Score!F48","v":1},0,0,null,null,0]
[{"$f":"Score!A49","v":46},{"$f":"Score!B49","v":" 563040389-4"},{"$f":"Score!C49","v":" นางสาวสุธีรา นาหัวนิล"},{"$f":"Score!D49","v":" EN-IE"},{"$f":"Score!E49","v":2.2999999999999998},{"$f":"Score!F49","v":1},0,0,null,null,0]
[{"$f":"Score!A50","v":47},{"$f":"Score!B50","v":" 563040393-3"},{"$f":"Score!C50","v":" นายสุภานุเดช ถาวิกุล"},{"$f":"Score!D50","v":" EN-IE"},{"$f":"Score!E50","v":1.58},{"$f":"Score!F50","v":1},0,0,null,null,0]
[{"$f":"Score!A51","v":48},{"$f":"Score!B51","v":" 563040394-1"},{"$f":"Score!C51","v":" นางสาวสุภาวิตา ทาเวียง"},{"$f":"Score!D51","v":" EN-IE"},{"$f":"Score!E51","v":2.37},{"$f":"Score!F51","v":1},0,0,null,null,0]
[{"$f":"Score!A52","v":49},{"$f":"Score!B52","v":" 563040396-7"},{"$f":"Score!C52","v":" นางสาวสุวนันท์ ดวงพิมาย"},{"$f":"Score!D52","v":" EN-IE"},{"$f":"Score!E52","v":2.19},{"$f":"Score!F52","v":1},0,0,null,null,0]
[{"$f":"Score!A53","v":50},{"$f":"Score!B53","v":" 563040397-5"},{"$f":"Score!C53","v":" นางสาวเหมือนฝัน จินดามณี"},{"$f":"Score!D53","v":" EN-IE"},{"$f":"Score!E53","v":1.72},{"$f":"Score!F53","v":1},0,0,null,null,0]
[{"$f":"Score!A54","v":51},{"$f":"Score!B54","v":" 563040398-3"},{"$f":"Score!C54","v":" นางสาวเหมือนฝัน เผือกไร่"},{"$f":"Score!D54","v":" EN-ME"},{"$f":"Score!E54","v":2.75},{"$f":"Score!F54","v":1},0,0,null,null,0]
[{"$f":"Score!A55","v":52},{"$f":"Score!B55","v":" 563040400-2"},{"$f":"Score!C55","v":" นายอดิศร โพธิ์ยา"},{"$f":"Score!D55","v":" EN-IE"},{"$f":"Score!E55","v":2.37},{"$f":"Score!F55","v":1},0,0,null,null,0]
[{"$f":"Score!A56","v":53},{"$f":"Score!B56","v":" 563040408-6"},{"$f":"Score!C56","v":" นายอรรถศาสตร์ สุระคาย"},{"$f":"Score!D56","v":" EN-ME"},{"$f":"Score!E56","v":2.57},{"$f":"Score!F56","v":1},0,0,null,null,0]
[{"$f":"Score!A57","v":54},{"$f":"Score!B57","v":" 563040419-1"},{"$f":"Score!C57","v":" นายชาญชัย มีสนาม"},{"$f":"Score!D57","v":" EN-AE"},{"$f":"Score!E57","v":2.88},{"$f":"Score!F57","v":1},0,0,null,null,0]
[{"$f":"Score!A58","v":55},{"$f":"Score!B58","v":" 563040424-8"},{"$f":"Score!C58","v":" นายนิติศักดิ์ แต่งเมือง"},{"$f":"Score!D58","v":" EN-AE"},{"$f":"Score!E58","v":2.2599999999999998},{"$f":"Score!F58","v":1},0,0,null,null,0]
[{"$f":"Score!A59","v":56},{"$f":"Score!B59","v":" 563040426-4"},{"$f":"Score!C59","v":" นางสาวเพชรากร ยอดสุวรรณ์"},{"$f":"Score!D59","v":" EN-AE"},{"$f":"Score!E59","v":2.89},{"$f":"Score!F59","v":1},0,0,null,null,0]
[{"$f":"Score!A60","v":57},{"$f":"Score!B60","v":" 563040431-1"},{"$f":"Score!C60","v":" นายวนัส ภูยาธร"},{"$f":"Score!D60","v":" EN-AE"},{"$f":"Score!E60","v":2.23},{"$f":"Score!F60","v":1},0,0,null,null,0]
[{"$f":"Score!A61","v":58},{"$f":"Score!B61","v":" 563040433-7"},{"$f":"Score!C61","v":" นางสาวศุภลักษณ์ เครือเพชร"},{"$f":"Score!D61","v":" EN-AE"},{"$f":"Score!E61","v":2.64},{"$f":"Score!F61","v":1},0,0,null,null,0]
[{"$f":"Score!A62","v":0},{"$f":"Score!B62","v":0},{"$f":"Score!C62","v":0},{"$f":"Score!D62","v":0},{"$f":"Score!E62","v":0},{"$f":"Score!F62","v":0},0,0,null,null,0]
[{"$f":"Score!A63","v":1},{"$f":"Score!B63","v":" 563040584-6"},{"$f":"Score!C63","v":" นายกรนันท์ พันธะสา"},{"$f":"Score!D63","v":" EN-ME (พิเศษ ม.6)"},{"$f":"Score!E63","v":2.64},{"$f":"Score!F63","v":"4"},0,0,null,null,0]
[{"$f":"Score!A64","v":2},{"$f":"Score!B64","v":" 563040586-2"},{"$f":"Score!C64","v":" นายจักรกฤษณ์ ตันเจริญ"},{"$f":"Score!D64","v":" EN-ME (พิเศษ ม.6)"},{"$f":"Score!E64","v":1.8},{"$f":"Score!F64","v":"4"},0,0,null,null,0]
[{"$f":"Score!A65","v":3},{"$f":"Score!B65","v":" 563040595-1"},{"$f":"Score!C65","v":" นายทรงภพ กระสังข์"},{"$f":"Score!D65","v":" EN-ME (พิเศษ ม.6)"},{"$f":"Score!E65","v":2.52},{"$f":"Score!F65","v":"4"},0,0,null,null,0]
[{"$f":"Score!A66","v":4},{"$f":"Score!B66","v":" 563040596-9"},{"$f":"Score!C66","v":" นายทรงศิลป์ ศิริแก้ว"},{"$f":"Score!D66","v":" EN-ME (พิเศษ ม.6)"},{"$f":"Score!E66","v":1.9},{"$f":"Score!F66","v":"4"},0,0,null,null,0]
[{"$f":"Score!A67","v":5},{"$f":"Score!B67","v":" 563040598-5"},{"$f":"Score!C67","v":" นายธนะโชติ สาโม้"},{"$f":"Score!D67","v":" EN-ME (พิเศษ ม.6)"},{"$f":"Score!E67","v":2.12},{"$f":"Score!F67","v":"4"},0,0,null,null,0]
[{"$f":"Score!A68","v":6},{"$f":"Score!B68","v":" 563040602-0"},{"$f":"Score!C68","v":" นางสาวปฏิมาภรณ์ ทักขินัย"},{"$f":"Score!D68","v":" EN-ME (พิเศษ ม.6)"},{"$f":"Score!E68","v":2.42},{"$f":"Score!F68","v":"4"},0,0,null,null,0]
[{"$f":"Score!A69","v":7},{"$f":"Score!B69","v":" 563040604-6"},{"$f":"Score!C69","v":" นายพิฆเนศ ระเบียบโอษฐ์"},{"$f":"Score!D69","v":" EN-ME (พิเศษ ม.6)"},{"$f":"Score!E69","v":1.73},{"$f":"Score!F69","v":"4"},{"$f":"+O69","v":0},{"$f":"Q69","v":0},null,null,{"$f":"SUM(G69:J69)","v":0}]
[{"$f":"Score!A70","v":8},{"$f":"Score!B70","v":" 563040608-8"},{"$f":"Score!C70","v":" นางสาวมณฑกานต์ มูลสาร"},{"$f":"Score!D70","v":" EN-ME (พิเศษ ม.6)"},{"$f":"Score!E70","v":1.99},{"$f":"Score!F70","v":"4"},0,0,null,null,0]
[{"$f":"Score!A71","v":9},{"$f":"Score!B71","v":" 563040609-6"},{"$f":"Score!C71","v":" นายรัฐศาสตร์ จันใหญ่"},{"$f":"Score!D71","v":" EN-ME (พิเศษ ม.6)"},{"$f":"Score!E71","v":2.4700000000000002},{"$f":"Score!F71","v":"4"},0,0,null,null,0]
[{"$f":"Score!A72","v":10},{"$f":"Score!B72","v":" 563040610-1"},{"$f":"Score!C72","v":" นายลักษมณ์ เฮงพูลธนา"},{"$f":"Score!D72","v":" EN-ME (พิเศษ ม.6)"},{"$f":"Score!E72","v":1.51},{"$f":"Score!F72","v":"4"},0,0,null,null,0]
[{"$f":"Score!A73","v":11},{"$f":"Score!B73","v":" 563040614-3"},{"$f":"Score!C73","v":" นายศิวัช เฮงพูลธนา"},{"$f":"Score!D73","v":" EN-ME (พิเศษ ม.6)"},{"$f":"Score!E73","v":2.21},{"$f":"Score!F73","v":"4"},0,0,null,null,0]
[{"$f":"Score!A74","v":12},{"$f":"Score!B74","v":" 563040618-5"},{"$f":"Score!C74","v":" นายเสาเอก น้อยปรีชา"},{"$f":"Score!D74","v":" EN-ME (พิเศษ ม.6)"},{"$f":"Score!E74","v":2.2400000000000002},{"$f":"Score!F74","v":"4"},0,0,null,null,0]
[{"$f":"Score!A75","v":13},{"$f":"Score!B75","v":" 563040619-3"},{"$f":"Score!C75","v":" นายอภิเศรษฐ์ อินทรพาณิชย์"},{"$f":"Score!D75","v":" EN-ME (พิเศษ ม.6)"},{"$f":"Score!E75","v":2.59},{"$f":"Score!F75","v":"4"},0,0,null,null,0]
[{"$f":"Score!A76","v":14},{"$f":"Score!B76","v":" 563040620-8"},{"$f":"Score!C76","v":" นายอมรเทพ วงษ์สมศรี"},{"$f":"Score!D76","v":" EN-ME (พิเศษ ม.6)"},{"$f":"Score!E76","v":2.02},{"$f":"Score!F76","v":"4"},0,0,null,null,0]
[{"$f":"Score!A77","v":0},{"$f":"Score!B77","v":0},{"$f":"Score!C77","v":0},{"$f":"Score!D77","v":0},{"$f":"Score!E77","v":0},{"$f":"Score!F77","v":0},0,0,null,null,0]
[{"$f":"Score!A78","v":0},{"$f":"Score!B78","v":0},{"$f":"Score!C78","v":0},{"$f":"Score!D78","v":0},{"$f":"Score!E78","v":0},{"$f":"Score!F78","v":0},0,0,null,null,0]
[{"$f":"Score!A79","v":0},{"$f":"Score!B79","v":0},{"$f":"Score!C79","v":0},{"$f":"Score!D79","v":0},{"$f":"Score!E79","v":0},{"$f":"Score!F79","v":0},0,0,null,null,0]
[{"$f":"Score!A80","v":0},{"$f":"Score!B80","v":0},{"$f":"Score!C80","v":0},{"$f":"Score!D80","v":0},{"$f":"Score!E80","v":0},{"$f":"Score!F80","v":0},0,0,null,null,0]
[{"$f":"Score!A81","v":0},{"$f":"Score!B81","v":0},{"$f":"Score!C81","v":0},{"$f":"Score!D81","v":0},{"$f":"Score!E81","v":0},{"$f":"Score!F81","v":0},0,0,null,null,0]
[{"$f":"Score!A82","v":0},{"$f":"Score!B82","v":0},{"$f":"Score!C82","v":0},{"$f":"Score!D82","v":0},{"$f":"Score!E82","v":0},{"$f":"Score!F82","v":0},0,0,null,null,0]
[{"$f":"Score!A83","v":0},{"$f":"Score!B83","v":0},{"$f":"Score!C83","v":0},{"$f":"Score!D83","v":0},{"$f":"Score!E83","v":0},{"$f":"Score!F83","v":0},0,0,null,null,0]
[{"$f":"Score!A84","v":0},{"$f":"Score!B84","v":0},{"$f":"Score!C84","v":0},{"$f":"Score!D84","v":0},{"$f":"Score!E84","v":0},{"$f":"Score!F84","v":0},0,0,null,null,0]
[{"$f":"Score!A85","v":0},{"$f":"Score!B85","v":0},{"$f":"Score!C85","v":0},{"$f":"Score!D85","v":0},{"$f":"Score!E85","v":0},{"$f":"Score!F85","v":0},0,0,null,null,0]
[{"$f":"Score!A86","v":0},{"$f":"Score!B86","v":0},{"$f":"Score!C86","v":0},{"$f":"Score!D86","v":0},{"$f":"Score!E86","v":0},{"$f":"Score!F86","v":0},0,0,null,null,0]
[{"$f":"Score!A87","v":0},{"$f":"Score!B87","v":0},{"$f":"Score!C87","v":0},{"$f":"Score!D87","v":0},{"$f":"Score!E87","v":0},{"$f":"Score!F87","v":0},0,0,null,null,0]
[{"$f":"Score!A88","v":0},{"$f":"Score!B88","v":0},{"$f":"Score!C88","v":0},{"$f":"Score!D88","v":0},{"$f":"Score!E88","v":0},{"$f":"Score!F88","v":0},0,0,null,null,0]
[{"$f":"Score!A89","v":0},{"$f":"Score!B89","v":0},{"$f":"Score!C89","v":0},{"$f":"Score!D89","v":0},{"$f":"Score!E89","v":0},{"$f":"Score!F89","v":0},0,0,null,null,0]
[{"$f":"Score!A90","v":0},{"$f":"Score!B90","v":0},{"$f":"Score!C90","v":0},{"$f":"Score!D90","v":0},{"$f":"Score!E90","v":0},{"$f":"Score!F90","v":0},0,0,null,null,0]
[{"$f":"Score!A91","v":0},{"$f":"Score!B91","v":0},{"$f":"Score!C91","v":0},{"$f":"Score!D91","v":0},{"$f":"Score!E91","v":0},{"$f":"Score!F91","v":0},0,0,null,null,0]
[{"$f":"Score!A92","v":0},{"$f":"Score!B92","v":0},{"$f":"Score!C92","v":0},{"$f":"Score!D92","v":0},{"$f":"Score!E92","v":0},{"$f":"Score!F92","v":0},0,0,null,null,0]
[{"$f":"Score!A93","v":0},{"$f":"Score!B93","v":0},{"$f":"Score!C93","v":0},{"$f":"Score!D93","v":0},{"$f":"Score!E93","v":0},{"$f":"Score!F93","v":0},0,0,null,null,0]
[{"$f":"Score!A94","v":0},{"$f":"Score!B94","v":0},{"$f":"Score!C94","v":0},{"$f":"Score!D94","v":0},{"$f":"Score!E94","v":0},{"$f":"Score!F94","v":0},0,0,null,null,0]
[{"$f":"Score!A95","v":0},{"$f":"Score!B95","v":0},{"$f":"Score!C95","v":0},{"$f":"Score!D95","v":0},{"$f":"Score!E95","v":0},{"$f":"Score!F95","v":0},0,0,null,null,0]
[{"$f":"Score!A96","v":0},{"$f":"Score!B96","v":0},{"$f":"Score!C96","v":0},{"$f":"Score!D96","v":0},{"$f":"Score!E96","v":0},{"$f":"Score!F96","v":0},0,0,null,null,0]
[{"$f":"Score!A97","v":0},{"$f":"Score!B97","v":0},{"$f":"Score!C97","v":0},{"$f":"Score!D97","v":0},{"$f":"Score!E97","v":0},{"$f":"Score!F97","v":0},0,0,null,null,0]
[{"$f":"Score!A98","v":0},{"$f":"Score!B98","v":0},{"$f":"Score!C98","v":0},{"$f":"Score!D98","v":0},{"$f":"Score!E98","v":0},{"$f":"Score!F98","v":0},0,0,null,null,0]
[{"$f":"Score!A99","v":0},{"$f":"Score!B99","v":0},{"$f":"Score!C99","v":0},{"$f":"Score!D99","v":0},{"$f":"Score!E99","v":0},{"$f":"Score!F99","v":0},0,0,null,null,0]
[{"$f":"Score!A100","v":0},{"$f":"Score!B100","v":0},{"$f":"Score!C100","v":0},{"$f":"Score!D100","v":0},{"$f":"Score!E100","v":0},{"$f":"Score!F100","v":0},0,0,null,null,0]
[{"$f":"Score!A101","v":0},{"$f":"Score!B101","v":0},{"$f":"Score!C101","v":0},{"$f":"Score!D101","v":0},{"$f":"Score!E101","v":0},{"$f":"Score!F101","v":0},0,0,null,null,0]
[{"$f":"Score!A102","v":0},{"$f":"Score!B102","v":0},{"$f":"Score!C102","v":0},{"$f":"Score!D102","v":0},{"$f":"Score!E102","v":0},{"$f":"Score!F102","v":0},0,0,null,null,0]
[{"$f":"Score!A103","v":0},{"$f":"Score!B103","v":0},{"$f":"Score!C103","v":0},{"$f":"Score!D103","v":0},{"$f":"Score!E103","v":0},{"$f":"Score!F103","v":0},0,0,null,null,0]
[{"$f":"Score!A104","v":0},{"$f":"Score!B104","v":0},{"$f":"Score!C104","v":0},{"$f":"Score!D104","v":0},{"$f":"Score!E104","v":0},{"$f":"Score!F104","v":0},0,0,null,null,0]
[{"$f":"Score!A105","v":0},{"$f":"Score!B105","v":0},{"$f":"Score!C105","v":0},{"$f":"Score!D105","v":0},{"$f":"Score!E105","v":0},{"$f":"Score!F105","v":0},0,0,null,null,0]
[{"$f":"Score!A106","v":0},{"$f":"Score!B106","v":0},{"$f":"Score!C106","v":0},{"$f":"Score!D106","v":0},{"$f":"Score!E106","v":0},{"$f":"Score!F106","v":0},0,0,null,null,0]
[{"$f":"Score!A107","v":0},{"$f":"Score!B107","v":0},{"$f":"Score!C107","v":0},{"$f":"Score!D107","v":0},{"$f":"Score!E107","v":0},{"$f":"Score!F107","v":0},0,0,null,null,0]
[{"$f":"Score!A108","v":0},{"$f":"Score!B108","v":0},{"$f":"Score!C108","v":0},{"$f":"Score!D108","v":0},{"$f":"Score!E108","v":0},{"$f":"Score!F108","v":0},0,0,null,null,0]
[{"$f":"Score!A109","v":0},{"$f":"Score!B109","v":0},{"$f":"Score!C109","v":0},{"$f":"Score!D109","v":0},{"$f":"Score!E109","v":0},{"$f":"Score!F109","v":0},0,0,null,null,0]
[{"$f":"Score!A110","v":0},{"$f":"Score!B110","v":0},{"$f":"Score!C110","v":0},{"$f":"Score!D110","v":0},{"$f":"Score!E110","v":0},{"$f":"Score!F110","v":0},{"$f":"+O110","v":0},0,null,null,{"$f":"SUM(G110:J110)","v":0}]

{"sheet":"Midterm","index":9,"n_rows":155,"n_cols":9,"rows_kept":155,"cut":false,"hidden":false,"merged":[[0,0,1,2],[2,0,2,8],[154,0,154,8],[166,0,166,8]]}
["195231 : THERMODYNAMICS I",null,null,"ข้อ 1","ข้อ 2","ข้อ 3","ข้อ 4","ข้อ 5","รวม"]
[null,null,null,10,10,10,10,10,{"$f":"SUM(D2:H2)","v":50}]
["Section 1"]
[1," 553040026-9"," นางสาวกนกกาญจน์ อุปสาร",null,null,null,null,null,{"$f":"SUM(D4:H4)","v":0}]
[2," 553040032-4"," นายกิตติภัทร จิตรกสิกร",null,null,null,null,null,0]
[3," 553040033-2"," นายกิรติกร แก้วปานกัน",null,null,null,null,null,0]
[4," 553040041-3"," นางสาวชนาธินาถ โสกงโสด",null,null,null,null,null,0]
[5," 553040045-5"," นายณัฏฐกิตติ์ พูลประสงค์",null,null,null,null,null,0]
[6," 553040047-1"," นายณัฐพงษ์ กลิ่นมาลี",null,null,null,null,null,0]
[7," 553040049-7"," นายณัฐวัตร สุขสำราญ",null,null,null,null,null,0]
[8," 553040050-2"," นายณัฐวุฒิ ฆารประเดิม",null,null,null,null,null,0]
[9," 553040052-8"," นายถิรวัฒน์ แก้วคำปอด",null,null,null,null,null,0]
[10," 553040057-8"," นายธนวิชญ์ เลิศวุฒิชัยกุล",null,null,null,null,null,0]
[11," 553040059-4"," นายธนากร บุญดาว",null,null,null,null,null,0]
[12," 553040060-9"," นายธนานนท์ ติรวีรขจร",null,null,null,null,null,0]
[13," 553040061-7"," นายธนารักษ์ ศรีน้อย",null,null,null,null,null,0]
[14," 553040063-3"," นายธีรเจต เตรียมวิชานนท์",null,null,null,null,null,0]
[15," 553040064-1"," นายธีรพล เตชะเสน",null,null,null,null,null,0]
[16," 553040071-4"," นายบรรยง ชัยยิ่ง",null,null,null,null,null,0]
[17," 553040072-2"," นายบัญชา แก้วอาจ",null,null,null,null,null,0]
[18," 553040083-7"," นายพันธวัช เก็มประโคน",null,null,null,null,null,0]
[19," 553040085-3"," นายพิพัฒน์ รักทองจัน",null,null,null,null,null,0]
[20," 553040087-9"," นายพิภัทรยา ศิริแว่น",null,null,null,null,null,0]
[21," 553040092-6"," นายยศพนธ์ จันทร์วิเมลือง",null,null,null,null,null,0]
[22," 553040094-2"," นายยุทธการ แสนเสนา",null,null,null,null,null,0]
[23," 553040095-0"," นายยุทธนา พิริยะสุทธิ์",null,null,null,null,null,0]
[24," 553040101-1"," นายวรพล จันทร์ผิว",null,null,null,null,null,0]
[25," 553040104-5"," นายวรานนท์ ยุทธอมร",null,null,null,null,null,0]
[26," 553040106-1"," นายวศิน คำปัญโญ",null,null,null,null,null,0]
[27," 553040108-7"," นายวิชญสิทธิ์ พันธุ์รักษา",null,null,null,null,null,0]
[28," 553040121-5"," นายสิริวุฒิ ภูมิภูเขียว",null,null,null,null,null,0]
[29," 553040123-1"," นางสาวหทัยชนก ปัญญาบุตร",null,null,null,null,null,0]
[30," 553040126-5"," นายอนวัช คงวีระวัฒน์",null,null,null,null,null,0]
[31," 553040132-0"," นางสาวอรทัย ยอดแก้วพิสัย",null,null,null,null,null,0]
[32," 553040133-8"," นายอรรถชัย ทองสุข",null,null,null,null,null,0]
[33," 553040136-2"," นางสาวอัชฌา เสาร์สิงห์",null,null,null,null,null,0]
[34," 553040137-0"," นางสาวอัชรา เชาว์ชอบ",null,null,null,null,null,0]
[35," 553040146-9"," นายเจษฎา พลชา",null,null,null,null,null,0]
[36," 553040148-5"," นายเชษฐทรัพย์ ทองคำใส",null,null,null,null,null,0]
[37," 553040149-3"," นายณัฐพงษ์ เหล่าจูม",null,null,null,null,null,0]
[38," 553040154-0"," นางสาวนฤมล พรมพุ้ย",null,null,null,null,null,0]
[39," 553040163-9"," นางสาววาสนา เคเมือง",null,null,null,null,null,0]
[40," 553040164-7"," นายวิภูรินทร์ เลิศพนาลัย",null,null,null,null,null,0]
[41," 553040167-1"," นายอดิศักดิ์ มุนนี",null,null,null,null,null,0]
[42," 553040169-7"," นายอภิสิทธิ์ รังสิมาวงศ์",null,null,null,null,null,0]
[43," 553040170-2"," นายอาทิตย์ ภูผาผุด",null,null,null,null,null,0]
[44," 553040281-3"," นายทวิชาติ อัครสันตติกุล",null,null,null,null,null,0]
[45," 553040285-5"," นางสาวกนกอร แดงน้อย",null,null,null,null,null,0]
[46," 553040289-7"," นายกัมปนาท ชาวดร",null,null,null,null,null,0]
[47," 553040290-2"," นายกานตภณ รุ่งฤทัยวัฒน์",null,null,null,null,null,0]
[48," 553040297-8"," นางสาวขวัญตา สุวรรณจันทร์",null,null,null,null,null,0]
[49," 553040298-6"," นายคฑาวุธ นิลคุณ",null,null,null,null,null,0]
[50," 553040302-1"," นายจรูญวิทย์ ยึนประโคน",null,null,null,null,null,0]
[51," 553040310-2"," นายจีระวัฒน์ ศรีมีชัย",null,null,null,null,null,0]
[52," 553040312-8"," นางสาวจุฑารัตน์ เลยยุทธ",null,null,null,null,null,0]
[53," 553040315-2"," นางสาวจุฬารัตน์ แสนวงษ์",null,null,null,null,null,0]
[54," 553040316-0"," นางสาวเจนจิรา ปิยาโยค",null,null,null,null,null,0]
[55," 553040317-8"," นายเจนณรงค์ อยู่ยง",null,null,null,null,null,0]
[56," 553040320-9"," นางสาวชลธิชา นาสินสร้อย",null,null,null,null,null,0]
[57," 553040321-7"," นายชลวิทย์ พิสิฐรัตนวงศ์",null,null,null,null,null,0]
[58," 553040326-7"," นางสาวญาดา ยิ้มยินดี",null,null,null,null,null,0]
[59," 553040336-4"," นายทวีรัช ทาจันทร์",null,null,null,null,null,0]
[60," 553040339-8"," นายแทนพงศ์ พุทธลา",null,null,null,null,null,0]
[61," 553040340-3"," นายธนกฤต เหล่าพิเดช",null,null,null,null,null,0]
[62," 553040346-1"," นางสาวธันยมัย มูลมณี",null,null,null,null,null,0]
[63," 553040347-9"," นายธันวา ไกยราช",null,null,null,null,null,0]
[64," 553040349-5"," นายธิบดี ธิแก้ว",null,null,null,null,null,0]
[65," 553040359-2"," นางสาวเบญจวรรณ มั่นวงษ์",null,null,null,null,null,{"$f":"SUM(D68:H68)","v":0}]
[66," 553040365-7"," นางสาวปรีม สุขเสนีย์",null,null,null,null,null,0]
[67," 553040368-1"," นางสาวปุณฑริกา สิทธิกรชัย",null,null,null,null,null,0]
[68," 553040380-1"," นายพิธพล พลเพชร",null,null,null,null,null,0]
[69," 553040383-5"," นายพีระพงษ์ สิมงาม",null,null,null,null,null,0]
[70," 553040386-9"," นายภัทรพล สารผล",null,null,null,null,null,0]
[71," 553040387-7"," นายภาคภูมิ ประเสริฐ",null,null,null,null,null,0]
[72," 553040391-6"," นายมารุต พลวัน",null,null,null,null,null,0]
[73," 553040397-4"," นายรัชชานนท์ หาญกล้า",null,null,null,null,null,0]
[74," 553040400-1"," นายวงศธร เอียตระกูลไพบูลย์",null,null,null,null,null,0]
[75," 553040401-9"," นายวชิรวิทย์ นวรัตนากร",null,null,null,null,null,0]
[76," 553040404-3"," นายวนัสมัญ กฤษณะสุวรรณ",null,null,null,null,null,0]
[77," 553040417-4"," นางสาวศศิวิมล กองพันธ์",null,null,null,null,null,0]
[78," 553040420-5"," นางสาวศิรินาถ ดวงพิมพ์",null,null,null,null,null,0]
[79," 553040426-3"," นายสหภาพ เพียรชนะ",null,null,null,null,null,0]
[80," 553040427-1"," นายสิทธิชัย เมืองโคตร",null,null,null,null,null,0]
[81," 553040428-9"," นางสาวสุกัญญา ธารานุวงศ์",null,null,null,null,null,0]
[82," 553040429-7"," นางสาวสุกัญญา เวียงสิมา",null,null,null,null,null,0]
[83," 553040430-2"," นางสาวสุฑิฌา อินทนนท์",null,null,null,null,null,0]
[84," 553040434-4"," นางสาวสุรัชนา ตุ่นแก้ว",null,null,null,null,null,0]
[85," 553040436-0"," นายเสฎฐฌาน น้อยอาษา",null,null,null,null,null,0]
[86," 553040448-3"," นายอาทิตย์ ขาวสนิท",null,null,null,null,null,0]
[87," 553040449-1"," นายอานุภาพ วิจบ",null,null,null,null,null,0]
[88," 553040450-6"," นายเอกราช คำงาม",null,null,null,null,null,0]
[89," 553040454-8"," นายกลวัชร จงฤาชา",null,null,null,null,null,0]
[90," 553040458-0"," นางสาวจุฬาลักษณ์ ชมภูรักษ์",null,null,null,null,null,0]
[91," 553040464-5"," นางสาวทิชากร จุลพันธ์",null,null,null,null,null,0]
[92," 553040467-9"," นายนพพล รัตน์ปิยะภาภรณ์",null,null,null,null,null,0]
[93," 553040468-7"," นางสาวบังอร ทนน้ำ",null,null,null,null,null,0]
[94," 553040476-8"," นายมงคลลักษ์ วงษ์ศรีมี",null,null,null,null,null,0]
[95," 553040485-7"," นายอานันต์ หอมเนียม",null,null,null,null,null,0]
[1," 553040614-2"," นายจตุรงค์ ถนอมศิลป์",null,null,null,null,null,{"$f":"SUM(D99:H99)","v":0}]
[2," 553040617-6"," นายชัยศิริ ลี้มีธรรม",null,null,null,null,null,0]
[3," 553040618-4"," นายเชษฐพงษ์ สาขา",null,null,null,null,null,0]
[4," 553040621-5"," นายณัฐพล หอมจะบก",null,null,null,null,null,0]
[5," 553040622-3"," นายทศพล ฉายจรุง",null,null,null,null,null,0]
[6," 553040623-1"," นายเทพนรินทร์ อินธิราช",null,null,null,null,null,0]
[7," 553040624-9"," นายธนะสิทธิ์ รุจิระโชติวัฒน์",null,null,null,null,null,0]
[8," 553040625-7"," นายธีรศักดิ์ สังสิทธิสวัสดิ์",null,null,null,null,null,0]
[9," 553040626-5"," นายปฏิภาณ สังข์ชัย",null,null,null,null,null,0]
[10," 553040631-2"," นายพงศ์รัตน์ ณ หนองคาย",null,null,null,null,null,0]
[11," 553040636-2"," นายรัชชานนท์ บุญอาษา",null,null,null,null,null,0]
[12," 563040310-3"," นางสาวธัญชนก ธีระเดชธำรง",null,null,null,null,null,0]
[]
[]
[]
[]
[]
[]
[]
[]
[]
[]
[]
[]
[]
[]
[]
[]
[]
[]
[]
[]
[]
[]
[]
[]
[]
[]
[]
[]
[]
[]
[]
[]
[]
[]
[]
[]
[]
[]
[]
[]
[]
[]
[]
[]
["Section 4"]

{"sheet":"Name","index":10,"n_rows":76,"n_cols":11,"rows_kept":76,"cut":false,"hidden":false,"merged":[]}
[null,"รายวิชา","195231 : THERMODYNAMICS I",null,null,null,null,null,null,null,"Section 1 & 4"]
[null,"ปีการศึกษา","2557 ภาคการศึกษาที่ 1",null,null,null,null,null,null,null,"รศ.ดร.สมหมาย ปรีเปรม"]
["ลำดับ"," รหัส","ชื่อ","หลักสูตร","สถานภาพ","เกรด","GPA","Section"]
[1," 543040669-6"," นายเกียรติขจร ทัดทาอามาตย์"," EN-AE",10," ",2,1]
[2," 553040404-3"," นายวนัสมัญ กฤษณะสุวรรณ"," EN-IE",10," ",1.89,1]
[3," 563040002-4"," นายกรวิชญ์ ศรีวัฒนาปิติกุล"," EN-ME",10," ",3.14,1]
[4," 563040003-2"," นายกฤช ถาไชยลา"," EN-ME",10," ",2.84,1]
[5," 563040022-8"," นายณัฐพล สิทธิอมรพร"," EN-ME",10," ",3.41,1]
[6," 563040025-2"," นายทรงพล เกียรติพนมแพ"," EN-IE",10," ",3.04,1]
[7," 563040032-5"," นางสาวธนัชชา ใหญ่สูงเนิน"," EN-IE",10," ",2.76,1]
[8," 563040043-0"," นางสาวนันทิชา จริยาโสวรรณ"," EN-IE",10," ",2.04,1]
[9," 563040044-8"," นางสาวนิภาพร อายุวัฒน์"," EN-ME",10," ",2.92,1]
[10," 563040051-1"," นายพงศ์ทัช พรวิกุลรัตนา"," EN-ME",10," ",2.63,1]
[11," 563040059-5"," นายพสธร นามสร"," EN-ME",10," ",3.09,1]
[12," 563040064-2"," นางสาวภัทรามาศ ฉวีชัย"," EN-IE",10," ",3.12,1]
[13," 563040065-0"," นายภาคิน จำปาศักดิ์"," EN-ME",10," ",3.51,1]
[14," 563040070-7"," นายมหคพันธุ์ เอมกลาง"," EN-ME",10," ",2.71,1]
[15," 563040071-5"," นายมานะ ติรโรจน์"," EN-ME",10," ",3.46,1]
[16," 563040076-5"," นายรัฐศาสตร์ พลยงค์"," EN-ME",10," ",2.88,1]
[17," 563040089-6"," นายศวัสชัย วิวรรธนจิตต์"," EN-IE",10," ",2.79,1]
[18," 563040098-5"," นายสิทธิโชค ชูพงศ์พันธุ์"," EN-ME",10," ",2.94,1]
[19," 563040114-3"," นายคฑาวุธ ศรีโสดาพล"," EN-AE",10," ",1.51,1]
[20," 563040115-1"," นายจุลดิศ ทองตัน"," EN-AE",10," ",1.82,1]
[21," 563040116-9"," นายโชคชัย ซุยอุ้ย"," EN-AE",10," ",3.03,1]
[22," 563040121-6"," นายธนพล หลาบศิริ"," EN-AE",10," ",2.77,1]
[23," 563040123-2"," นายธนวร สันธนะสุรางค์"," EN-AE",10," ",2.35,1]
[24," 563040129-0"," นายพีรเมธ จุฑานันท์"," EN-AE",10," ",1.89,1]
[25," 563040130-5"," นายพีส คูณดี"," EN-AE",10," ",2.29,1]
[26," 563040137-1"," นายศุภณัฐ ลัภกิตโร"," EN-AE",10," ",2.58,1]
[27," 563040139-7"," นายสุธรรม ดิษาภิรมย์"," EN-AE",10," ",1.78,1]
[28," 563040231-9"," นายอธิการ สุริโย"," EN-IE",10," ",1.71,1]
[29," 563040260-2"," นางสาวณัฐณิชา ศิริเหล่าไพศาล"," EN-IE",10," ",3.17,1]
[30," 563040269-4"," นายกนกพล แก้วเฮียง"," EN-ME",10," ",3.06,1]
[31," 563040272-5"," นายกีรติ มังษา"," EN-ME",10," ",2.87,1]
[32," 563040275-9"," นางสาวคุณัญญา ทวีสอน"," EN-ME",10," ",2.69,1]
[33," 563040289-8"," นางสาวโชติณัฐ จงใจหาญ"," EN-IE",10," ",3,1]
[34," 563040292-9"," นางสาวฐิติพร ฐานหมั่น"," EN-IE",10," ",2.12,1]
[35," 563040296-1"," นางสาวณัฐชยา ทัศนจินดา"," EN-IE",10," ",2.75,1]
[36," 563040304-8"," นายธนพนธ์ ตั้งวัฒนสุวรรณ"," EN-IE",10," ",2.44,1]
[37," 563040313-7"," นายธาดา วิริยบัณฑร"," EN-ME",10," ",3.49,1]
[38," 563040315-3"," นางสาวธิดาวรรณ ใจตรง"," EN-IE",10," ",2.48,1]
[39," 563040334-9"," นายพชร ไชยสมบูรณ์"," EN-IE",10," ",2.3199999999999998,1]
[40," 563040341-2"," นายพิทวัส เบ้าศรี"," EN-ME",10," ",2.68,1]
[41," 563040344-6"," นายไพโรจน์ วงษ์จำปา"," EN-ME",10," ",2.61,1]
[42," 563040346-2"," นายภระรถ ผาสิงห์"," EN-ME",10," ",3.13,1]
[43," 563040351-9"," นางสาวมุกดารัศมิ์ อาจบรรจง"," EN-ME",10," ",2.96,1]
[44," 563040359-3"," นายวริษฐ์ จวงพุ่ม"," EN-IE",10," ",2.34,1]
[45," 563040367-4"," นายไวพจน์ แสงกุดเรือ"," EN-ME",10," ",2.78,1]
[46," 563040389-4"," นางสาวสุธีรา นาหัวนิล"," EN-IE",10," ",2.2999999999999998,1]
[47," 563040393-3"," นายสุภานุเดช ถาวิกุล"," EN-IE",10," ",1.58,1]
[48," 563040394-1"," นางสาวสุภาวิตา ทาเวียง"," EN-IE",10," ",2.37,1]
[49," 563040396-7"," นางสาวสุวนันท์ ดวงพิมาย"," EN-IE",10," ",2.19,1]
[50," 563040397-5"," นางสาวเหมือนฝัน จินดามณี"," EN-IE",10," ",1.72,1]
[51," 563040398-3"," นางสาวเหมือนฝัน เผือกไร่"," EN-ME",10," ",2.75,1]
[52," 563040400-2"," นายอดิศร โพธิ์ยา"," EN-IE",10," ",2.37,1]
[53," 563040408-6"," นายอรรถศาสตร์ สุระคาย"," EN-ME",10," ",2.57,1]
[54," 563040419-1"," นายชาญชัย มีสนาม"," EN-AE",10," ",2.88,1]
[55," 563040424-8"," นายนิติศักดิ์ แต่งเมือง"," EN-AE",10," ",2.2599999999999998,1]
[56," 563040426-4"," นางสาวเพชรากร ยอดสุวรรณ์"," EN-AE",10," ",2.89,1]
[57," 563040431-1"," นายวนัส ภูยาธร"," EN-AE",10," ",2.23,1]
[58," 563040433-7"," นางสาวศุภลักษณ์ เครือเพชร"," EN-AE",10," ",2.64,1]
[]
[1," 563040584-6"," นายกรนันท์ พันธะสา"," EN-ME (พิเศษ ม.6)",10," ",2.64,"4"]
[2," 563040586-2"," นายจักรกฤษณ์ ตันเจริญ"," EN-ME (พิเศษ ม.6)",10," ",1.8,"4"]
[3," 563040595-1"," นายทรงภพ กระสังข์"," EN-ME (พิเศษ ม.6)",10," ",2.52,"4"]
[4," 563040596-9"," นายทรงศิลป์ ศิริแก้ว"," EN-ME (พิเศษ ม.6)",10," ",1.9,"4"]
[5," 563040598-5"," นายธนะโชติ สาโม้"," EN-ME (พิเศษ ม.6)",10," ",2.12,"4"]
[6," 563040602-0"," นางสาวปฏิมาภรณ์ ทักขินัย"," EN-ME (พิเศษ ม.6)",10," ",2.42,"4"]
[7," 563040604-6"," นายพิฆเนศ ระเบียบโอษฐ์"," EN-ME (พิเศษ ม.6)",10," ",1.73,"4"]
[8," 563040608-8"," นางสาวมณฑกานต์ มูลสาร"," EN-ME (พิเศษ ม.6)",10," ",1.99,"4"]
[9," 563040609-6"," นายรัฐศาสตร์ จันใหญ่"," EN-ME (พิเศษ ม.6)",10," ",2.4700000000000002,"4"]
[10," 563040610-1"," นายลักษมณ์ เฮงพูลธนา"," EN-ME (พิเศษ ม.6)",10," ",1.51,"4"]
[11," 563040614-3"," นายศิวัช เฮงพูลธนา"," EN-ME (พิเศษ ม.6)",10," ",2.21,"4"]
[12," 563040618-5"," นายเสาเอก น้อยปรีชา"," EN-ME (พิเศษ ม.6)",10," ",2.2400000000000002,"4"]
[13," 563040619-3"," นายอภิเศรษฐ์ อินทรพาณิชย์"," EN-ME (พิเศษ ม.6)",10," ",2.59,"4"]
[14," 563040620-8"," นายอมรเทพ วงษ์สมศรี"," EN-ME (พิเศษ ม.6)",10," ",2.02,"4"]

{"sheet":"Test1 Name","index":11,"n_rows":46,"n_cols":9,"rows_kept":46,"cut":false,"hidden":false,"merged":[]}
["รายวิชา  195231 : THERMODYNAMICS I",null,null,null,null,"ปีการศึกษา 2556 ภาคการศึกษาที่ 1",null,null,"รศ.ดร.สมหมาย ปรีเปรม"]
[null,"Test 1  Saturday 27 September 2014",null,null,null,null,null,null,"Section 1&4"]
["ที่"," รหัส","ชื่อ",null,null,"ที่"," รหัส","ชื่อ"]
[1," 513041112-7"," นายมติชน โอษะคลัง",null,null,44," 563040289-8"," นางสาวโชติณัฐ จงใจหาญ"]
[2," 543040294-3"," นายอธิปไตย นวลศิริ",null,null,45," 563040292-9"," นางสาวฐิติพร ฐานหมั่น"]
[3," 543040669-6"," นายเกียรติขจร ทัดทาอามาตย์",null,null,46," 563040296-1"," นางสาวณัฐชยา ทัศนจินดา"]
[4," 543040670-1"," นางสาวขนิษฐา ทวีแสง",null,null,47," 563040297-9"," นายณัฐภัทร ศรีสม"]
[5," 543040677-7"," นายธีรภัทร แก้วมะ",null,null,48," 563040304-8"," นายธนพนธ์ ตั้งวัฒนสุวรรณ"]
[6," 563040002-4"," นายกรวิชญ์ ศรีวัฒนาปิติกุล",null,null,49," 563040313-7"," นายธาดา วิริยบัณฑร"]
[7," 563040003-2"," นายกฤช ถาไชยลา",null,null,50," 563040315-3"," นางสาวธิดาวรรณ ใจตรง"]
[8," 563040022-8"," นายณัฐพล สิทธิอมรพร",null,null,51," 563040329-2"," นายปรัชญาวัชร วรรณชัย"]
[9," 563040025-2"," นายทรงพล เกียรติพนมแพ",null,null,52," 563040334-9"," นายพชร ไชยสมบูรณ์"]
[10," 563040032-5"," นางสาวธนัชชา ใหญ่สูงเนิน",null,null,53," 563040341-2"," นายพิทวัส เบ้าศรี"]
[11," 563040043-0"," นางสาวนันทิชา จริยาโสวรรณ",null,null,54," 563040344-6"," นายไพโรจน์ วงษ์จำปา"]
[12," 563040044-8"," นางสาวนิภาพร อายุวัฒน์",null,null,55," 563040346-2"," นายภระรถ ผาสิงห์"]
[13," 563040051-1"," นายพงศ์ทัช พรวิกุลรัตนา",null,null,56," 563040348-8"," นายภัทรธร สุดาจันทร์"]
[14," 563040059-5"," นายพสธร นามสร",null,null,57," 563040350-1"," นายภูริเดช บุดดาวงศ์"]
[15," 563040064-2"," นางสาวภัทรามาศ ฉวีชัย",null,null,58," 563040351-9"," นางสาวมุกดารัศมิ์ อาจบรรจง"]
[16," 563040065-0"," นายภาคิน จำปาศักดิ์",null,null,59," 563040359-3"," นายวริษฐ์ จวงพุ่ม"]
[17," 563040070-7"," นายมหคพันธุ์ เอมกลาง",null,null,60," 563040367-4"," นายไวพจน์ แสงกุดเรือ"]
[18," 563040071-5"," นายมานะ ติรโรจน์",null,null,61," 563040374-7"," นางสาวศิวะพร ภูเงินเหรียญ"]
[19," 563040076-5"," นายรัฐศาสตร์ พลยงค์",null,null,62," 563040389-4"," นางสาวสุธีรา นาหัวนิล"]
[20," 563040087-0"," นายวุฒินันท์ สัจสุวรรณ",null,null,63," 563040393-3"," นายสุภานุเดช ถาวิกุล"]
[21," 563040089-6"," นายศวัสชัย วิวรรธนจิตต์",null,null,64," 563040394-1"," นางสาวสุภาวิตา ทาเวียง"]
[22," 563040098-5"," นายสิทธิโชค ชูพงศ์พันธุ์",null,null,65," 563040396-7"," นางสาวสุวนันท์ ดวงพิมาย"]
[23," 563040107-0"," นายอภิเดช ชมภูวิเศษ",null,null,66," 563040397-5"," นางสาวเหมือนฝัน จินดามณี"]
[24," 563040114-3"," นายคฑาวุธ ศรีโสดาพล",null,null,67," 563040398-3"," นางสาวเหมือนฝัน เผือกไร่"]
[25," 563040115-1"," นายจุลดิศ ทองตัน",null,null,68," 563040400-2"," นายอดิศร โพธิ์ยา"]
[26," 563040116-9"," นายโชคชัย ซุยอุ้ย",null,null,69," 563040408-6"," นายอรรถศาสตร์ สุระคาย"]
[27," 563040118-5"," นายณพงศ์ พรหมแสนวิเศษ",null,null,70," 563040419-1"," นายชาญชัย มีสนาม"]
[28," 563040119-3"," นายณพรัช ศรีวัฒน์",null,null,71," 563040424-8"," นายนิติศักดิ์ แต่งเมือง"]
[29," 563040120-8"," นายณัฐธพงษ์ ปภาศรีวิบูลย์",null,null,72," 563040426-4"," นางสาวเพชรากร ยอดสุวรรณ์"]
[30," 563040121-6"," นายธนพล หลาบศิริ",null,null,73," 563040431-1"," นายวนัส ภูยาธร"]
[31," 563040123-2"," นายธนวร สันธนะสุรางค์",null,null,74," 563040433-7"," นางสาวศุภลักษณ์ เครือเพชร"]
[32," 563040128-2"," นายพิเชษฐ์ สังเกตชน",null,null,75," 563040435-3"," นายอัฑฒสิทธิ์ สุรเสียง"]
[33," 563040129-0"," นายพีรเมธ จุฑานันท์"]
[34," 563040130-5"," นายพีส คูณดี",null,null,"Section 4"]
[35," 563040137-1"," นายศุภณัฐ ลัภกิตโร",null,null,1," 563040586-2"," นายจักรกฤษณ์ ตันเจริญ"]
[36," 563040139-7"," นายสุธรรม ดิษาภิรมย์",null,null,2," 563040595-1"," นายทรงภพ กระสังข์"]
[37," 563040218-1"," นายณัฐพล มะลาศรี",null,null,3," 563040596-9"," นายทรงศิลป์ ศิริแก้ว"]
[38," 563040230-1"," นางสาวสุธินี เวียงดาว",null,null,4," 563040598-5"," นายธนะโชติ สาโม้"]
[39," 563040231-9"," นายอธิการ สุริโย",null,null,5," 563040604-6"," นายพิฆเนศ ระเบียบโอษฐ์"]
[40," 563040260-2"," นางสาวณัฐณิชา ศิริเหล่าไพศาล",null,null,6," 563040609-6"," นายรัฐศาสตร์ จันใหญ่"]
[41," 563040269-4"," นายกนกพล แก้วเฮียง",null,null,7," 563040610-1"," นายลักษมณ์ เฮงพูลธนา"]
[42," 563040272-5"," นายกีรติ มังษา",null,null,8," 563040614-3"," นายศิวัช เฮงพูลธนา"]
[43," 563040275-9"," นางสาวคุณัญญา ทวีสอน",null,null,9," 563040619-3"," นายอภิเศรษฐ์ อินทรพาณิชย์"]