{"text_format":"1","workbook":"xlsx","n_sheets":10,"sheets":["StudyPlan","ตัดเกรด","Score","SignName","Class","QuizAll","HomeworkAll","TestAll","Midterm","Name"],"not_rendered":{"charts":0,"images":0,"macros":1,"external_links":0,"defined_names":8,"comments":0,"pivot_tables":0},"unopened":[],"bounds":{"document_bytes":16777216,"sheet_cells":100000,"rows_first":2000,"rows_last":500,"rows_between":2000,"halvings":0,"cell_chars":16384,"cell_head_chars":4096},"cells_cut":0,"cells_raw":0,"read":"whole","date_system":"1900"}

{"sheet":"StudyPlan","index":0,"n_rows":18,"n_cols":14,"rows_kept":18,"cut":false,"hidden":false,"merged":[[3,10,3,13],[5,13,9,13],[11,13,14,13],[5,12,8,12],[11,12,13,12]]}
["รายวิชา 195231 : THERMODYNAMICS I ",null,null,null,null,null,null,null,null,null,null,null,null,"ปีการศึกษา 2556 ภาคการศึกษาที่ 1 "]
["แผนการสอนและประเมินผล",null,null,null,null,null,null,null,null,null,null,null,null,"Section 1"]
[null,null,null,null,null,null,null,null,null,null,null,null,null,"รศ.ดร.สมหมาย ปรีเปรม"]
[null,null,null,null,null,null,null,null,null,null,"การวัดผล"]
["Chapter","Topic","hr","WK","WeekAcc","DateStart","DateEnd",null,"Chapter","Topic","HW","web-Quiz","Test","Exam"]
[1,"Basic Concept of Thermodynamics",3,{"$f":"+C6/3","v":1},{"$f":"+D6","v":1},"2013-06-03",{"$f":"+F6+(D6*7-2)","v":"2013-06-08"},null,1,"Basic Concept of Thermodynamics",1,1,1,"Midterm 30"]
[2,"Properties of Pure Substances",4.5,{"$f":"+C7/3","v":1.5},{"$f":"+E6+D7","v":2.5},{"$f":"+G6+2","v":"2013-06-10"},"2013-06-18T12:00:00",null,2,"Properties of Pure Substances",2,"2 - 3"]
[3,"Heat and Work",3,1,{"$f":"+E7+D8","v":3.5},{"$f":"+G7+2","v":"2013-06-20T12:00:00"},"2013-06-25T12:00:00",null,3,"Heat and Work",3,4]
[4,"The First Law of Thermodynamics",9,3,{"$f":"+E8+D9","v":6.5},{"$f":"+G8+2","v":"2013-06-27T12:00:00"},"2013-07-16T12:00:00",null,4,"The First Law of Thermodynamics",4,"5 - 6"]
[5,"The Second Law of Thermodynamics",4.5,1.5,{"$f":"+E9+D10","v":8},{"$f":"+G9+2","v":"2013-07-18T12:00:00"},"2013-07-27",null,5,"The Second Law of Thermodynamics",5,7]
[null,"Midterm Exam",null,1,{"$f":"+E10+D11","v":9},{"$f":"+G10+2","v":"2013-07-29"},{"$f":"+F11+(D11*7-3)","v":"2013-08-02"}]
[6,"Entropy",6,{"$f":"+C12/3","v":2},{"$f":"+E11+D12","v":11},{"$f":"+G11+2","v":"2013-08-04"},{"$f":"+F12+(D12*7-2)","v":"2013-08-16"},null,6,"Entropy",6,8,2,"Final 40"]
[7,"Gas Power Cycles",3,{"$f":"+C13/3","v":1},{"$f":"+E12+D13","v":12},"2013-08-18",{"$f":"+F13+(D13*7-2)","v":"2013-08-23"},null,7,"Gas Power Cycles",7,9]
[8,"Vapor Power Cycles",6,{"$f":"+C14/3","v":2},{"$f":"+E13+D14","v":14},"2013-08-25",{"$f":"+F14+(D14*7-2)","v":"2013-09-06"},null,8,"Vapor Power Cycles",8,10]
[9,"Refrigeration Cycles",4.5,{"$f":"+C15/3","v":1.5},{"$f":"+E14+D15","v":15.5},"2013-09-08",{"$f":"+F15+(D15*7-2)","v":"2013-09-16T12:00:00"},null,9,"Refrigeration Cycles",null,11]
[10,"Basic to Heat Transfer",1.5,{"$f":"+C16/3","v":0.5},{"$f":"+E15+D16","v":16},"2013-09-18T12:00:00",{"$f":"+F16+(D16*7-2)","v":"2013-09-20"},null,10,"Basic to Heat Transfer"]
[null,"Final Exam",null,null,null,{"$f":"+G16+3","v":"2013-09-23"},{"$f":"+F17+17","v":"2013-10-10"}]
[null,"รวม",{"$f":"SUM(C6:C16)","v":45},{"$f":"SUM(D6:D16)","v":16},null,null,null,null,null,"คะแนน",10,10,10,70]

{"sheet":"ตัดเกรด","index":1,"n_rows":12,"n_cols":5,"rows_kept":12,"cut":false,"hidden":false,"merged":[[3,0,3,1],[3,3,3,4]]}
["รายวิชา 185231 : THERMODYNAMICS I "]
["ตัดเกรดอิงเกณฑ์"]
["คะแนนการตัดเกรด โดยประมาณ"]
["คะแนนขั้นต่ำ",null,"เกรด","คะแนนขั้นสูง"]
["≥",80,"A","≤",100]
["≥",75,"B+","<",80]
["≥",70,"B","<",75]
["≥",60,"C+","<",70]
["≥",50,"C","<",60]
["≥",45,"D+","<",50]
["≥",40,"D","<",45]
["≥",0,"F","<",40]

{"sheet":"Score","index":2,"n_rows":113,"n_cols":19,"rows_kept":113,"cut":false,"hidden":false,"merged":[]}
[null,"รายวิชา","195231 : THERMODYNAMICS I",null,null,"Section 1",10,10,10,30,null,{"$f":"SUM(G1:K1)","v":60},"Accumulated","Ctrl z to return to this page and reset"]
[null,"ปีการศึกษา","2556 ภาคการศึกษาที่ 1",null,null,"รศ.ดร.สมหมาย ปรีเปรม",10,10,10,30,40,{"$f":"SUM(G2:K2)","v":100},"Full score"]
[null," รหัส","ชื่อ","หลักสูตร","GPA","Section 1","HW","Quiz","Test","Midterm","Final","Sum","%Acc","Grade","ขาดเรียน"]
[{"$f":"+Name!A4","v":1},{"$f":"+Name!B4","v":" 553040026-9"},{"$f":"+Name!C4","v":" นางสาวกนกกาญจน์ อุปสาร"},{"$f":"+Name!D4","v":" EN-IE"},{"$f":"+Name!G4","v":2.7},{"$f":"+Name!H4","v":1},{"$f":"+HomeworkAll!S4","v":9.4791666666666679},{"$f":"+QuizAll!S4","v":9.5458333333333343},{"$f":"+TestAll!K4","v":9},{"$f":"(+Midterm!I4)*30/50","v":12.6},null,{"$f":"SUM(G4:K4)","v":40.625},{"$f":"(L4/$L$1)*100","v":67.708333333333343},{"$f":"grade(M4)","v":"C+"},{"$f":"Class!AN93","v":0},1]
[{"$f":"+Name!A5","v":2},{"$f":"+Name!B5","v":" 553040032-4"},{"$f":"+Name!C5","v":" นายกิตติภัทร จิตรกสิกร"},{"$f":"+Name!D5","v":" EN-IE"},{"$f":"+Name!G5","v":2.68},{"$f":"+Name!H5","v":1},{"$f":"+HomeworkAll!S5","v":9.518518518518519},{"$f":"+QuizAll!S5","v":9.75},{"$f":"+TestAll!K5","v":8.9285714285714288},{"$f":"(+Midterm!I5)*30/50","v":10.199999999999999},null,38.397089947089952,63.995149911816583,"C+",{"$f":"Class!AN92","v":0},2]
[{"$f":"+Name!A6","v":3},{"$f":"+Name!B6","v":" 553040033-2"},{"$f":"+Name!C6","v":" นายกิรติกร แก้วปานกัน"},{"$f":"+Name!D6","v":" EN-ME"},{"$f":"+Name!G6","v":2.82},{"$f":"+Name!H6","v":1},{"$f":"+HomeworkAll!S6","v":9.3146043771043789},{"$f":"+QuizAll!S6","v":9.75},{"$f":"+TestAll!K6","v":7.7261904761904763},{"$f":"(+Midterm!I6)*30/50","v":21},null,47.790794853294855,79.65132475549143,"B+",{"$f":"Class!AN91","v":0},3]
[{"$f":"+Name!A7","v":4},{"$f":"+Name!B7","v":" 553040041-3"},{"$f":"+Name!C7","v":" นางสาวชนาธินาถ โสกงโสด"},{"$f":"+Name!D7","v":" EN-ME"},{"$f":"+Name!G7","v":2.42},{"$f":"+Name!H7","v":1},{"$f":"+HomeworkAll!S7","v":9.8249999999999993},{"$f":"+QuizAll!S7","v":8.3375000000000004},{"$f":"+TestAll!K7","v":7.25},{"$f":"(+Midterm!I7)*30/50","v":7.8},null,33.212499999999999,55.354166666666657,"C",{"$f":"Class!AN90","v":0},4," "]
[{"$f":"+Name!A8","v":5},{"$f":"+Name!B8","v":" 553040045-5"},{"$f":"+Name!C8","v":" นายณัฏฐกิตติ์ พูลประสงค์"},{"$f":"+Name!D8","v":" EN-ME"},{"$f":"+Name!G8","v":3.28},{"$f":"+Name!H8","v":1},{"$f":"+HomeworkAll!S8","v":8.9305555555555554},{"$f":"+QuizAll!S8","v":10},{"$f":"+TestAll!K8","v":9.6309523809523814},{"$f":"(+Midterm!I8)*30/50","v":23.4},null,51.961507936507935,86.602513227513228,"A",{"$f":"Class!AN89","v":0},5]
[{"$f":"+Name!A9","v":6},{"$f":"+Name!B9","v":" 553040047-1"},{"$f":"+Name!C9","v":" นายณัฐพงษ์ กลิ่นมาลี"},{"$f":"+Name!D9","v":" EN-ME"},{"$f":"+Name!G9","v":2.87},{"$f":"+Name!H9","v":1},{"$f":"+HomeworkAll!S9","v":7.8358585858585874},{"$f":"+QuizAll!S9","v":8.8300833333333344},{"$f":"+TestAll!K9","v":8.7142857142857153},{"$f":"(+Midterm!I9)*30/50","v":18.3},null,43.680227633477642,72.800379389129404,"B",{"$f":"Class!AN88","v":0},6]
[{"$f":"+Name!A10","v":7},{"$f":"+Name!B10","v":" 553040049-7"},{"$f":"+Name!C10","v":" นายณัฐวัตร สุขสำราญ"},{"$f":"+Name!D10","v":" EN-IE"},{"$f":"+Name!G10","v":1.76},{"$f":"+Name!H10","v":1},{"$f":"+HomeworkAll!S10","v":5.8983585858585865},{"$f":"+QuizAll!S10","v":6.6547500000000008},{"$f":"+TestAll!K10","v":7.75},{"$f":"(+Midterm!I10)*30/50","v":8.4},null,28.703108585858587,47.838514309764314,"D+",{"$f":"Class!AN87","v":0},7,null,null," "]
[{"$f":"+Name!A11","v":8},{"$f":"+Name!B11","v":" 553040050-2"},{"$f":"+Name!C11","v":" นายณัฐวุฒิ ฆารประเดิม"},{"$f":"+Name!D11","v":" EN-ME"},{"$f":"+Name!G11","v":2.87},{"$f":"+Name!H11","v":1},{"$f":"+HomeworkAll!S11","v":8.5694444444444446},{"$f":"+QuizAll!S11","v":9.8333333333333339},{"$f":"+TestAll!K11","v":8.5238095238095237},{"$f":"(+Midterm!I11)*30/50","v":15.3},null,42.226587301587301,70.377645502645507,"B",{"$f":"Class!AN86","v":0},8]
[{"$f":"+Name!A12","v":9},{"$f":"+Name!B12","v":" 553040052-8"},{"$f":"+Name!C12","v":" นายถิรวัฒน์ แก้วคำปอด"},{"$f":"+Name!D12","v":" EN-ME"},{"$f":"+Name!G12","v":2.61},{"$f":"+Name!H12","v":1},{"$f":"+HomeworkAll!S12","v":7.9074074074074074},{"$f":"+QuizAll!S12","v":9.8608333333333338},{"$f":"+TestAll!K12","v":5.8809523809523814},{"$f":"(+Midterm!I12)*30/50","v":19.5},null,43.149193121693123,71.915321869488537,"B",{"$f":"Class!AN85","v":0},9]
[{"$f":"+Name!A13","v":10},{"$f":"+Name!B13","v":" 553040057-8"},{"$f":"+Name!C13","v":" นายธนวิชญ์ เลิศวุฒิชัยกุล"},{"$f":"+Name!D13","v":" EN-IE"},{"$f":"+Name!G13","v":2.29},{"$f":"+Name!H13","v":1},{"$f":"+HomeworkAll!S13","v":1.5833333333333333},{"$f":"+QuizAll!S13","v":2.9417500000000003},{"$f":"+TestAll!K13","v":4.333333333333333},{"$f":"(+Midterm!I13)*30/50","v":19.2},null,28.058416666666666,46.764027777777777,"D+",{"$f":"Class!AN84","v":0},10]
[{"$f":"+Name!A14","v":11},{"$f":"+Name!B14","v":" 553040059-4"},{"$f":"+Name!C14","v":" นายธนากร บุญดาว"},{"$f":"+Name!D14","v":" EN-ME"},{"$f":"+Name!G14","v":3.03},{"$f":"+Name!H14","v":1},{"$f":"+HomeworkAll!S14","v":9.9722222222222232},{"$f":"+QuizAll!S14","v":9.0000000000000018},{"$f":"+TestAll!K14","v":8.1309523809523814},{"$f":"(+Midterm!I14)*30/50","v":20.7},null,47.803174603174611,79.671957671957685,"B+",{"$f":"Class!AN83","v":0},11]
[{"$f":"+Name!A15","v":12},{"$f":"+Name!B15","v":" 553040060-9"},{"$f":"+Name!C15","v":" นายธนานนท์ ติรวีรขจร"},{"$f":"+Name!D15","v":" EN-ME"},{"$f":"+Name!G15","v":2.5099999999999998},{"$f":"+Name!H15","v":1},{"$f":"+HomeworkAll!S15","v":9.9444444444444446},{"$f":"+QuizAll!S15","v":9.2291666666666661},{"$f":"+TestAll!K15","v":9.1904761904761898},{"$f":"(+Midterm!I15)*30/50","v":19.2},null,47.5640873015873,79.273478835978821,"B+",{"$f":"Class!AN82","v":0},12]
[{"$f":"+Name!A16","v":13},{"$f":"+Name!B16","v":" 553040061-7"},{"$f":"+Name!C16","v":" นายธนารักษ์ ศรีน้อย"},{"$f":"+Name!D16","v":" EN-ME"},{"$f":"+Name!G16","v":2.5099999999999998},{"$f":"+Name!H16","v":1},{"$f":"+HomeworkAll!S16","v":6.3865740740740744},{"$f":"+QuizAll!S16","v":7.4434166666666668},{"$f":"+TestAll!K16","v":6.4642857142857144},{"$f":"(+Midterm!I16)*30/50","v":19.8},null,40.09427645502646,66.823794091710766,"C+",{"$f":"Class!AN81","v":0},13]
[{"$f":"+Name!A17","v":14},{"$f":"+Name!B17","v":" 553040063-3"},{"$f":"+Name!C17","v":" นายธีรเจต เตรียมวิชานนท์"},{"$f":"+Name!D17","v":" EN-ME"},{"$f":"+Name!G17","v":3.03},{"$f":"+Name!H17","v":1},{"$f":"+HomeworkAll!S17","v":9.4699074074074083},{"$f":"+QuizAll!S17","v":9.2541666666666682},{"$f":"+TestAll!K17","v":8.7619047619047628},{"$f":"(+Midterm!I17)*30/50","v":14.1},null,41.585978835978835,69.309964726631392,"C+",{"$f":"Class!AN80","v":0},14]
[{"$f":"+Name!A18","v":15},{"$f":"+Name!B18","v":" 553040064-1"},{"$f":"+Name!C18","v":" นายธีรพล เตชะเสน"},{"$f":"+Name!D18","v":" EN-ME"},{"$f":"+Name!G18","v":3.24},{"$f":"+Name!H18","v":1},{"$f":"+HomeworkAll!S18","v":9.9055555555555568},{"$f":"+QuizAll!S18","v":10},{"$f":"+TestAll!K18","v":9.6309523809523814},{"$f":"(+Midterm!I18)*30/50","v":18},null,47.536507936507938,79.227513227513242,"B+",{"$f":"Class!AN79","v":0},15]
[{"$f":"+Name!A19","v":16},{"$f":"+Name!B19","v":" 553040071-4"},{"$f":"+Name!C19","v":" นายบรรยง ชัยยิ่ง"},{"$f":"+Name!D19","v":" EN-ME"},{"$f":"+Name!G19","v":2.68},{"$f":"+Name!H19","v":1},{"$f":"+HomeworkAll!S19","v":9.90625},{"$f":"+QuizAll!S19","v":9.408083333333332},{"$f":"+TestAll!K19","v":8.6666666666666661},{"$f":"(+Midterm!I19)*30/50","v":16.8},null,44.780999999999992,74.634999999999991,"B",{"$f":"Class!AN78","v":0},16]
[{"$f":"+Name!A20","v":17},{"$f":"+Name!B20","v":" 553040072-2"},{"$f":"+Name!C20","v":" นายบัญชา แก้วอาจ"},{"$f":"+Name!D20","v":" EN-IE"},{"$f":"+Name!G20","v":2.2599999999999998},{"$f":"+Name!H20","v":1},{"$f":"+HomeworkAll!S20","v":5.458333333333333},{"$f":"+QuizAll!S20","v":5.3374999999999995},{"$f":"+TestAll!K20","v":6.1071428571428577},{"$f":"(+Midterm!I20)*30/50","v":13.2},null,30.102976190476188,50.171626984126981,"C",{"$f":"Class!AN77","v":0},17]
[{"$f":"+Name!A21","v":18},{"$f":"+Name!B21","v":" 553040083-7"},{"$f":"+Name!C21","v":" นายพันธวัช เก็มประโคน"},{"$f":"+Name!D21","v":" EN-IE"},{"$f":"+Name!G21","v":2.08},{"$f":"+Name!H21","v":1},{"$f":"+HomeworkAll!S21","v":3.6837962962962965},{"$f":"+QuizAll!S21","v":3.7958333333333334},{"$f":"+TestAll!K21","v":8.7619047619047628},{"$f":"(+Midterm!I21)*30/50","v":20.399999999999999},null,36.641534391534393,61.069223985890652,"C+",{"$f":"Class!AN76","v":0},18]
[{"$f":"+Name!A22","v":19},{"$f":"+Name!B22","v":" 553040085-3"},{"$f":"+Name!C22","v":" นายพิพัฒน์ รักทองจัน"},{"$f":"+Name!D22","v":" EN-ME"},{"$f":"+Name!G22","v":3.04},{"$f":"+Name!H22","v":1},{"$f":"+HomeworkAll!S22","v":9.1388888888888893},{"$f":"+QuizAll!S22","v":9.0541666666666654},{"$f":"+TestAll!K22","v":8.7976190476190474},{"$f":"(+Midterm!I22)*30/50","v":22.2},null,49.1906746031746,81.984457671957671,"A",{"$f":"Class!AN75","v":0},19]
[{"$f":"+Name!A23","v":20},{"$f":"+Name!B23","v":" 553040087-9"},{"$f":"+Name!C23","v":" นายพิภัทรยา ศิริแว่น"},{"$f":"+Name!D23","v":" EN-ME"},{"$f":"+Name!G23","v":2.29},{"$f":"+Name!H23","v":1},{"$f":"+HomeworkAll!S23","v":8.1944444444444446},{"$f":"+QuizAll!S23","v":9.0833333333333339},{"$f":"+TestAll!K23","v":9.875},{"$f":"(+Midterm!I23)*30/50","v":0},null,27.152777777777779,45.254629629629633,"D+",{"$f":"Class!AN74","v":0},20]
[{"$f":"+Name!A24","v":21},{"$f":"+Name!B24","v":" 553040092-6"},{"$f":"+Name!C24","v":" นายยศพนธ์ จันทร์วิเมลือง"},{"$f":"+Name!D24","v":" EN-ME"},{"$f":"+Name!G24","v":3.11},{"$f":"+Name!H24","v":1},{"$f":"+HomeworkAll!S24","v":8.8263888888888893},{"$f":"+QuizAll!S24","v":9.6291666666666664},{"$f":"+TestAll!K24","v":6.4523809523809526},{"$f":"(+Midterm!I24)*30/50","v":8.4},null,33.30793650793651,55.513227513227513,"C",{"$f":"Class!AN73","v":0},21]
[{"$f":"+Name!A25","v":22},{"$f":"+Name!B25","v":" 553040094-2"},{"$f":"+Name!C25","v":" นายยุทธการ แสนเสนา"},{"$f":"+Name!D25","v":" EN-ME"},{"$f":"+Name!G25","v":2.37},{"$f":"+Name!H25","v":1},{"$f":"+HomeworkAll!S25","v":8.0625000000000018},{"$f":"+QuizAll!S25","v":9.0075000000000021},{"$f":"+TestAll!K25","v":8.5},{"$f":"(+Midterm!I25)*30/50","v":17.7},null,43.27,72.116666666666674,"B",{"$f":"Class!AN72","v":0},22]
[{"$f":"+Name!A26","v":23},{"$f":"+Name!B26","v":" 553040095-0"},{"$f":"+Name!C26","v":" นายยุทธนา พิริยะสุทธิ์"},{"$f":"+Name!D26","v":" EN-ME"},{"$f":"+Name!G26","v":2.64},{"$f":"+Name!H26","v":1},{"$f":"+HomeworkAll!S26","v":6.8888888888888884},{"$f":"+QuizAll!S26","v":8.9316666666666666},{"$f":"+TestAll!K26","v":9.3571428571428577},{"$f":"(+Midterm!I26)*30/50","v":20.399999999999999},null,45.57769841269841,75.962830687830689,"B+",{"$f":"Class!AN71","v":0},23]
[{"$f":"+Name!A27","v":24},{"$f":"+Name!B27","v":" 553040101-1"},{"$f":"+Name!C27","v":" นายวรพล จันทร์ผิว"},{"$f":"+Name!D27","v":" EN-IE"},{"$f":"+Name!G27","v":3.05},{"$f":"+Name!H27","v":1},{"$f":"+HomeworkAll!S27","v":8.5002525252525256},{"$f":"+QuizAll!S27","v":8.7083333333333339},{"$f":"+TestAll!K27","v":9.1785714285714288},{"$f":"(+Midterm!I27)*30/50","v":23.1},null,49.487157287157288,82.47859547859548,"A",{"$f":"Class!AN70","v":0},24]
[{"$f":"+Name!A28","v":25},{"$f":"+Name!B28","v":" 553040104-5"},{"$f":"+Name!C28","v":" นายวรานนท์ ยุทธอมร"},{"$f":"+Name!D28","v":" EN-ME"},{"$f":"+Name!G28","v":2.72},{"$f":"+Name!H28","v":1},{"$f":"+HomeworkAll!S28","v":5},{"$f":"+QuizAll!S28","v":6.9322499999999998},{"$f":"+TestAll!K28","v":8.4761904761904763},{"$f":"(+Midterm!I28)*30/50","v":20.399999999999999},null,40.808440476190476,68.014067460317463,"C+",{"$f":"Class!AN69","v":0},25]
[{"$f":"+Name!A29","v":26},{"$f":"+Name!B29","v":" 553040106-1"},{"$f":"+Name!C29","v":" นายวศิน คำปัญโญ"},{"$f":"+Name!D29","v":" EN-ME"},{"$f":"+Name!G29","v":2.6},{"$f":"+Name!H29","v":1},{"$f":"+HomeworkAll!S29","v":8.9375},{"$f":"+QuizAll!S29","v":9.2222500000000007},{"$f":"+TestAll!K29","v":5.7738095238095237},{"$f":"(+Midterm!I29)*30/50","v":14.4},null,38.333559523809527,63.88926587301588,"C+",{"$f":"Class!AN68","v":0},26]
[{"$f":"+Name!A30","v":27},{"$f":"+Name!B30","v":" 553040108-7"},{"$f":"+Name!C30","v":" นายวิชญสิทธิ์ พันธุ์รักษา"},{"$f":"+Name!D30","v":" EN-IE"},{"$f":"+Name!G30","v":2.83},{"$f":"+Name!H30","v":1},{"$f":"+HomeworkAll!S30","v":9.375},{"$f":"+QuizAll!S30","v":8.8333333333333339},{"$f":"+TestAll!K30","v":8.2738095238095237},{"$f":"(+Midterm!I30)*30/50","v":19.8},null,46.282142857142858,77.136904761904773,"B+",{"$f":"Class!AN67","v":0},27]
[{"$f":"+Name!A31","v":28},{"$f":"+Name!B31","v":" 553040121-5"},{"$f":"+Name!C31","v":" นายสิริวุฒิ ภูมิภูเขียว"},{"$f":"+Name!D31","v":" EN-IE"},{"$f":"+Name!G31","v":2.06},{"$f":"+Name!H31","v":1},{"$f":"+HomeworkAll!S31","v":8.5402777777777779},{"$f":"+QuizAll!S31","v":6.49},{"$f":"+TestAll!K31","v":7.9880952380952372},{"$f":"(+Midterm!I31)*30/50","v":7.8},null,30.818373015873018,51.363955026455031,"C",{"$f":"Class!AN66","v":0},28]
[{"$f":"+Name!A32","v":29},{"$f":"+Name!B32","v":" 553040123-1"},{"$f":"+Name!C32","v":" นางสาวหทัยชนก ปัญญาบุตร"},{"$f":"+Name!D32","v":" EN-ME"},{"$f":"+Name!G32","v":2.4500000000000002},{"$f":"+Name!H32","v":1},{"$f":"+HomeworkAll!S32","v":8.7250841750841772},{"$f":"+QuizAll!S32","v":9.1269999999999989},{"$f":"+TestAll!K32","v":6.9047619047619051},{"$f":"(+Midterm!I32)*30/50","v":10.8},null,35.556846079846082,59.261410133076808,"C",{"$f":"Class!AN65","v":0},29]
[{"$f":"+Name!A33","v":30},{"$f":"+Name!B33","v":" 553040126-5"},{"$f":"+Name!C33","v":" นายอนวัช คงวีระวัฒน์"},{"$f":"+Name!D33","v":" EN-ME"},{"$f":"+Name!G33","v":2.27},{"$f":"+Name!H33","v":1},{"$f":"+HomeworkAll!S33","v":5.5},{"$f":"+QuizAll!S33","v":7.8194166666666671},{"$f":"+TestAll!K33","v":7.0238095238095237},{"$f":"(+Midterm!I33)*30/50","v":9.6},null,29.943226190476189,49.905376984126981,"D+",{"$f":"Class!AN64","v":0},30]
[{"$f":"+Name!A34","v":31},{"$f":"+Name!B34","v":" 553040132-0"},{"$f":"+Name!C34","v":" นางสาวอรทัย ยอดแก้วพิสัย"},{"$f":"+Name!D34","v":" EN-IE"},{"$f":"+Name!G34","v":2.8},{"$f":"+Name!H34","v":1},{"$f":"+HomeworkAll!S34","v":9.706018518518519},{"$f":"+QuizAll!S34","v":9.5833333333333339},{"$f":"+TestAll!K34","v":8.6309523809523814},{"$f":"(+Midterm!I34)*30/50","v":16.8},null,44.720304232804239,74.533840388007064,"B",{"$f":"Class!AN63","v":0},31]
[{"$f":"+Name!A35","v":32},{"$f":"+Name!B35","v":" 553040133-8"},{"$f":"+Name!C35","v":" นายอรรถชัย ทองสุข"},{"$f":"+Name!D35","v":" EN-ME"},{"$f":"+Name!G35","v":2.16},{"$f":"+Name!H35","v":1},{"$f":"+HomeworkAll!S35","v":9.6321548821548824},{"$f":"+QuizAll!S35","v":9.8333333333333339},{"$f":"+TestAll!K35","v":7.7261904761904763},{"$f":"(+Midterm!I35)*30/50","v":21.6},null,48.79167869167869,81.319464486131153,"A",{"$f":"Class!AN62","v":0},32]
[{"$f":"+Name!A36","v":33},{"$f":"+Name!B36","v":" 553040136-2"},{"$f":"+Name!C36","v":" นางสาวอัชฌา เสาร์สิงห์"},{"$f":"+Name!D36","v":" EN-ME"},{"$f":"+Name!G36","v":2.8},{"$f":"+Name!H36","v":1},{"$f":"+HomeworkAll!S36","v":8.9758838383838384},{"$f":"+QuizAll!S36","v":8.8839166666666678},{"$f":"+TestAll!K36","v":8.75},{"$f":"(+Midterm!I36)*30/50","v":11.4},null,{"$f":"SUM(G36:K36)","v":38.009800505050507},{"$f":"(L36/$L$1)*100","v":63.349667508417504},{"$f":"grade(M36)","v":"C+"},{"$f":"Class!AN61","v":0},33]
[{"$f":"+Name!A37","v":34},{"$f":"+Name!B37","v":" 553040137-0"},{"$f":"+Name!C37","v":" นางสาวอัชรา เชาว์ชอบ"},{"$f":"+Name!D37","v":" EN-IE"},{"$f":"+Name!G37","v":2.81},{"$f":"+Name!H37","v":1},{"$f":"+HomeworkAll!S37","v":8.4606481481481488},{"$f":"+QuizAll!S37","v":9.8333333333333339},{"$f":"+TestAll!K37","v":9.0357142857142847},{"$f":"(+Midterm!I37)*30/50","v":14.4},null,41.729695767195764,69.549492945326278,"C+",{"$f":"Class!AN60","v":0},34]
[{"$f":"+Name!A38","v":35},{"$f":"+Name!B38","v":" 553040146-9"},{"$f":"+Name!C38","v":" นายเจษฎา พลชา"},{"$f":"+Name!D38","v":" EN-AE"},{"$f":"+Name!G38","v":2.39},{"$f":"+Name!H38","v":1},{"$f":"+HomeworkAll!S38","v":5.8141414141414147},{"$f":"+QuizAll!S38","v":9.8214166666666678},{"$f":"+TestAll!K38","v":7.0714285714285712},{"$f":"(+Midterm!I38)*30/50","v":9.6},null,32.306986652236652,53.844977753727754,"C",{"$f":"Class!AN59","v":0},35]
[{"$f":"+Name!A39","v":36},{"$f":"+Name!B39","v":" 553040148-5"},{"$f":"+Name!C39","v":" นายเชษฐทรัพย์ ทองคำใส"},{"$f":"+Name!D39","v":" EN-AE"},{"$f":"+Name!G39","v":2.6},{"$f":"+Name!H39","v":1},{"$f":"+HomeworkAll!S39","v":9.6319444444444446},{"$f":"+QuizAll!S39","v":8.9241666666666664},{"$f":"+TestAll!K39","v":7.3809523809523814},{"$f":"(+Midterm!I39)*30/50","v":10.199999999999999},null,36.13706349206349,60.228439153439147,"C+",{"$f":"Class!AN58","v":0},36]
[{"$f":"+Name!A40","v":37},{"$f":"+Name!B40","v":" 553040149-3"},{"$f":"+Name!C40","v":" นายณัฐพงษ์ เหล่าจูม"},{"$f":"+Name!D40","v":" EN-AE"},{"$f":"+Name!G40","v":3.04},{"$f":"+Name!H40","v":1},{"$f":"+HomeworkAll!S40","v":9.6944023569023567},{"$f":"+QuizAll!S40","v":9.875},{"$f":"+TestAll!K40","v":7.60952380952381},{"$f":"(+Midterm!I40)*30/50","v":18},null,45.178926166426166,75.298210277376938,"B+",{"$f":"Class!AN57","v":0},37]
[{"$f":"+Name!A41","v":38},{"$f":"+Name!B41","v":" 553040154-0"},{"$f":"+Name!C41","v":" นางสาวนฤมล พรมพุ้ย"},{"$f":"+Name!D41","v":" EN-AE"},{"$f":"+Name!G41","v":2.5299999999999998},{"$f":"+Name!H41","v":1},{"$f":"+HomeworkAll!S41","v":9.506523569023571},{"$f":"+QuizAll!S41","v":8.1985833333333336},{"$f":"+TestAll!K41","v":7.4523809523809526},{"$f":"(+Midterm!I41)*30/50","v":15},null,40.157487854737852,66.929146424563086,"C+",{"$f":"Class!AN56","v":0},38]
[{"$f":"+Name!A42","v":39},{"$f":"+Name!B42","v":" 553040163-9"},{"$f":"+Name!C42","v":" นางสาววาสนา เคเมือง"},{"$f":"+Name!D42","v":" EN-AE"},{"$f":"+Name!G42","v":2.2999999999999998},{"$f":"+Name!H42","v":1},{"$f":"+HomeworkAll!S42","v":9.6660353535353547},{"$f":"+QuizAll!S42","v":9.9791666666666661},{"$f":"+TestAll!K42","v":6.1904761904761907},{"$f":"(+Midterm!I42)*30/50","v":16.2},null,42.035678210678213,70.05946368446368,"B",{"$f":"Class!AN55","v":0},39]
[{"$f":"+Name!A43","v":40},{"$f":"+Name!B43","v":" 553040164-7"},{"$f":"+Name!C43","v":" นายวิภูรินทร์ เลิศพนาลัย"},{"$f":"+Name!D43","v":" EN-AE"},{"$f":"+Name!G43","v":2.5499999999999998},{"$f":"+Name!H43","v":1},{"$f":"+HomeworkAll!S43","v":6.5593434343434343},{"$f":"+QuizAll!S43","v":9.2975833333333338},{"$f":"+TestAll!K43","v":6.5476190476190474},{"$f":"(+Midterm!I43)*30/50","v":10.8},null,33.204545815295816,55.340909692159691,"C",{"$f":"Class!AN54","v":0},40]
[{"$f":"+Name!A44","v":41},{"$f":"+Name!B44","v":" 553040167-1"},{"$f":"+Name!C44","v":" นายอดิศักดิ์ มุนนี"},{"$f":"+Name!D44","v":" EN-AE"},{"$f":"+Name!G44","v":2.96},{"$f":"+Name!H44","v":1},{"$f":"+HomeworkAll!S44","v":8.5712962962962962},{"$f":"+QuizAll!S44","v":9.75},{"$f":"+TestAll!K44","v":7.5357142857142856},{"$f":"(+Midterm!I44)*30/50","v":20.399999999999999},null,46.257010582010579,77.095017636684304,"B+",{"$f":"Class!AN53","v":0},41]
[{"$f":"+Name!A45","v":42},{"$f":"+Name!B45","v":" 553040169-7"},{"$f":"+Name!C45","v":" นายอภิสิทธิ์ รังสิมาวงศ์"},{"$f":"+Name!D45","v":" EN-AE"},{"$f":"+Name!G45","v":3.16},{"$f":"+Name!H45","v":1},{"$f":"+HomeworkAll!S45","v":8.5358585858585876},{"$f":"+QuizAll!S45","v":9.9166666666666679},{"$f":"+TestAll!K45","v":7.4404761904761907},{"$f":"(+Midterm!I45)*30/50","v":17.399999999999999},null,43.293001443001444,72.155002405002406,"B",{"$f":"Class!AN52","v":0},42]
[{"$f":"+Name!A46","v":43},{"$f":"+Name!B46","v":" 553040170-2"},{"$f":"+Name!C46","v":" นายอาทิตย์ ภูผาผุด"},{"$f":"+Name!D46","v":" EN-AE"},{"$f":"+Name!G46","v":3.25},{"$f":"+Name!H46","v":1},{"$f":"+HomeworkAll!S46","v":9.6937710437710454},{"$f":"+QuizAll!S46","v":10},{"$f":"+TestAll!K46","v":8.7095238095238088},{"$f":"(+Midterm!I46)*30/50","v":21.6},null,50.003294853294854,83.33882475549143,"A",{"$f":"Class!AN51","v":0},43]
[{"$f":"+Name!A47","v":44},{"$f":"+Name!B47","v":" 553040281-3"},{"$f":"+Name!C47","v":" นายทวิชาติ อัครสันตติกุล"},{"$f":"+Name!D47","v":" EN-IE"},{"$f":"+Name!G47","v":1.95},{"$f":"+Name!H47","v":1},{"$f":"+HomeworkAll!S47","v":6.8727272727272739},{"$f":"+QuizAll!S47","v":7.8641666666666667},{"$f":"+TestAll!K47","v":8.2738095238095237},{"$f":"(+Midterm!I47)*30/50","v":12.6},null,35.610703463203464,59.351172438672442,"C",{"$f":"Class!AN50","v":0},44]
[{"$f":"+Name!A48","v":45},{"$f":"+Name!B48","v":" 553040285-5"},{"$f":"+Name!C48","v":" นางสาวกนกอร แดงน้อย"},{"$f":"+Name!D48","v":" EN-IE"},{"$f":"+Name!G48","v":2.5099999999999998},{"$f":"+Name!H48","v":1},{"$f":"+HomeworkAll!S48","v":9.0910353535353554},{"$f":"+QuizAll!S48","v":8.4614166666666666},{"$f":"+TestAll!K48","v":7},{"$f":"(+Midterm!I48)*30/50","v":11.1},null,35.65245202020202,59.420753367003364,"C",{"$f":"Class!AN49","v":0},45]
[{"$f":"+Name!A49","v":46},{"$f":"+Name!B49","v":" 553040289-7"},{"$f":"+Name!C49","v":" นายกัมปนาท ชาวดร"},{"$f":"+Name!D49","v":" EN-ME"},{"$f":"+Name!G49","v":3.02},{"$f":"+Name!H49","v":1},{"$f":"+HomeworkAll!S49","v":8.9795875420875433},{"$f":"+QuizAll!S49","v":8.9166666666666661},{"$f":"+TestAll!K49","v":8.5476190476190474},{"$f":"(+Midterm!I49)*30/50","v":20.7},null,47.143873256373254,78.573122093955433,"B+",{"$f":"Class!AN48","v":0},46]
[{"$f":"+Name!A50","v":47},{"$f":"+Name!B50","v":" 553040290-2"},{"$f":"+Name!C50","v":" นายกานตภณ รุ่งฤทัยวัฒน์"},{"$f":"+Name!D50","v":" EN-IE"},{"$f":"+Name!G50","v":2.2200000000000002},{"$f":"+Name!H50","v":1},{"$f":"+HomeworkAll!S50","v":9.0976430976430986},{"$f":"+QuizAll!S50","v":6.25},{"$f":"+TestAll!K50","v":6.1190476190476186},{"$f":"(+Midterm!I50)*30/50","v":6},null,27.466690716690717,45.777817861151192,"D+",{"$f":"Class!AN47","v":0},47]
[{"$f":"+Name!A51","v":48},{"$f":"+Name!B51","v":" 553040297-8"},{"$f":"+Name!C51","v":" นางสาวขวัญตา สุวรรณจันทร์"},{"$f":"+Name!D51","v":" EN-IE"},{"$f":"+Name!G51","v":1.24},{"$f":"+Name!H51","v":1},{"$f":"+HomeworkAll!S51","v":0},{"$f":"+QuizAll!S51","v":0},{"$f":"+TestAll!K51","v":0},{"$f":"(+Midterm!I51)*30/50","v":0},null,0,0,"F",{"$f":"Class!AN46","v":0},48]
[{"$f":"+Name!A52","v":49},{"$f":"+Name!B52","v":" 553040298-6"},{"$f":"+Name!C52","v":" นายคฑาวุธ นิลคุณ"},{"$f":"+Name!D52","v":" EN-ME"},{"$f":"+Name!G52","v":2.16},{"$f":"+Name!H52","v":1},{"$f":"+HomeworkAll!S52","v":4.9722222222222223},{"$f":"+QuizAll!S52","v":6.3608333333333347},{"$f":"+TestAll!K52","v":6.3809523809523814},{"$f":"(+Midterm!I52)*30/50","v":15},null,32.71400793650794,54.523346560846562,"C",{"$f":"Class!AN45","v":0},49]
[{"$f":"+Name!A53","v":50},{"$f":"+Name!B53","v":" 553040302-1"},{"$f":"+Name!C53","v":" นายจรูญวิทย์ ยึนประโคน"},{"$f":"+Name!D53","v":" EN-IE"},{"$f":"+Name!G53","v":2.25},{"$f":"+Name!H53","v":1},{"$f":"+HomeworkAll!S53","v":9.0263468013468025},{"$f":"+QuizAll!S53","v":9.5833333333333339},{"$f":"+TestAll!K53","v":7.5119047619047628},{"$f":"(+Midterm!I53)*30/50","v":13.8},null,39.921584896584903,66.53597482764151,"C+",{"$f":"Class!AN44","v":0},50]
[{"$f":"+Name!A54","v":51},{"$f":"+Name!B54","v":" 553040310-2"},{"$f":"+Name!C54","v":" นายจีระวัฒน์ ศรีมีชัย"},{"$f":"+Name!D54","v":" EN-IE"},{"$f":"+Name!G54","v":2.1800000000000002},{"$f":"+Name!H54","v":1},{"$f":"+HomeworkAll!S54","v":8.6221380471380478},{"$f":"+QuizAll!S54","v":7.8441666666666672},{"$f":"+TestAll!K54","v":7.5952380952380949},{"$f":"(+Midterm!I54)*30/50","v":15},null,39.061542809042805,65.10257134840468,"C+",{"$f":"Class!AN43","v":0},51]
[{"$f":"+Name!A55","v":52},{"$f":"+Name!B55","v":" 553040312-8"},{"$f":"+Name!C55","v":" นางสาวจุฑารัตน์ เลยยุทธ"},{"$f":"+Name!D55","v":" EN-IE"},{"$f":"+Name!G55","v":2.66},{"$f":"+Name!H55","v":1},{"$f":"+HomeworkAll!S55","v":9.512626262626263},{"$f":"+QuizAll!S55","v":9.5833333333333339},{"$f":"+TestAll!K55","v":8.7619047619047628},{"$f":"(+Midterm!I55)*30/50","v":20.399999999999999},null,48.257864357864364,80.429773929773944,"A",{"$f":"Class!AN42","v":0},52]
[{"$f":"+Name!A56","v":53},{"$f":"+Name!B56","v":" 553040315-2"},{"$f":"+Name!C56","v":" นางสาวจุฬารัตน์ แสนวงษ์"},{"$f":"+Name!D56","v":" EN-ME"},{"$f":"+Name!G56","v":3.22},{"$f":"+Name!H56","v":1},{"$f":"+HomeworkAll!S56","v":8.2836700336700346},{"$f":"+QuizAll!S56","v":7.875},{"$f":"+TestAll!K56","v":8.6666666666666679},{"$f":"(+Midterm!I56)*30/50","v":27.9},null,52.725336700336698,87.875561167227829,"A",{"$f":"Class!AN41","v":0},53]
[{"$f":"+Name!A57","v":54},{"$f":"+Name!B57","v":" 553040316-0"},{"$f":"+Name!C57","v":" นางสาวเจนจิรา ปิยาโยค"},{"$f":"+Name!D57","v":" EN-ME"},{"$f":"+Name!G57","v":2.2999999999999998},{"$f":"+Name!H57","v":1},{"$f":"+HomeworkAll!S57","v":8.3475589225589228},{"$f":"+QuizAll!S57","v":7.7541666666666664},{"$f":"+TestAll!K57","v":8.0142857142857142},{"$f":"(+Midterm!I57)*30/50","v":20.7},null,44.816011303511303,74.693352172518829,"B",{"$f":"Class!AN40","v":0},54]
[{"$f":"+Name!A58","v":55},{"$f":"+Name!B58","v":" 553040317-8"},{"$f":"+Name!C58","v":" นายเจนณรงค์ อยู่ยง"},{"$f":"+Name!D58","v":" EN-ME"},{"$f":"+Name!G58","v":2.57},{"$f":"+Name!H58","v":1},{"$f":"+HomeworkAll!S58","v":9.7222222222222214},{"$f":"+QuizAll!S58","v":8.8794166666666676},{"$f":"+TestAll!K58","v":8.2142857142857153},{"$f":"(+Midterm!I58)*30/50","v":8.1},null,34.915924603174602,58.193207671957673,"C",{"$f":"Class!AN39","v":0},55]
[{"$f":"+Name!A59","v":56},{"$f":"+Name!B59","v":" 553040320-9"},{"$f":"+Name!C59","v":" นางสาวชลธิชา นาสินสร้อย"},{"$f":"+Name!D59","v":" EN-ME"},{"$f":"+Name!G59","v":2.81},{"$f":"+Name!H59","v":1},{"$f":"+HomeworkAll!S59","v":8.7925925925925945},{"$f":"+QuizAll!S59","v":10},{"$f":"+TestAll!K59","v":8.7857142857142847},{"$f":"(+Midterm!I59)*30/50","v":16.8},null,44.37830687830688,73.96384479717814,"B",{"$f":"Class!AN38","v":0},56]
[{"$f":"+Name!A60","v":57},{"$f":"+Name!B60","v":" 553040321-7"},{"$f":"+Name!C60","v":" นายชลวิทย์ พิสิฐรัตนวงศ์"},{"$f":"+Name!D60","v":" EN-IE"},{"$f":"+Name!G60","v":2.19},{"$f":"+Name!H60","v":1},{"$f":"+HomeworkAll!S60","v":9.3101010101010111},{"$f":"+QuizAll!S60","v":9.1458333333333339},{"$f":"+TestAll!K60","v":8.3452380952380949},{"$f":"(+Midterm!I60)*30/50","v":8.4},null,35.201172438672437,58.668620731120726,"C",{"$f":"Class!AN37","v":0},57]
[{"$f":"+Name!A61","v":58},{"$f":"+Name!B61","v":" 553040326-7"},{"$f":"+Name!C61","v":" นางสาวญาดา ยิ้มยินดี"},{"$f":"+Name!D61","v":" EN-IE"},{"$f":"+Name!G61","v":2.09},{"$f":"+Name!H61","v":1},{"$f":"+HomeworkAll!S61","v":9.0826599326599329},{"$f":"+QuizAll!S61","v":8.875},{"$f":"+TestAll!K61","v":7.8095238095238102},{"$f":"(+Midterm!I61)*30/50","v":14.4},null,40.167183742183745,66.945306236972911,"C+",{"$f":"Class!AN36","v":0},58]
[{"$f":"+Name!A62","v":59},{"$f":"+Name!B62","v":" 553040336-4"},{"$f":"+Name!C62","v":" นายทวีรัช ทาจันทร์"},{"$f":"+Name!D62","v":" EN-ME"},{"$f":"+Name!G62","v":2.46},{"$f":"+Name!H62","v":1},{"$f":"+HomeworkAll!S62","v":5.4305555555555562},{"$f":"+QuizAll!S62","v":6.4652499999999993},{"$f":"+TestAll!K62","v":8.0952380952380949},{"$f":"(+Midterm!I62)*30/50","v":8.4},null,28.391043650793648,47.318406084656075,"D+",{"$f":"Class!AN35","v":0},59]
[{"$f":"+Name!A63","v":60},{"$f":"+Name!B63","v":" 553040339-8"},{"$f":"+Name!C63","v":" นายแทนพงศ์ พุทธลา"},{"$f":"+Name!D63","v":" EN-ME"},{"$f":"+Name!G63","v":2.73},{"$f":"+Name!H63","v":1},{"$f":"+HomeworkAll!S63","v":9.2937710437710432},{"$f":"+QuizAll!S63","v":9.75},{"$f":"+TestAll!K63","v":8.5714285714285712},{"$f":"(+Midterm!I63)*30/50","v":10.199999999999999},null,37.815199615199617,63.02533269199936,"C+",{"$f":"Class!AN34","v":0},60]
[{"$f":"+Name!A64","v":61},{"$f":"+Name!B64","v":" 553040340-3"},{"$f":"+Name!C64","v":" นายธนกฤต เหล่าพิเดช"},{"$f":"+Name!D64","v":" EN-IE"},{"$f":"+Name!G64","v":2.23},{"$f":"+Name!H64","v":1},{"$f":"+HomeworkAll!S64","v":9.7962962962962958},{"$f":"+QuizAll!S64","v":8.0458333333333343},{"$f":"+TestAll!K64","v":8.1071428571428577},{"$f":"(+Midterm!I64)*30/50","v":15.6},null,41.549272486772487,69.248787477954139,"C+",{"$f":"Class!AN33","v":0},61]
[{"$f":"+Name!A65","v":62},{"$f":"+Name!B65","v":" 553040346-1"},{"$f":"+Name!C65","v":" นางสาวธันยมัย มูลมณี"},{"$f":"+Name!D65","v":" EN-IE"},{"$f":"+Name!G65","v":1.92},{"$f":"+Name!H65","v":1},{"$f":"+HomeworkAll!S65","v":9.2287037037037027},{"$f":"+QuizAll!S65","v":9.0000000000000018},{"$f":"+TestAll!K65","v":8.3333333333333339},{"$f":"(+Midterm!I65)*30/50","v":4.2},null,30.762037037037036,51.270061728395056,"C",{"$f":"Class!AN32","v":0},62]
[{"$f":"+Name!A66","v":63},{"$f":"+Name!B66","v":" 553040347-9"},{"$f":"+Name!C66","v":" นายธันวา ไกยราช"},{"$f":"+Name!D66","v":" EN-ME"},{"$f":"+Name!G66","v":2.72},{"$f":"+Name!H66","v":1},{"$f":"+HomeworkAll!S66","v":8.197180134680135},{"$f":"+QuizAll!S66","v":8.3375000000000004},{"$f":"+TestAll!K66","v":6.0714285714285712},{"$f":"(+Midterm!I66)*30/50","v":11.4},null,34.006108706108705,56.676847843514508,"C",{"$f":"Class!AN31","v":0},63]
[{"$f":"+Name!A67","v":64},{"$f":"+Name!B67","v":" 553040349-5"},{"$f":"+Name!C67","v":" นายธิบดี ธิแก้ว"},{"$f":"+Name!D67","v":" EN-IE"},{"$f":"+Name!G67","v":2.15},{"$f":"+Name!H67","v":1},{"$f":"+HomeworkAll!S67","v":8.5384259259259263},{"$f":"+QuizAll!S67","v":8.9166666666666661},{"$f":"+TestAll!K67","v":3.9523809523809521},{"$f":"(+Midterm!I67)*30/50","v":1.8},null,23.207473544973546,38.679122574955912,"F",{"$f":"Class!AN30","v":0},64]
[{"$f":"+Name!A68","v":65},{"$f":"+Name!B68","v":" 553040359-2"},{"$f":"+Name!C68","v":" นางสาวเบญจวรรณ มั่นวงษ์"},{"$f":"+Name!D68","v":" EN-IE"},{"$f":"+Name!G68","v":2.02},{"$f":"+Name!H68","v":1},{"$f":"+HomeworkAll!S68","v":4.1155303030303028},{"$f":"+QuizAll!S68","v":7.166666666666667},{"$f":"+TestAll!K68","v":9.0738095238095227},{"$f":"(+Midterm!I68)*30/50","v":13.2},null,{"$f":"SUM(G68:K68)","v":33.556006493506487},{"$f":"(L68/$L$1)*100","v":55.926677489177479},{"$f":"grade(M68)","v":"C"},{"$f":"Class!AN29","v":0},65]
[{"$f":"+Name!A69","v":66},{"$f":"+Name!B69","v":" 553040365-7"},{"$f":"+Name!C69","v":" นางสาวปรีม สุขเสนีย์"},{"$f":"+Name!D69","v":" EN-ME"},{"$f":"+Name!G69","v":2.4700000000000002},{"$f":"+Name!H69","v":1},{"$f":"+HomeworkAll!S69","v":7.7296717171717173},{"$f":"+QuizAll!S69","v":8.7698333333333327},{"$f":"+TestAll!K69","v":9.1190476190476186},{"$f":"(+Midterm!I69)*30/50","v":15.9},null,41.518552669552669,69.197587782587775,"C+",{"$f":"Class!AN28","v":0},66]
[{"$f":"+Name!A70","v":67},{"$f":"+Name!B70","v":" 553040368-1"},{"$f":"+Name!C70","v":" นางสาวปุณฑริกา สิทธิกรชัย"},{"$f":"+Name!D70","v":" EN-IE"},{"$f":"+Name!G70","v":2.2599999999999998},{"$f":"+Name!H70","v":1},{"$f":"+HomeworkAll!S70","v":6.9133838383838393},{"$f":"+QuizAll!S70","v":7.1749166666666664},{"$f":"+TestAll!K70","v":8.5952380952380949},{"$f":"(+Midterm!I70)*30/50","v":9.3000000000000007},null,31.9835386002886,53.305897667147676,"C",{"$f":"Class!AN27","v":0},67]
[{"$f":"+Name!A71","v":68},{"$f":"+Name!B71","v":" 553040380-1"},{"$f":"+Name!C71","v":" นายพิธพล พลเพชร"},{"$f":"+Name!D71","v":" EN-IE"},{"$f":"+Name!G71","v":2.21},{"$f":"+Name!H71","v":1},{"$f":"+HomeworkAll!S71","v":7.799074074074074},{"$f":"+QuizAll!S71","v":4.7222499999999998},{"$f":"+TestAll!K71","v":7},{"$f":"(+Midterm!I71)*30/50","v":16.8},null,36.32132407407407,60.535540123456791,"C+",{"$f":"Class!AN26","v":0},68]
[{"$f":"+Name!A72","v":69},{"$f":"+Name!B72","v":" 553040383-5"},{"$f":"+Name!C72","v":" นายพีระพงษ์ สิมงาม"},{"$f":"+Name!D72","v":" EN-ME"},{"$f":"+Name!G72","v":2.69},{"$f":"+Name!H72","v":1},{"$f":"+HomeworkAll!S72","v":9.650252525252526},{"$f":"+QuizAll!S72","v":10},{"$f":"+TestAll!K72","v":7.9523809523809526},{"$f":"(+Midterm!I72)*30/50","v":19.5},null,47.102633477633475,78.504389129389125,"B+",{"$f":"Class!AN25","v":0},69]
[{"$f":"+Name!A73","v":70},{"$f":"+Name!B73","v":" 553040386-9"},{"$f":"+Name!C73","v":" นายภัทรพล สารผล"},{"$f":"+Name!D73","v":" EN-IE"},{"$f":"+Name!G73","v":2.08},{"$f":"+Name!H73","v":1},{"$f":"+HomeworkAll!S73","v":7.8333333333333339},{"$f":"+QuizAll!S73","v":5.7433333333333341},{"$f":"+TestAll!K73","v":6.4047619047619042},{"$f":"(+Midterm!I73)*30/50","v":2.4},null,22.381428571428572,37.30238095238095,"F",{"$f":"Class!AN24","v":0},70]
[{"$f":"+Name!A74","v":71},{"$f":"+Name!B74","v":" 553040387-7"},{"$f":"+Name!C74","v":" นายภาคภูมิ ประเสริฐ"},{"$f":"+Name!D74","v":" EN-ME"},{"$f":"+Name!G74","v":2.86},{"$f":"+Name!H74","v":1},{"$f":"+HomeworkAll!S74","v":9.4505471380471384},{"$f":"+QuizAll!S74","v":9.75},{"$f":"+TestAll!K74","v":9.7619047619047628},{"$f":"(+Midterm!I74)*30/50","v":24.9},null,53.8624518999519,89.770753166586502,"A",{"$f":"Class!AN23","v":0},71]
[{"$f":"+Name!A75","v":72},{"$f":"+Name!B75","v":" 553040391-6"},{"$f":"+Name!C75","v":" นายมารุต พลวัน"},{"$f":"+Name!D75","v":" EN-ME"},{"$f":"+Name!G75","v":2.77},{"$f":"+Name!H75","v":1},{"$f":"+HomeworkAll!S75","v":9.5609006734006741},{"$f":"+QuizAll!S75","v":9.5505833333333339},{"$f":"+TestAll!K75","v":9.7619047619047628},{"$f":"(+Midterm!I75)*30/50","v":21},null,49.873388768638776,83.122314614397965,"A",{"$f":"Class!AN22","v":0},72]
[{"$f":"+Name!A76","v":73},{"$f":"+Name!B76","v":" 553040397-4"},{"$f":"+Name!C76","v":" นายรัชชานนท์ หาญกล้า"},{"$f":"+Name!D76","v":" EN-ME"},{"$f":"+Name!G76","v":2.65},{"$f":"+Name!H76","v":1},{"$f":"+HomeworkAll!S76","v":3.104166666666667},{"$f":"+QuizAll!S76","v":4.25},{"$f":"+TestAll!K76","v":7.0476190476190474},{"$f":"(+Midterm!I76)*30/50","v":14.4},null,28.801785714285714,48.00297619047619,"D+",{"$f":"Class!AN21","v":0},73]
[{"$f":"+Name!A77","v":74},{"$f":"+Name!B77","v":" 553040400-1"},{"$f":"+Name!C77","v":" นายวงศธร เอียตระกูลไพบูลย์"},{"$f":"+Name!D77","v":" EN-IE"},{"$f":"+Name!G77","v":2.76},{"$f":"+Name!H77","v":1},{"$f":"+HomeworkAll!S77","v":9.6148148148148156},{"$f":"+QuizAll!S77","v":9.5750833333333336},{"$f":"+TestAll!K77","v":9.4523809523809526},{"$f":"(+Midterm!I77)*30/50","v":23.4},null,52.0422791005291,86.737131834215162,"A",{"$f":"Class!AN20","v":0},74]
[{"$f":"+Name!A78","v":75},{"$f":"+Name!B78","v":" 553040401-9"},{"$f":"+Name!C78","v":" นายวชิรวิทย์ นวรัตนากร"},{"$f":"+Name!D78","v":" EN-IE"},{"$f":"+Name!G78","v":2.83},{"$f":"+Name!H78","v":1},{"$f":"+HomeworkAll!S78","v":7.8819444444444438},{"$f":"+QuizAll!S78","v":7.2816666666666663},{"$f":"+TestAll!K78","v":8.2738095238095237},{"$f":"(+Midterm!I78)*30/50","v":13.8},null,37.237420634920639,62.062367724867727,"C+",{"$f":"Class!AN19","v":0},75]
[{"$f":"+Name!A79","v":76},{"$f":"+Name!B79","v":" 553040404-3"},{"$f":"+Name!C79","v":" นายวนัสมัญ กฤษณะสุวรรณ"},{"$f":"+Name!D79","v":" EN-IE"},{"$f":"+Name!G79","v":2.2999999999999998},{"$f":"+Name!H79","v":1},{"$f":"+HomeworkAll!S79","v":0.77777777777777779},{"$f":"+QuizAll!S79","v":1.6025},{"$f":"+TestAll!K79","v":0},{"$f":"(+Midterm!I79)*30/50","v":1.5},null,3.8802777777777777,6.4671296296296292,"F",{"$f":"Class!AN18","v":0},76]
[{"$f":"+Name!A80","v":77},{"$f":"+Name!B80","v":" 553040417-4"},{"$f":"+Name!C80","v":" นางสาวศศิวิมล กองพันธ์"},{"$f":"+Name!D80","v":" EN-IE"},{"$f":"+Name!G80","v":2.94},{"$f":"+Name!H80","v":1},{"$f":"+HomeworkAll!S80","v":9.4736111111111114},{"$f":"+QuizAll!S80","v":8.4166666666666661},{"$f":"+TestAll!K80","v":8.7261904761904763},{"$f":"(+Midterm!I80)*30/50","v":12.3},null,38.916468253968247,64.860780423280417,"C+",{"$f":"Class!AN17","v":0},77]
[{"$f":"+Name!A81","v":78},{"$f":"+Name!B81","v":" 553040420-5"},{"$f":"+Name!C81","v":" นางสาวศิรินาถ ดวงพิมพ์"},{"$f":"+Name!D81","v":" EN-IE"},{"$f":"+Name!G81","v":2.21},{"$f":"+Name!H81","v":1},{"$f":"+HomeworkAll!S81","v":9.5995370370370363},{"$f":"+QuizAll!S81","v":8.1875},{"$f":"+TestAll!K81","v":7.6547619047619051},{"$f":"(+Midterm!I81)*30/50","v":3.9},null,29.341798941798942,48.90299823633157,"D+",{"$f":"Class!AN16","v":0},78]
[{"$f":"+Name!A82","v":79},{"$f":"+Name!B82","v":" 553040426-3"},{"$f":"+Name!C82","v":" นายสหภาพ เพียรชนะ"},{"$f":"+Name!D82","v":" EN-ME"},{"$f":"+Name!G82","v":3.13},{"$f":"+Name!H82","v":1},{"$f":"+HomeworkAll!S82","v":8.8545875420875433},{"$f":"+QuizAll!S82","v":9.8333333333333339},{"$f":"+TestAll!K82","v":8.1238095238095234},{"$f":"(+Midterm!I82)*30/50","v":24},null,50.811730399230399,84.68621733205066,"A",{"$f":"Class!AN15","v":0},79]
[{"$f":"+Name!A83","v":80},{"$f":"+Name!B83","v":" 553040427-1"},{"$f":"+Name!C83","v":" นายสิทธิชัย เมืองโคตร"},{"$f":"+Name!D83","v":" EN-ME"},{"$f":"+Name!G83","v":2.35},{"$f":"+Name!H83","v":1},{"$f":"+HomeworkAll!S83","v":5.2407407407407405},{"$f":"+QuizAll!S83","v":8.6366666666666685},{"$f":"+TestAll!K83","v":6.0714285714285712},{"$f":"(+Midterm!I83)*30/50","v":7.2},null,27.148835978835979,45.248059964726636,"D+",{"$f":"Class!AN14","v":0},80]
[{"$f":"+Name!A84","v":81},{"$f":"+Name!B84","v":" 553040428-9"},{"$f":"+Name!C84","v":" นางสาวสุกัญญา ธารานุวงศ์"},{"$f":"+Name!D84","v":" EN-ME"},{"$f":"+Name!G84","v":2.8},{"$f":"+Name!H84","v":1},{"$f":"+HomeworkAll!S84","v":9.2276936026936038},{"$f":"+QuizAll!S84","v":8.9722500000000007},{"$f":"+TestAll!K84","v":9.1071428571428577},{"$f":"(+Midterm!I84)*30/50","v":20.100000000000001},null,47.407086459836464,79.011810766394106,"B+",{"$f":"Class!AN13","v":0},81]
[{"$f":"+Name!A85","v":82},{"$f":"+Name!B85","v":" 553040429-7"},{"$f":"+Name!C85","v":" นางสาวสุกัญญา เวียงสิมา"},{"$f":"+Name!D85","v":" EN-IE"},{"$f":"+Name!G85","v":2.2799999999999998},{"$f":"+Name!H85","v":1},{"$f":"+HomeworkAll!S85","v":9.4660353535353536},{"$f":"+QuizAll!S85","v":8.0475833333333338},{"$f":"+TestAll!K85","v":8.9285714285714288},{"$f":"(+Midterm!I85)*30/50","v":12.3},null,38.742190115440124,64.570316859066878,"C+",{"$f":"Class!AN12","v":0},82]
[{"$f":"+Name!A86","v":83},{"$f":"+Name!B86","v":" 553040430-2"},{"$f":"+Name!C86","v":" นางสาวสุฑิฌา อินทนนท์"},{"$f":"+Name!D86","v":" EN-IE"},{"$f":"+Name!G86","v":1.95},{"$f":"+Name!H86","v":1},{"$f":"+HomeworkAll!S86","v":9.8472222222222232},{"$f":"+QuizAll!S86","v":8.2508333333333344},{"$f":"+TestAll!K86","v":8.6666666666666661},{"$f":"(+Midterm!I86)*30/50","v":0},null,26.764722222222225,44.607870370370378,"D",{"$f":"Class!AN11","v":0},83]
[{"$f":"+Name!A87","v":84},{"$f":"+Name!B87","v":" 553040434-4"},{"$f":"+Name!C87","v":" นางสาวสุรัชนา ตุ่นแก้ว"},{"$f":"+Name!D87","v":" EN-ME"},{"$f":"+Name!G87","v":2.62},{"$f":"+Name!H87","v":1},{"$f":"+HomeworkAll!S87","v":9.8944444444444439},{"$f":"+QuizAll!S87","v":9.6741666666666664},{"$f":"+TestAll!K87","v":7.5833333333333339},{"$f":"(+Midterm!I87)*30/50","v":18},null,45.151944444444446,75.25324074074075,"B+",{"$f":"Class!AN10","v":0},84]
[{"$f":"+Name!A88","v":85},{"$f":"+Name!B88","v":" 553040436-0"},{"$f":"+Name!C88","v":" นายเสฎฐฌาน น้อยอาษา"},{"$f":"+Name!D88","v":" EN-ME"},{"$f":"+Name!G88","v":2.2599999999999998},{"$f":"+Name!H88","v":1},{"$f":"+HomeworkAll!S88","v":7.2430555555555554},{"$f":"+QuizAll!S88","v":8.3472500000000007},{"$f":"+TestAll!K88","v":6.8095238095238102},{"$f":"(+Midterm!I88)*30/50","v":7.2},null,29.599829365079366,49.333048941798943,"D+",{"$f":"Class!AN9","v":0},85]
[{"$f":"+Name!A89","v":86},{"$f":"+Name!B89","v":" 553040448-3"},{"$f":"+Name!C89","v":" นายอาทิตย์ ขาวสนิท"},{"$f":"+Name!D89","v":" EN-ME"},{"$f":"+Name!G89","v":2.65},{"$f":"+Name!H89","v":1},{"$f":"+HomeworkAll!S89","v":9.3577441077441073},{"$f":"+QuizAll!S89","v":9.1666666666666679},{"$f":"+TestAll!K89","v":8.1309523809523814},{"$f":"(+Midterm!I89)*30/50","v":6.6},null,33.255363155363156,55.425605258938596,"C",{"$f":"Class!AN8","v":0},86]
[{"$f":"+Name!A90","v":87},{"$f":"+Name!B90","v":" 553040449-1"},{"$f":"+Name!C90","v":" นายอานุภาพ วิจบ"},{"$f":"+Name!D90","v":" EN-IE"},{"$f":"+Name!G90","v":2.9},{"$f":"+Name!H90","v":1},{"$f":"+HomeworkAll!S90","v":9.4467592592592595},{"$f":"+QuizAll!S90","v":9.0833333333333321},{"$f":"+TestAll!K90","v":8.3809523809523814},{"$f":"(+Midterm!I90)*30/50","v":14.4},null,41.311044973544973,68.851741622574963,"C+",{"$f":"Class!AN7","v":0},87]
[{"$f":"+Name!A91","v":88},{"$f":"+Name!B91","v":" 553040450-6"},{"$f":"+Name!C91","v":" นายเอกราช คำงาม"},{"$f":"+Name!D91","v":" EN-ME"},{"$f":"+Name!G91","v":2.3199999999999998},{"$f":"+Name!H91","v":1},{"$f":"+HomeworkAll!S91","v":9.4236952861952865},{"$f":"+QuizAll!S91","v":6.961666666666666},{"$f":"+TestAll!K91","v":9.2619047619047628},{"$f":"(+Midterm!I91)*30/50","v":20.399999999999999},null,46.047266714766714,76.745444524611202,"B+",{"$f":"Class!AN6","v":0},88]
[{"$f":"+Name!A92","v":89},{"$f":"+Name!B92","v":" 553040454-8"},{"$f":"+Name!C92","v":" นายกลวัชร จงฤาชา"},{"$f":"+Name!D92","v":" EN-AE"},{"$f":"+Name!G92","v":2.2400000000000002},{"$f":"+Name!H92","v":1},{"$f":"+HomeworkAll!S92","v":7.0763888888888893},{"$f":"+QuizAll!S92","v":8.25},{"$f":"+TestAll!K92","v":5.2142857142857144},{"$f":"(+Midterm!I92)*30/50","v":2.7},null,23.240674603174604,38.734457671957671,"F",{"$f":"Class!AN5","v":0},89]
[{"$f":"+Name!A93","v":90},{"$f":"+Name!B93","v":" 553040458-0"},{"$f":"+Name!C93","v":" นางสาวจุฬาลักษณ์ ชมภูรักษ์"},{"$f":"+Name!D93","v":" EN-AE"},{"$f":"+Name!G93","v":2.57},{"$f":"+Name!H93","v":1},{"$f":"+HomeworkAll!S93","v":8.9333333333333336},{"$f":"+QuizAll!S93","v":8.5908333333333342},{"$f":"+TestAll!K93","v":6.4166666666666661},{"$f":"(+Midterm!I93)*30/50","v":3.6},null,27.540833333333332,45.901388888888889,"D+",{"$f":"Class!AN4","v":0},90]
[{"$f":"+Name!A94","v":91},{"$f":"+Name!B94","v":" 553040464-5"},{"$f":"+Name!C94","v":" นางสาวทิชากร จุลพันธ์"},{"$f":"+Name!D94","v":" EN-AE"},{"$f":"+Name!G94","v":1.97},{"$f":"+Name!H94","v":1},{"$f":"+HomeworkAll!S94","v":9.0643939393939394},{"$f":"+QuizAll!S94","v":7.916666666666667},{"$f":"+TestAll!K94","v":6.5833333333333339},{"$f":"(+Midterm!I94)*30/50","v":12},null,35.564393939393938,59.273989898989896,"C",{"$f":"Class!AN5","v":0},91]
[{"$f":"+Name!A95","v":92},{"$f":"+Name!B95","v":" 553040467-9"},{"$f":"+Name!C95","v":" นายนพพล รัตน์ปิยะภาภรณ์"},{"$f":"+Name!D95","v":" EN-AE"},{"$f":"+Name!G95","v":2.57},{"$f":"+Name!H95","v":1},{"$f":"+HomeworkAll!S95","v":9.4993686868686869},{"$f":"+QuizAll!S95","v":9.6666666666666661},{"$f":"+TestAll!K95","v":8.1071428571428577},{"$f":"(+Midterm!I95)*30/50","v":14.4},null,41.673178210678209,69.455297017797008,"C+",{"$f":"Class!AN6","v":0},92]
[{"$f":"+Name!A96","v":93},{"$f":"+Name!B96","v":" 553040468-7"},{"$f":"+Name!C96","v":" นางสาวบังอร ทนน้ำ"},{"$f":"+Name!D96","v":" EN-AE"},{"$f":"+Name!G96","v":2.6},{"$f":"+Name!H96","v":1},{"$f":"+HomeworkAll!S96","v":9.1224326599326613},{"$f":"+QuizAll!S96","v":8.4491666666666667},{"$f":"+TestAll!K96","v":6.7023809523809526},{"$f":"(+Midterm!I96)*30/50","v":6.3},null,30.573980278980279,50.956633798300466,"C",{"$f":"Class!AN7","v":0},93]
[{"$f":"+Name!A97","v":94},{"$f":"+Name!B97","v":" 553040476-8"},{"$f":"+Name!C97","v":" นายมงคลลักษ์ วงษ์ศรีมี"},{"$f":"+Name!D97","v":" EN-AE"},{"$f":"+Name!G97","v":2.83},{"$f":"+Name!H97","v":1},{"$f":"+HomeworkAll!S97","v":9.3952020202020208},{"$f":"+QuizAll!S97","v":9.6666666666666661},{"$f":"+TestAll!K97","v":8.1666666666666661},{"$f":"(+Midterm!I97)*30/50","v":13.5},null,40.728535353535349,67.880892255892249,"C+",{"$f":"Class!AN8","v":0},94]
[{"$f":"+Name!A98","v":95},{"$f":"+Name!B98","v":" 553040485-7"},{"$f":"+Name!C98","v":" นายอานันต์ หอมเนียม"},{"$f":"+Name!D98","v":" EN-AE"},{"$f":"+Name!G98","v":2.2400000000000002},{"$f":"+Name!H98","v":1},{"$f":"+HomeworkAll!S98","v":9.7013888888888893},{"$f":"+QuizAll!S98","v":9.0416666666666661},{"$f":"+TestAll!K98","v":7.9047619047619051},{"$f":"(+Midterm!I98)*30/50","v":4.8},null,31.447817460317463,52.413029100529108,"C",{"$f":"Class!AN9","v":0},95]
[{"$f":"+Name!A99","v":96},{"$f":"+Name!B99","v":" 553040614-2"},{"$f":"+Name!C99","v":" นายจตุรงค์ ถนอมศิลป์"},{"$f":"+Name!D99","v":" EN-ME (พิเศษ ม.6)"},{"$f":"+Name!G99","v":0},{"$f":"+Name!H99","v":"4"},{"$f":"+HomeworkAll!S99","v":9.9166666666666679},{"$f":"+QuizAll!S99","v":9.5458333333333343},{"$f":"+TestAll!K99","v":9.8571428571428577},{"$f":"(+Midterm!I99)*30/50","v":21},null,50.31964285714286,83.866071428571431,"A",{"$f":"Class!AN10","v":0},96]
[{"$f":"+Name!A100","v":97},{"$f":"+Name!B100","v":" 553040617-6"},{"$f":"+Name!C100","v":" นายชัยศิริ ลี้มีธรรม"},{"$f":"+Name!D100","v":" EN-ME (พิเศษ ม.6)"},{"$f":"+Name!G100","v":0},{"$f":"+Name!H100","v":"4"},{"$f":"+HomeworkAll!S100","v":9.131607744107745},{"$f":"+QuizAll!S100","v":7.7916666666666679},{"$f":"+TestAll!K100","v":8.6428571428571423},{"$f":"(+Midterm!I100)*30/50","v":12.3},null,{"$f":"SUM(G100:K100)","v":37.866131553631554},{"$f":"(L100/$L$1)*100","v":63.110219256052588},{"$f":"grade(M100)","v":"C+"},{"$f":"Class!AN11","v":0},97]
[{"$f":"+Name!A101","v":98},{"$f":"+Name!B101","v":" 553040618-4"},{"$f":"+Name!C101","v":" นายเชษฐพงษ์ สาขา"},{"$f":"+Name!D101","v":" EN-ME (พิเศษ ม.6)"},{"$f":"+Name!G101","v":0},{"$f":"+Name!H101","v":"4"},{"$f":"+HomeworkAll!S101","v":8.4349747474747474},{"$f":"+QuizAll!S101","v":8.557500000000001},{"$f":"+TestAll!K101","v":8.8452380952380949},{"$f":"(+Midterm!I101)*30/50","v":18},null,43.837712842712847,73.062854737854749,"B",{"$f":"Class!AN12","v":0},98]
[{"$f":"+Name!A102","v":99},{"$f":"+Name!B102","v":" 553040621-5"},{"$f":"+Name!C102","v":" นายณัฐพล หอมจะบก"},{"$f":"+Name!D102","v":" EN-ME (พิเศษ ม.6)"},{"$f":"+Name!G102","v":0},{"$f":"+Name!H102","v":"4"},{"$f":"+HomeworkAll!S102","v":3.2752525252525255},{"$f":"+QuizAll!S102","v":7.3333333333333339},{"$f":"+TestAll!K102","v":7.4523809523809526},{"$f":"(+Midterm!I102)*30/50","v":14.4},null,32.460966810966809,54.101611351611346,"C",{"$f":"Class!AN13","v":0},99]
[{"$f":"+Name!A103","v":100},{"$f":"+Name!B103","v":" 553040622-3"},{"$f":"+Name!C103","v":" นายทศพล ฉายจรุง"},{"$f":"+Name!D103","v":" EN-ME (พิเศษ ม.6)"},{"$f":"+Name!G103","v":0},{"$f":"+Name!H103","v":"4"},{"$f":"+HomeworkAll!S103","v":8.9097222222222232},{"$f":"+QuizAll!S103","v":9.3791666666666682},{"$f":"+TestAll!K103","v":8.1428571428571423},{"$f":"(+Midterm!I103)*30/50","v":11.1},null,37.531746031746032,62.55291005291005,"C+",{"$f":"Class!AN14","v":0},100]
[{"$f":"+Name!A104","v":101},{"$f":"+Name!B104","v":" 553040623-1"},{"$f":"+Name!C104","v":" นายเทพนรินทร์ อินธิราช"},{"$f":"+Name!D104","v":" EN-ME (พิเศษ ม.6)"},{"$f":"+Name!G104","v":0},{"$f":"+Name!H104","v":"4"},{"$f":"+HomeworkAll!S104","v":9.6102693602693616},{"$f":"+QuizAll!S104","v":9.8333333333333339},{"$f":"+TestAll!K104","v":8.3809523809523814},{"$f":"(+Midterm!I104)*30/50","v":18},null,45.824555074555079,76.374258457591793,"B+",{"$f":"Class!AN15","v":0},101]
[{"$f":"+Name!A105","v":102},{"$f":"+Name!B105","v":" 553040624-9"},{"$f":"+Name!C105","v":" นายธนะสิทธิ์ รุจิระโชติวัฒน์"},{"$f":"+Name!D105","v":" EN-ME (พิเศษ ม.6)"},{"$f":"+Name!G105","v":0},{"$f":"+Name!H105","v":"4"},{"$f":"+HomeworkAll!S105","v":9.4673821548821557},{"$f":"+QuizAll!S105","v":9.5},{"$f":"+TestAll!K105","v":8.0476190476190474},{"$f":"(+Midterm!I105)*30/50","v":21},null,48.015001202501203,80.025002004168684,"A",{"$f":"Class!AN16","v":0},102]
[{"$f":"+Name!A106","v":103},{"$f":"+Name!B106","v":" 553040625-7"},{"$f":"+Name!C106","v":" นายธีรศักดิ์ สังสิทธิสวัสดิ์"},{"$f":"+Name!D106","v":" EN-ME (พิเศษ ม.6)"},{"$f":"+Name!G106","v":0},{"$f":"+Name!H106","v":"4"},{"$f":"+HomeworkAll!S106","v":0},{"$f":"+QuizAll!S106","v":0},{"$f":"+TestAll!K106","v":0},{"$f":"(+Midterm!I106)*30/50","v":0},null,0,0,"F",{"$f":"Class!AN17","v":0},103]
[{"$f":"+Name!A107","v":104},{"$f":"+Name!B107","v":" 553040626-5"},{"$f":"+Name!C107","v":" นายปฏิภาณ สังข์ชัย"},{"$f":"+Name!D107","v":" EN-ME (พิเศษ ม.6)"},{"$f":"+Name!G107","v":0},{"$f":"+Name!H107","v":"4"},{"$f":"+HomeworkAll!S107","v":9.2058080808080813},{"$f":"+QuizAll!S107","v":7.7958333333333343},{"$f":"+TestAll!K107","v":7.7369047619047624},{"$f":"(+Midterm!I107)*30/50","v":11.4},null,36.138546176046177,60.23091029341029,"C+",{"$f":"Class!AN18","v":0},104]
[{"$f":"+Name!A108","v":105},{"$f":"+Name!B108","v":" 553040631-2"},{"$f":"+Name!C108","v":" นายพงศ์รัตน์ ณ หนองคาย"},{"$f":"+Name!D108","v":" EN-ME (พิเศษ ม.6)"},{"$f":"+Name!G108","v":0},{"$f":"+Name!H108","v":"4"},{"$f":"+HomeworkAll!S108","v":8.7117003367003392},{"$f":"+QuizAll!S108","v":9.6025000000000009},{"$f":"+TestAll!K108","v":8.3571428571428577},{"$f":"(+Midterm!I108)*30/50","v":12.6},null,39.271343193843194,65.452238656405328,"C+",{"$f":"Class!AN19","v":0},105]
[{"$f":"+Name!A109","v":106},{"$f":"+Name!B109","v":" 553040636-2"},{"$f":"+Name!C109","v":" นายรัชชานนท์ บุญอาษา"},{"$f":"+Name!D109","v":" EN-ME (พิเศษ ม.6)"},{"$f":"+Name!G109","v":0},{"$f":"+Name!H109","v":"4"},{"$f":"+HomeworkAll!S109","v":9.3644781144781142},{"$f":"+QuizAll!S109","v":9.5075000000000003},{"$f":"+TestAll!K109","v":6.9642857142857144},{"$f":"(+Midterm!I109)*30/50","v":11.4},null,37.236263828763832,62.060439714606389,"C+",{"$f":"Class!AN20","v":0},106]
[{"$f":"+Name!A110","v":107},{"$f":"+Name!B110","v":" 563040310-3"},{"$f":"+Name!C110","v":" นางสาวธัญชนภ ธีระเดชธำดง"},{"$f":"+Name!D110","v":"EN-IE"},{"$f":"+Name!G110","v":0},{"$f":"+Name!H110","v":"4"},{"$f":"+HomeworkAll!S110","v":9.9277777777777789},{"$f":"+QuizAll!S110","v":10},{"$f":"+TestAll!K110","v":8.7261904761904763},{"$f":"(+Midterm!I110)*30/50","v":26.1},null,54.753968253968253,91.25661375661376,"A",{"$f":"Class!AN21","v":0},107]
[null,null,null,"Average",{"$f":"AVERAGE(E4:E109)","v":2.2766981132075474},null,{"$f":"AVERAGE(G5:G110)","v":8.1575485594943125},{"$f":"AVERAGE(H4:H110)","v":8.3477461059190023},{"$f":"AVERAGE(I4:I110)","v":7.6955941255006683},null,{"$f":"AVERAGE(K4:K110)","v":{"$error":"#DIV/0!"}},{"$f":"AVERAGE(L4:L110)","v":38.189875876027749},{"$f":"AVERAGE(M4:M110)","v":63.649793126712908}]
[null,null,null,"Max",{"$f":"MAX(E4:E109)","v":3.28},null,{"$f":"MAX(G5:G110)","v":9.9722222222222232},{"$f":"MAX(H4:H110)","v":10},{"$f":"MAX(I4:I110)","v":9.875},null,{"$f":"MAX(K4:K110)","v":0},{"$f":"MAX(L4:L110)","v":54.753968253968253},{"$f":"MAX(M4:M110)","v":91.25661375661376}]
[null,null,null,"SD",{"$f":"STDEV(E4:E109)","v":0.85651199830154301},null,{"$f":"STDEV(G4:G110)","v":2.16771589066918},{"$f":"STDEV(H4:H110)","v":1.9324277704065647},{"$f":"STDEV(I4:I110)","v":1.7439441322874512},null,{"$f":"STDEV(K4:K110)","v":{"$error":"#DIV/0!"}},{"$f":"STDEV(L4:L110)","v":9.8621384469441367},{"$f":"STDEV(M4:M110)","v":16.436897411573611}]

{"sheet":"SignName","index":3,"n_rows":49,"n_cols":30,"rows_kept":49,"cut":false,"hidden":false,"merged":[]}
["รายวิชา  195231 : THERMODYNAMICS I",null,null,null,null,null,null,"Section 1",null,"ปีการศึกษา 2556 ภาคการศึกษาที่ 1",null,null,null,null,null,null,"รศ.ดร.สมหมาย ปรีเปรม","รายวิชา  195231 : THERMODYNAMICS I",null,null,null,null,null,null,null,null,null,null,null,"Section 4"]
[null,null,null,null,null,null,null,null,null,null,null,null,null,null,null,null,null,"ปีการศึกษา 2556 ภาคการศึกษาที่ 1",null,null,null,null,null,null,"รศ.ดร.สมหมาย ปรีเปรม"]
["ที่"," รหัส","ชื่อ","หลักสูตร","Group",null,null,null,null,"ที่"," รหัส","ชื่อ","หลักสูตร","Group",null,null,null,"ที่"," รหัส","ชื่อ","หลักสูตร","Group"]
[{"$f":"Name!A4","v":1},{"$f":"Name!B4","v":" 553040026-9"},{"$f":"Name!C4","v":" นางสาวกนกกาญจน์ อุปสาร"},{"$f":"Name!D4","v":" EN-IE"},{"$f":"Name!H4","v":1},".",null,null,null,{"$f":"Name!A50","v":47},{"$f":"Name!B50","v":" 553040290-2"},{"$f":"Name!C50","v":" นายกานตภณ รุ่งฤทัยวัฒน์"},{"$f":"Name!D50","v":" EN-IE"},{"$f":"Name!H50","v":1},".",null,null,{"$f":"Name!A96","v":93},{"$f":"Name!B96","v":" 553040468-7"},{"$f":"Name!C96","v":" นางสาวบังอร ทนน้ำ"},{"$f":"Name!D96","v":" EN-AE"},{"$f":"Name!H96","v":1},".",null,null,".",null,null,"."]
[{"$f":"Name!A5","v":2},{"$f":"Name!B5","v":" 553040032-4"},{"$f":"Name!C5","v":" นายกิตติภัทร จิตรกสิกร"},{"$f":"Name!D5","v":" EN-IE"},{"$f":"Name!H5","v":1},".",null,null,null,{"$f":"Name!A51","v":48},{"$f":"Name!B51","v":" 553040297-8"},{"$f":"Name!C51","v":" นางสาวขวัญตา สุวรรณจันทร์"},{"$f":"Name!D51","v":" EN-IE"},{"$f":"Name!H51","v":1},".",null,null,{"$f":"Name!A97","v":94},{"$f":"Name!B97","v":" 553040476-8"},{"$f":"Name!C97","v":" นายมงคลลักษ์ วงษ์ศรีมี"},{"$f":"Name!D97","v":" EN-AE"},{"$f":"Name!H97","v":1},".",null,null,".",null,null,"."]
[{"$f":"Name!A6","v":3},{"$f":"Name!B6","v":" 553040033-2"},{"$f":"Name!C6","v":" นายกิรติกร แก้วปานกัน"},{"$f":"Name!D6","v":" EN-ME"},{"$f":"Name!H6","v":1},".",null,null,null,{"$f":"Name!A52","v":49},{"$f":"Name!B52","v":" 553040298-6"},{"$f":"Name!C52","v":" นายคฑาวุธ นิลคุณ"},{"$f":"Name!D52","v":" EN-ME"},{"$f":"Name!H52","v":1},".",null,null,{"$f":"Name!A98","v":95},{"$f":"Name!B98","v":" 553040485-7"},{"$f":"Name!C98","v":" นายอานันต์ หอมเนียม"},{"$f":"Name!D98","v":" EN-AE"},{"$f":"Name!H98","v":1},".",null,null,".",null,null,"."]
[{"$f":"Name!A7","v":4},{"$f":"Name!B7","v":" 553040041-3"},{"$f":"Name!C7","v":" นางสาวชนาธินาถ โสกงโสด"},{"$f":"Name!D7","v":" EN-ME"},{"$f":"Name!H7","v":1},".",null,null,null,{"$f":"Name!A53","v":50},{"$f":"Name!B53","v":" 553040302-1"},{"$f":"Name!C53","v":" นายจรูญวิทย์ ยึนประโคน"},{"$f":"Name!D53","v":" EN-IE"},{"$f":"Name!H53","v":1},".",null,null,{"$f":"Name!A99","v":96},{"$f":"Name!B99","v":" 553040614-2"},{"$f":"Name!C99","v":" นายจตุรงค์ ถนอมศิลป์"},{"$f":"Name!D99","v":" EN-ME (พิเศษ ม.6)"},{"$f":"Name!H99","v":"4"},".",null,null,".",null,null,"."]
[{"$f":"Name!A8","v":5},{"$f":"Name!B8","v":" 553040045-5"},{"$f":"Name!C8","v":" นายณัฏฐกิตติ์ พูลประสงค์"},{"$f":"Name!D8","v":" EN-ME"},{"$f":"Name!H8","v":1},".",null,null,null,{"$f":"Name!A54","v":51},{"$f":"Name!B54","v":" 553040310-2"},{"$f":"Name!C54","v":" นายจีระวัฒน์ ศรีมีชัย"},{"$f":"Name!D54","v":" EN-IE"},{"$f":"Name!H54","v":1},".",null,null,{"$f":"Name!A100","v":97},{"$f":"Name!B100","v":" 553040617-6"},{"$f":"Name!C100","v":" นายชัยศิริ ลี้มีธรรม"},{"$f":"Name!D100","v":" EN-ME (พิเศษ ม.6)"},{"$f":"Name!H100","v":"4"},".",null,null,".",null,null,"."]
[{"$f":"Name!A9","v":6},{"$f":"Name!B9","v":" 553040047-1"},{"$f":"Name!C9","v":" นายณัฐพงษ์ กลิ่นมาลี"},{"$f":"Name!D9","v":" EN-ME"},{"$f":"Name!H9","v":1},".",null,null,null,{"$f":"Name!A55","v":52},{"$f":"Name!B55","v":" 553040312-8"},{"$f":"Name!C55","v":" นางสาวจุฑารัตน์ เลยยุทธ"},{"$f":"Name!D55","v":" EN-IE"},{"$f":"Name!H55","v":1},".",null,null,{"$f":"Name!A101","v":98},{"$f":"Name!B101","v":" 553040618-4"},{"$f":"Name!C101","v":" นายเชษฐพงษ์ สาขา"},{"$f":"Name!D101","v":" EN-ME (พิเศษ ม.6)"},{"$f":"Name!H101","v":"4"},".",null,null,".",null,null,"."]
[{"$f":"Name!A10","v":7},{"$f":"Name!B10","v":" 553040049-7"},{"$f":"Name!C10","v":" นายณัฐวัตร สุขสำราญ"},{"$f":"Name!D10","v":" EN-IE"},{"$f":"Name!H10","v":1},".",null,null,null,{"$f":"Name!A56","v":53},{"$f":"Name!B56","v":" 553040315-2"},{"$f":"Name!C56","v":" นางสาวจุฬารัตน์ แสนวงษ์"},{"$f":"Name!D56","v":" EN-ME"},{"$f":"Name!H56","v":1},".",null,null,{"$f":"Name!A102","v":99},{"$f":"Name!B102","v":" 553040621-5"},{"$f":"Name!C102","v":" นายณัฐพล หอมจะบก"},{"$f":"Name!D102","v":" EN-ME (พิเศษ ม.6)"},{"$f":"Name!H102","v":"4"},".",null,null,".",null,null,"."]
[{"$f":"Name!A11","v":8},{"$f":"Name!B11","v":" 553040050-2"},{"$f":"Name!C11","v":" นายณัฐวุฒิ ฆารประเดิม"},{"$f":"Name!D11","v":" EN-ME"},{"$f":"Name!H11","v":1},".",null,null,null,{"$f":"Name!A57","v":54},{"$f":"Name!B57","v":" 553040316-0"},{"$f":"Name!C57","v":" นางสาวเจนจิรา ปิยาโยค"},{"$f":"Name!D57","v":" EN-ME"},{"$f":"Name!H57","v":1},".",null,null,{"$f":"Name!A103","v":100},{"$f":"Name!B103","v":" 553040622-3"},{"$f":"Name!C103","v":" นายทศพล ฉายจรุง"},{"$f":"Name!D103","v":" EN-ME (พิเศษ ม.6)"},{"$f":"Name!H103","v":"4"},".",null,null,".",null,null,"."]
[{"$f":"Name!A12","v":9},{"$f":"Name!B12","v":" 553040052-8"},{"$f":"Name!C12","v":" นายถิรวัฒน์ แก้วคำปอด"},{"$f":"Name!D12","v":" EN-ME"},{"$f":"Name!H12","v":1},".",null,null,null,{"$f":"Name!A58","v":55},{"$f":"Name!B58","v":" 553040317-8"},{"$f":"Name!C58","v":" นายเจนณรงค์ อยู่ยง"},{"$f":"Name!D58","v":" EN-ME"},{"$f":"Name!H58","v":1},".",null,null,{"$f":"Name!A104","v":101},{"$f":"Name!B104","v":" 553040623-1"},{"$f":"Name!C104","v":" นายเทพนรินทร์ อินธิราช"},{"$f":"Name!D104","v":" EN-ME (พิเศษ ม.6)"},{"$f":"Name!H104","v":"4"},".",null,null,".",null,null,"."]
[{"$f":"Name!A13","v":10},{"$f":"Name!B13","v":" 553040057-8"},{"$f":"Name!C13","v":" นายธนวิชญ์ เลิศวุฒิชัยกุล"},{"$f":"Name!D13","v":" EN-IE"},{"$f":"Name!H13","v":1},".",null,null,null,{"$f":"Name!A59","v":56},{"$f":"Name!B59","v":" 553040320-9"},{"$f":"Name!C59","v":" นางสาวชลธิชา นาสินสร้อย"},{"$f":"Name!D59","v":" EN-ME"},{"$f":"Name!H59","v":1},".",null,null,{"$f":"Name!A105","v":102},{"$f":"Name!B105","v":" 553040624-9"},{"$f":"Name!C105","v":" นายธนะสิทธิ์ รุจิระโชติวัฒน์"},{"$f":"Name!D105","v":" EN-ME (พิเศษ ม.6)"},{"$f":"Name!H105","v":"4"},".",null,null,".",null,null,"."]
[{"$f":"Name!A14","v":11},{"$f":"Name!B14","v":" 553040059-4"},{"$f":"Name!C14","v":" นายธนากร บุญดาว"},{"$f":"Name!D14","v":" EN-ME"},{"$f":"Name!H14","v":1},".",null,null,null,{"$f":"Name!A60","v":57},{"$f":"Name!B60","v":" 553040321-7"},{"$f":"Name!C60","v":" นายชลวิทย์ พิสิฐรัตนวงศ์"},{"$f":"Name!D60","v":" EN-IE"},{"$f":"Name!H60","v":1},".",null,null,{"$f":"Name!A106","v":103},{"$f":"Name!B106","v":" 553040625-7"},{"$f":"Name!C106","v":" นายธีรศักดิ์ สังสิทธิสวัสดิ์"},{"$f":"Name!D106","v":" EN-ME (พิเศษ ม.6)"},{"$f":"Name!H106","v":"4"},".",null,null,".",null,null,"."]
[{"$f":"Name!A15","v":12},{"$f":"Name!B15","v":" 553040060-9"},{"$f":"Name!C15","v":" นายธนานนท์ ติรวีรขจร"},{"$f":"Name!D15","v":" EN-ME"},{"$f":"Name!H15","v":1},".",null,null,null,{"$f":"Name!A61","v":58},{"$f":"Name!B61","v":" 553040326-7"},{"$f":"Name!C61","v":" นางสาวญาดา ยิ้มยินดี"},{"$f":"Name!D61","v":" EN-IE"},{"$f":"Name!H61","v":1},".",null,null,{"$f":"Name!A107","v":104},{"$f":"Name!B107","v":" 553040626-5"},{"$f":"Name!C107","v":" นายปฏิภาณ สังข์ชัย"},{"$f":"Name!D107","v":" EN-ME (พิเศษ ม.6)"},{"$f":"Name!H107","v":"4"},".",null,null,".",null,null,"."]
[{"$f":"Name!A16","v":13},{"$f":"Name!B16","v":" 553040061-7"},{"$f":"Name!C16","v":" นายธนารักษ์ ศรีน้อย"},{"$f":"Name!D16","v":" EN-ME"},{"$f":"Name!H16","v":1},".",null,null,null,{"$f":"Name!A62","v":59},{"$f":"Name!B62","v":" 553040336-4"},{"$f":"Name!C62","v":" นายทวีรัช ทาจันทร์"},{"$f":"Name!D62","v":" EN-ME"},{"$f":"Name!H62","v":1},".",null,null,{"$f":"Name!A108","v":105},{"$f":"Name!B108","v":" 553040631-2"},{"$f":"Name!C108","v":" นายพงศ์รัตน์ ณ หนองคาย"},{"$f":"Name!D108","v":" EN-ME (พิเศษ ม.6)"},{"$f":"Name!H108","v":"4"},".",null,null,".",null,null,"."]
[{"$f":"Name!A17","v":14},{"$f":"Name!B17","v":" 553040063-3"},{"$f":"Name!C17","v":" นายธีรเจต เตรียมวิชานนท์"},{"$f":"Name!D17","v":" EN-ME"},{"$f":"Name!H17","v":1},".",null,null,null,{"$f":"Name!A63","v":60},{"$f":"Name!B63","v":" 553040339-8"},{"$f":"Name!C63","v":" นายแทนพงศ์ พุทธลา"},{"$f":"Name!D63","v":" EN-ME"},{"$f":"Name!H63","v":1},".",null,null,{"$f":"Name!A109","v":106},{"$f":"Name!B109","v":" 553040636-2"},{"$f":"Name!C109","v":" นายรัชชานนท์ บุญอาษา"},{"$f":"Name!D109","v":" EN-ME (พิเศษ ม.6)"},{"$f":"Name!H109","v":"4"},".",null,null,".",null,null,"."]
[{"$f":"Name!A18","v":15},{"$f":"Name!B18","v":" 553040064-1"},{"$f":"Name!C18","v":" นายธีรพล เตชะเสน"},{"$f":"Name!D18","v":" EN-ME"},{"$f":"Name!H18","v":1},".",null,null,null,{"$f":"Name!A64","v":61},{"$f":"Name!B64","v":" 553040340-3"},{"$f":"Name!C64","v":" นายธนกฤต เหล่าพิเดช"},{"$f":"Name!D64","v":" EN-IE"},{"$f":"Name!H64","v":1},".",null,null,{"$f":"Name!A110","v":107},{"$f":"Name!B110","v":" 563040310-3"},{"$f":"Name!C110","v":" นางสาวธัญชนภ ธีระเดชธำดง"},{"$f":"Name!D110","v":"EN-IE"},{"$f":"Name!H110","v":"4"},".",null,null,".",null,null,"."]
[{"$f":"Name!A19","v":16},{"$f":"Name!B19","v":" 553040071-4"},{"$f":"Name!C19","v":" นายบรรยง ชัยยิ่ง"},{"$f":"Name!D19","v":" EN-ME"},{"$f":"Name!H19","v":1},".",null,null,null,{"$f":"Name!A65","v":62},{"$f":"Name!B65","v":" 553040346-1"},{"$f":"Name!C65","v":" นางสาวธันยมัย มูลมณี"},{"$f":"Name!D65","v":" EN-IE"},{"$f":"Name!H65","v":1},"."]
[{"$f":"Name!A20","v":17},{"$f":"Name!B20","v":" 553040072-2"},{"$f":"Name!C20","v":" นายบัญชา แก้วอาจ"},{"$f":"Name!D20","v":" EN-IE"},{"$f":"Name!H20","v":1},".",null,null,null,{"$f":"Name!A66","v":63},{"$f":"Name!B66","v":" 553040347-9"},{"$f":"Name!C66","v":" นายธันวา ไกยราช"},{"$f":"Name!D66","v":" EN-ME"},{"$f":"Name!H66","v":1},"."]
[{"$f":"Name!A21","v":18},{"$f":"Name!B21","v":" 553040083-7"},{"$f":"Name!C21","v":" นายพันธวัช เก็มประโคน"},{"$f":"Name!D21","v":" EN-IE"},{"$f":"Name!H21","v":1},".",null,null,null,{"$f":"Name!A67","v":64},{"$f":"Name!B67","v":" 553040349-5"},{"$f":"Name!C67","v":" นายธิบดี ธิแก้ว"},{"$f":"Name!D67","v":" EN-IE"},{"$f":"Name!H67","v":1},"."]
[{"$f":"Name!A22","v":19},{"$f":"Name!B22","v":" 553040085-3"},{"$f":"Name!C22","v":" นายพิพัฒน์ รักทองจัน"},{"$f":"Name!D22","v":" EN-ME"},{"$f":"Name!H22","v":1},".",null,null,null,{"$f":"Name!A68","v":65},{"$f":"Name!B68","v":" 553040359-2"},{"$f":"Name!C68","v":" นางสาวเบญจวรรณ มั่นวงษ์"},{"$f":"Name!D68","v":" EN-IE"},{"$f":"Name!H68","v":1},"."]
[{"$f":"Name!A23","v":20},{"$f":"Name!B23","v":" 553040087-9"},{"$f":"Name!C23","v":" นายพิภัทรยา ศิริแว่น"},{"$f":"Name!D23","v":" EN-ME"},{"$f":"Name!H23","v":1},".",null,null,null,{"$f":"Name!A69","v":66},{"$f":"Name!B69","v":" 553040365-7"},{"$f":"Name!C69","v":" นางสาวปรีม สุขเสนีย์"},{"$f":"Name!D69","v":" EN-ME"},{"$f":"Name!H69","v":1},"."]
[{"$f":"Name!A24","v":21},{"$f":"Name!B24","v":" 553040092-6"},{"$f":"Name!C24","v":" นายยศพนธ์ จันทร์วิเมลือง"},{"$f":"Name!D24","v":" EN-ME"},{"$f":"Name!H24","v":1},".",null,null,null,{"$f":"Name!A70","v":67},{"$f":"Name!B70","v":" 553040368-1"},{"$f":"Name!C70","v":" นางสาวปุณฑริกา สิทธิกรชัย"},{"$f":"Name!D70","v":" EN-IE"},{"$f":"Name!H70","v":1},"."]
[{"$f":"Name!A25","v":22},{"$f":"Name!B25","v":" 553040094-2"},{"$f":"Name!C25","v":" นายยุทธการ แสนเสนา"},{"$f":"Name!D25","v":" EN-ME"},{"$f":"Name!H25","v":1},".",null,null,null,{"$f":"Name!A71","v":68},{"$f":"Name!B71","v":" 553040380-1"},{"$f":"Name!C71","v":" นายพิธพล พลเพชร"},{"$f":"Name!D71","v":" EN-IE"},{"$f":"Name!H71","v":1},"."]
[{"$f":"Name!A26","v":23},{"$f":"Name!B26","v":" 553040095-0"},{"$f":"Name!C26","v":" นายยุทธนา พิริยะสุทธิ์"},{"$f":"Name!D26","v":" EN-ME"},{"$f":"Name!H26","v":1},".",null,null,null,{"$f":"Name!A72","v":69},{"$f":"Name!B72","v":" 553040383-5"},{"$f":"Name!C72","v":" นายพีระพงษ์ สิมงาม"},{"$f":"Name!D72","v":" EN-ME"},{"$f":"Name!H72","v":1},"."]
[{"$f":"Name!A27","v":24},{"$f":"Name!B27","v":" 553040101-1"},{"$f":"Name!C27","v":" นายวรพล จันทร์ผิว"},{"$f":"Name!D27","v":" EN-IE"},{"$f":"Name!H27","v":1},".",null,null,null,{"$f":"Name!A73","v":70},{"$f":"Name!B73","v":" 553040386-9"},{"$f":"Name!C73","v":" นายภัทรพล สารผล"},{"$f":"Name!D73","v":" EN-IE"},{"$f":"Name!H73","v":1},"."]
[{"$f":"Name!A28","v":25},{"$f":"Name!B28","v":" 553040104-5"},{"$f":"Name!C28","v":" นายวรานนท์ ยุทธอมร"},{"$f":"Name!D28","v":" EN-ME"},{"$f":"Name!H28","v":1},".",null,null,null,{"$f":"Name!A74","v":71},{"$f":"Name!B74","v":" 553040387-7"},{"$f":"Name!C74","v":" นายภาคภูมิ ประเสริฐ"},{"$f":"Name!D74","v":" EN-ME"},{"$f":"Name!H74","v":1},"."]
[{"$f":"Name!A29","v":26},{"$f":"Name!B29","v":" 553040106-1"},{"$f":"Name!C29","v":" นายวศิน คำปัญโญ"},{"$f":"Name!D29","v":" EN-ME"},{"$f":"Name!H29","v":1},".",null,null,null,{"$f":"Name!A75","v":72},{"$f":"Name!B75","v":" 553040391-6"},{"$f":"Name!C75","v":" นายมารุต พลวัน"},{"$f":"Name!D75","v":" EN-ME"},{"$f":"Name!H75","v":1},"."]
[{"$f":"Name!A30","v":27},{"$f":"Name!B30","v":" 553040108-7"},{"$f":"Name!C30","v":" นายวิชญสิทธิ์ พันธุ์รักษา"},{"$f":"Name!D30","v":" EN-IE"},{"$f":"Name!H30","v":1},".",null,null,null,{"$f":"Name!A76","v":73},{"$f":"Name!B76","v":" 553040397-4"},{"$f":"Name!C76","v":" นายรัชชานนท์ หาญกล้า"},{"$f":"Name!D76","v":" EN-ME"},{"$f":"Name!H76","v":1},"."]
[{"$f":"Name!A31","v":28},{"$f":"Name!B31","v":" 553040121-5"},{"$f":"Name!C31","v":" นายสิริวุฒิ ภูมิภูเขียว"},{"$f":"Name!D31","v":" EN-IE"},{"$f":"Name!H31","v":1},".",null,null,null,{"$f":"Name!A77","v":74},{"$f":"Name!B77","v":" 553040400-1"},{"$f":"Name!C77","v":" นายวงศธร เอียตระกูลไพบูลย์"},{"$f":"Name!D77","v":" EN-IE"},{"$f":"Name!H77","v":1},"."]
[{"$f":"Name!A32","v":29},{"$f":"Name!B32","v":" 553040123-1"},{"$f":"Name!C32","v":" นางสาวหทัยชนก ปัญญาบุตร"},{"$f":"Name!D32","v":" EN-ME"},{"$f":"Name!H32","v":1},".",null,null,null,{"$f":"Name!A78","v":75},{"$f":"Name!B78","v":" 553040401-9"},{"$f":"Name!C78","v":" นายวชิรวิทย์ นวรัตนากร"},{"$f":"Name!D78","v":" EN-IE"},{"$f":"Name!H78","v":1},"."]
[{"$f":"Name!A33","v":30},{"$f":"Name!B33","v":" 553040126-5"},{"$f":"Name!C33","v":" นายอนวัช คงวีระวัฒน์"},{"$f":"Name!D33","v":" EN-ME"},{"$f":"Name!H33","v":1},".",null,null,null,{"$f":"Name!A79","v":76},{"$f":"Name!B79","v":" 553040404-3"},{"$f":"Name!C79","v":" นายวนัสมัญ กฤษณะสุวรรณ"},{"$f":"Name!D79","v":" EN-IE"},{"$f":"Name!H79","v":1},"."]
[{"$f":"Name!A34","v":31},{"$f":"Name!B34","v":" 553040132-0"},{"$f":"Name!C34","v":" นางสาวอรทัย ยอดแก้วพิสัย"},{"$f":"Name!D34","v":" EN-IE"},{"$f":"Name!H34","v":1},".",null,null,null,{"$f":"Name!A80","v":77},{"$f":"Name!B80","v":" 553040417-4"},{"$f":"Name!C80","v":" นางสาวศศิวิมล กองพันธ์"},{"$f":"Name!D80","v":" EN-IE"},{"$f":"Name!H80","v":1},"."]
[{"$f":"Name!A35","v":32},{"$f":"Name!B35","v":" 553040133-8"},{"$f":"Name!C35","v":" นายอรรถชัย ทองสุข"},{"$f":"Name!D35","v":" EN-ME"},{"$f":"Name!H35","v":1},".",null,null,null,{"$f":"Name!A81","v":78},{"$f":"Name!B81","v":" 553040420-5"},{"$f":"Name!C81","v":" นางสาวศิรินาถ ดวงพิมพ์"},{"$f":"Name!D81","v":" EN-IE"},{"$f":"Name!H81","v":1},"."]
[{"$f":"Name!A36","v":33},{"$f":"Name!B36","v":" 553040136-2"},{"$f":"Name!C36","v":" นางสาวอัชฌา เสาร์สิงห์"},{"$f":"Name!D36","v":" EN-ME"},{"$f":"Name!H36","v":1},".",null,null,null,{"$f":"Name!A82","v":79},{"$f":"Name!B82","v":" 553040426-3"},{"$f":"Name!C82","v":" นายสหภาพ เพียรชนะ"},{"$f":"Name!D82","v":" EN-ME"},{"$f":"Name!H82","v":1},"."]
[{"$f":"Name!A37","v":34},{"$f":"Name!B37","v":" 553040137-0"},{"$f":"Name!C37","v":" นางสาวอัชรา เชาว์ชอบ"},{"$f":"Name!D37","v":" EN-IE"},{"$f":"Name!H37","v":1},".",null,null,null,{"$f":"Name!A83","v":80},{"$f":"Name!B83","v":" 553040427-1"},{"$f":"Name!C83","v":" นายสิทธิชัย เมืองโคตร"},{"$f":"Name!D83","v":" EN-ME"},{"$f":"Name!H83","v":1},"."]
[{"$f":"Name!A38","v":35},{"$f":"Name!B38","v":" 553040146-9"},{"$f":"Name!C38","v":" นายเจษฎา พลชา"},{"$f":"Name!D38","v":" EN-AE"},{"$f":"Name!H38","v":1},".",null,null,null,{"$f":"Name!A84","v":81},{"$f":"Name!B84","v":" 553040428-9"},{"$f":"Name!C84","v":" นางสาวสุกัญญา ธารานุวงศ์"},{"$f":"Name!D84","v":" EN-ME"},{"$f":"Name!H84","v":1},"."]
[{"$f":"Name!A39","v":36},{"$f":"Name!B39","v":" 553040148-5"},{"$f":"Name!C39","v":" นายเชษฐทรัพย์ ทองคำใส"},{"$f":"Name!D39","v":" EN-AE"},{"$f":"Name!H39","v":1},".",null,null,null,{"$f":"Name!A85","v":82},{"$f":"Name!B85","v":" 553040429-7"},{"$f":"Name!C85","v":" นางสาวสุกัญญา เวียงสิมา"},{"$f":"Name!D85","v":" EN-IE"},{"$f":"Name!H85","v":1},"."]
[{"$f":"Name!A40","v":37},{"$f":"Name!B40","v":" 553040149-3"},{"$f":"Name!C40","v":" นายณัฐพงษ์ เหล่าจูม"},{"$f":"Name!D40","v":" EN-AE"},{"$f":"Name!H40","v":1},".",null,null,null,{"$f":"Name!A86","v":83},{"$f":"Name!B86","v":" 553040430-2"},{"$f":"Name!C86","v":" นางสาวสุฑิฌา อินทนนท์"},{"$f":"Name!D86","v":" EN-IE"},{"$f":"Name!H86","v":1},"."]
[{"$f":"Name!A41","v":38},{"$f":"Name!B41","v":" 553040154-0"},{"$f":"Name!C41","v":" นางสาวนฤมล พรมพุ้ย"},{"$f":"Name!D41","v":" EN-AE"},{"$f":"Name!H41","v":1},".",null,null,null,{"$f":"Name!A87","v":84},{"$f":"Name!B87","v":" 553040434-4"},{"$f":"Name!C87","v":" นางสาวสุรัชนา ตุ่นแก้ว"},{"$f":"Name!D87","v":" EN-ME"},{"$f":"Name!H87","v":1},"."]
[{"$f":"Name!A42","v":39},{"$f":"Name!B42","v":" 553040163-9"},{"$f":"Name!C42","v":" นางสาววาสนา เคเมือง"},{"$f":"Name!D42","v":" EN-AE"},{"$f":"Name!H42","v":1},".",null,null,null,{"$f":"Name!A88","v":85},{"$f":"Name!B88","v":" 553040436-0"},{"$f":"Name!C88","v":" นายเสฎฐฌาน น้อยอาษา"},{"$f":"Name!D88","v":" EN-ME"},{"$f":"Name!H88","v":1},"."]
[{"$f":"Name!A43","v":40},{"$f":"Name!B43","v":" 553040164-7"},{"$f":"Name!C43","v":" นายวิภูรินทร์ เลิศพนาลัย"},{"$f":"Name!D43","v":" EN-AE"},{"$f":"Name!H43","v":1},".",null,null,null,{"$f":"Name!A89","v":86},{"$f":"Name!B89","v":" 553040448-3"},{"$f":"Name!C89","v":" นายอาทิตย์ ขาวสนิท"},{"$f":"Name!D89","v":" EN-ME"},{"$f":"Name!H89","v":1},"."]
[{"$f":"Name!A44","v":41},{"$f":"Name!B44","v":" 553040167-1"},{"$f":"Name!C44","v":" นายอดิศักดิ์ มุนนี"},{"$f":"Name!D44","v":" EN-AE"},{"$f":"Name!H44","v":1},".",null,null,null,{"$f":"Name!A90","v":87},{"$f":"Name!B90","v":" 553040449-1"},{"$f":"Name!C90","v":" นายอานุภาพ วิจบ"},{"$f":"Name!D90","v":" EN-IE"},{"$f":"Name!H90","v":1},"."]
[{"$f":"Name!A45","v":42},{"$f":"Name!B45","v":" 553040169-7"},{"$f":"Name!C45","v":" นายอภิสิทธิ์ รังสิมาวงศ์"},{"$f":"Name!D45","v":" EN-AE"},{"$f":"Name!H45","v":1},".",null,null,null,{"$f":"Name!A91","v":88},{"$f":"Name!B91","v":" 553040450-6"},{"$f":"Name!C91","v":" นายเอกราช คำงาม"},{"$f":"Name!D91","v":" EN-ME"},{"$f":"Name!H91","v":1},"."]
[{"$f":"Name!A46","v":43},{"$f":"Name!B46","v":" 553040170-2"},{"$f":"Name!C46","v":" นายอาทิตย์ ภูผาผุด"},{"$f":"Name!D46","v":" EN-AE"},{"$f":"Name!H46","v":1},".",null,null,null,{"$f":"Name!A92","v":89},{"$f":"Name!B92","v":" 553040454-8"},{"$f":"Name!C92","v":" นายกลวัชร จงฤาชา"},{"$f":"Name!D92","v":" EN-AE"},{"$f":"Name!H92","v":1},"."]
[{"$f":"Name!A47","v":44},{"$f":"Name!B47","v":" 553040281-3"},{"$f":"Name!C47","v":" นายทวิชาติ อัครสันตติกุล"},{"$f":"Name!D47","v":" EN-IE"},{"$f":"Name!H47","v":1},".",null,null,null,{"$f":"Name!A93","v":90},{"$f":"Name!B93","v":" 553040458-0"},{"$f":"Name!C93","v":" นางสาวจุฬาลักษณ์ ชมภูรักษ์"},{"$f":"Name!D93","v":" EN-AE"},{"$f":"Name!H93","v":1},"."]
[{"$f":"Name!A48","v":45},{"$f":"Name!B48","v":" 553040285-5"},{"$f":"Name!C48","v":" นางสาวกนกอร แดงน้อย"},{"$f":"Name!D48","v":" EN-IE"},{"$f":"Name!H48","v":1},".",null,null,null,{"$f":"Name!A94","v":91},{"$f":"Name!B94","v":" 553040464-5"},{"$f":"Name!C94","v":" นางสาวทิชากร จุลพันธ์"},{"$f":"Name!D94","v":" EN-AE"},{"$f":"Name!H94","v":1},"."]
[{"$f":"Name!A49","v":46},{"$f":"Name!B49","v":" 553040289-7"},{"$f":"Name!C49","v":" นายกัมปนาท ชาวดร"},{"$f":"Name!D49","v":" EN-ME"},{"$f":"Name!H49","v":1},".",null,null,null,{"$f":"Name!A95","v":92},{"$f":"Name!B95","v":" 553040467-9"},{"$f":"Name!C95","v":" นายนพพล รัตน์ปิยะภาภรณ์"},{"$f":"Name!D95","v":" EN-AE"},{"$f":"Name!H95","v":1},"."]

{"sheet":"Class","index":4,"n_rows":110,"n_cols":40,"rows_kept":110,"cut":false,"hidden":false,"merged":[]}
[null,"รายวิชา","185231 : THERMODYNAMICS I",null,null,null,null,"Section 1"]
[null,"ปีการศึกษา","2553 ภาคการศึกษาที่ 1",null,null,null,null,null,null,null,null,null,null,null,null,null,null,null,null,null,null,null,null,null,null,null,null,null,null,null,null,null,null,null,null,null,null,null,null,{"$f":"SUM(G2:AM2)","v":0}]
["ลำดับ"," รหัส","ชื่อ","หลักสูตร","GPA","Section",null,null,null,null,null,null,null,null,null,null,null,null,null,null,null,null,null,null,null,null,null,null,null,null,null,null,null,null,null,null,null,null,"Attened","Miss"]
[{"$f":"Score!A110","v":107},{"$f":"Score!B110","v":" 563040310-3"},{"$f":"Score!C110","v":" นางสาวธัญชนภ ธีระเดชธำดง"},{"$f":"Score!D110","v":"EN-IE"},{"$f":"Score!E110","v":0},{"$f":"Score!F110","v":"4"},null,null,null,null,null,null,null,null,null,null,null,null,null,null,null,null,null,null,null,null,null,null,null,null,null,null,null,null,null,null,null,null,{"$f":"SUM(G4:AL4)","v":0},{"$f":"+$AN$2-AM4","v":0}]
[{"$f":"Score!A109","v":106},{"$f":"Score!B109","v":" 553040636-2"},{"$f":"Score!C109","v":" นายรัชชานนท์ บุญอาษา"},{"$f":"Score!D109","v":" EN-ME (พิเศษ ม.6)"},{"$f":"Score!E109","v":0},{"$f":"Score!F109","v":"4"},null,null,null,null,null,null,null,null,null,null,null,null,null,null,null,null,null,null,null,null,null,null,null,null,null,null,null,null,null,null,null,null,{"$f":"SUM(G5:AL5)","v":0},0]
[{"$f":"Score!A108","v":105},{"$f":"Score!B108","v":" 553040631-2"},{"$f":"Score!C108","v":" นายพงศ์รัตน์ ณ หนองคาย"},{"$f":"Score!D108","v":" EN-ME (พิเศษ ม.6)"},{"$f":"Score!E108","v":0},{"$f":"Score!F108","v":"4"},null,null,null,null,null,null,null,null,null,null,null,null,null,null,null,null,null,null,null,null,null,null,null,null,null,null,null,null,null,null,null,null,0,0]
[{"$f":"Score!A107","v":104},{"$f":"Score!B107","v":" 553040626-5"},{"$f":"Score!C107","v":" นายปฏิภาณ สังข์ชัย"},{"$f":"Score!D107","v":" EN-ME (พิเศษ ม.6)"},{"$f":"Score!E107","v":0},{"$f":"Score!F107","v":"4"},null,null,null,null,null,null,null,null,null,null,null,null,null,null,null,null,null,null,null,null,null,null,null,null,null,null,null,null,null,null,null,null,0,0]
[{"$f":"Score!A106","v":103},{"$f":"Score!B106","v":" 553040625-7"},{"$f":"Score!C106","v":" นายธีรศักดิ์ สังสิทธิสวัสดิ์"},{"$f":"Score!D106","v":" EN-ME (พิเศษ ม.6)"},{"$f":"Score!E106","v":0},{"$f":"Score!F106","v":"4"},null,null,null,null,null,null,null,null,null,null,null,null,null,null,null,null,null,null,null,null,null,null,null,null,null,null,null,null,null,null,null,null,0,0]
[{"$f":"Score!A105","v":102},{"$f":"Score!B105","v":" 553040624-9"},{"$f":"Score!C105","v":" นายธนะสิทธิ์ รุจิระโชติวัฒน์"},{"$f":"Score!D105","v":" EN-ME (พิเศษ ม.6)"},{"$f":"Score!E105","v":0},{"$f":"Score!F105","v":"4"},null,null,null,null,null,null,null,null,null,null,null,null,null,null,null,null,null,null,null,null,null,null,null,null,null,null,null,null,null,null,null,null,0,0]
[{"$f":"Score!A104","v":101},{"$f":"Score!B104","v":" 553040623-1"},{"$f":"Score!C104","v":" นายเทพนรินทร์ อินธิราช"},{"$f":"Score!D104","v":" EN-ME (พิเศษ ม.6)"},{"$f":"Score!E104","v":0},{"$f":"Score!F104","v":"4"},null,null,null,null,null,null,null,null,null,null,null,null,null,null,null,null,null,null,null,null,null,null,null,null,null,null,null,null,null,null,null,null,0,0]
[{"$f":"Score!A103","v":100},{"$f":"Score!B103","v":" 553040622-3"},{"$f":"Score!C103","v":" นายทศพล ฉายจรุง"},{"$f":"Score!D103","v":" EN-ME (พิเศษ ม.6)"},{"$f":"Score!E103","v":0},{"$f":"Score!F103","v":"4"},null,null,null,null,null,null,null,null,null,null,null,null,null,null,null,null,null,null,null,null,null,null,null,null,null,null,null,null,null,null,null,null,0,0]
[{"$f":"Score!A102","v":99},{"$f":"Score!B102","v":" 553040621-5"},{"$f":"Score!C102","v":" นายณัฐพล หอมจะบก"},{"$f":"Score!D102","v":" EN-ME (พิเศษ ม.6)"},{"$f":"Score!E102","v":0},{"$f":"Score!F102","v":"4"},null,null,null,null,null,null,null,null,null,null,null,null,null,null,null,null,null,null,null,null,null,null,null,null,null,null,null,null,null,null,null,null,0,0]
[{"$f":"Score!A101","v":98},{"$f":"Score!B101","v":" 553040618-4"},{"$f":"Score!C101","v":" นายเชษฐพงษ์ สาขา"},{"$f":"Score!D101","v":" EN-ME (พิเศษ ม.6)"},{"$f":"Score!E101","v":0},{"$f":"Score!F101","v":"4"},null,null,null,null,null,null,null,null,null,null,null,null,null,null,null,null,null,null,null,null,null,null,null,null,null,null,null,null,null,null,null,null,0,0]
[{"$f":"Score!A100","v":97},{"$f":"Score!B100","v":" 553040617-6"},{"$f":"Score!C100","v":" นายชัยศิริ ลี้มีธรรม"},{"$f":"Score!D100","v":" EN-ME (พิเศษ ม.6)"},{"$f":"Score!E100","v":0},{"$f":"Score!F100","v":"4"},null,null,null,null,null,null,null,null,null,null,null,null,null,null,null,null,null,null,null,null,null,null,null,null,null,null,null,null,null,null,null,null,0,0]
[{"$f":"Score!A99","v":96},{"$f":"Score!B99","v":" 553040614-2"},{"$f":"Score!C99","v":" นายจตุรงค์ ถนอมศิลป์"},{"$f":"Score!D99","v":" EN-ME (พิเศษ ม.6)"},{"$f":"Score!E99","v":0},{"$f":"Score!F99","v":"4"},null,null,null,null,null,null,null,null,null,null,null,null,null,null,null,null,null,null,null,null,null,null,null,null,null,null,null,null,null,null,null,null,0,0]
[{"$f":"Score!A98","v":95},{"$f":"Score!B98","v":" 553040485-7"},{"$f":"Score!C98","v":" นายอานันต์ หอมเนียม"},{"$f":"Score!D98","v":" EN-AE"},{"$f":"Score!E98","v":2.2400000000000002},{"$f":"Score!F98","v":1},null,null,null,null,null,null,null,null,null,null,null,null,null,null,null,null,null,null,null,null,null,null,null,null,null,null,null,null,null,null,null,null,0,0]
[{"$f":"Score!A97","v":94},{"$f":"Score!B97","v":" 553040476-8"},{"$f":"Score!C97","v":" นายมงคลลักษ์ วงษ์ศรีมี"},{"$f":"Score!D97","v":" EN-AE"},{"$f":"Score!E97","v":2.83},{"$f":"Score!F97","v":1},null,null,null,null,null,null,null,null,null,null,null,null,null,null,null,null,null,null,null,null,null,null,null,null,null,null,null,null,null,null,null,null,0,0]
[{"$f":"Score!A96","v":93},{"$f":"Score!B96","v":" 553040468-7"},{"$f":"Score!C96","v":" นางสาวบังอร ทนน้ำ"},{"$f":"Score!D96","v":" EN-AE"},{"$f":"Score!E96","v":2.6},{"$f":"Score!F96","v":1},null,null,null,null,null,null,null,null,null,null,null,null,null,null,null,null,null,null,null,null,null,null,null,null,null,null,null,null,null,null,null,null,0,0]
[{"$f":"Score!A95","v":92},{"$f":"Score!B95","v":" 553040467-9"},{"$f":"Score!C95","v":" นายนพพล รัตน์ปิยะภาภรณ์"},{"$f":"Score!D95","v":" EN-AE"},{"$f":"Score!E95","v":2.57},{"$f":"Score!F95","v":1},null,null,null,null,null,null,null,null,null,null,null,null,null,null,null,null,null,null,null,null,null,null,null,null,null,null,null,null,null,null,null,null,0,0]
[{"$f":"Score!A94","v":91},{"$f":"Score!B94","v":" 553040464-5"},{"$f":"Score!C94","v":" นางสาวทิชากร จุลพันธ์"},{"$f":"Score!D94","v":" EN-AE"},{"$f":"Score!E94","v":1.97},{"$f":"Score!F94","v":1},null,null,null,null,null,null,null,null,null,null,null,null,null,null,null,null,null,null,null,null,null,null,null,null,null,null,null,null,null,null,null,null,0,0]
[{"$f":"Score!A93","v":90},{"$f":"Score!B93","v":" 553040458-0"},{"$f":"Score!C93","v":" นางสาวจุฬาลักษณ์ ชมภูรักษ์"},{"$f":"Score!D93","v":" EN-AE"},{"$f":"Score!E93","v":2.57},{"$f":"Score!F93","v":1},null,null,null,null,null,null,null,null,null,null,null,null,null,null,null,null,null,null,null,null,null,null,null,null,null,null,null,null,null,null,null,null,0,0]
[{"$f":"Score!A92","v":89},{"$f":"Score!B92","v":" 553040454-8"},{"$f":"Score!C92","v":" นายกลวัชร จงฤาชา"},{"$f":"Score!D92","v":" EN-AE"},{"$f":"Score!E92","v":2.2400000000000002},{"$f":"Score!F92","v":1},null,null,null,null,null,null,null,null,null,null,null,null,null,null,null,null,null,null,null,null,null,null,null,null,null,null,null,null,null,null,null,null,0,0]
[{"$f":"Score!A91","v":88},{"$f":"Score!B91","v":" 553040450-6"},{"$f":"Score!C91","v":" นายเอกราช คำงาม"},{"$f":"Score!D91","v":" EN-ME"},{"$f":"Score!E91","v":2.3199999999999998},{"$f":"Score!F91","v":1},null,null,null,null,null,null,null,null,null,null,null,null,null,null,null,null,null,null,null,null,null,null,null,null,null,null,null,null,null,null,null,null,0,0]
[{"$f":"Score!A90","v":87},{"$f":"Score!B90","v":" 553040449-1"},{"$f":"Score!C90","v":" นายอานุภาพ วิจบ"},{"$f":"Score!D90","v":" EN-IE"},{"$f":"Score!E90","v":2.9},{"$f":"Score!F90","v":1},null,null,null,null,null,null,null,null,null,null,null,null,null,null,null,null,null,null,null,null,null,null,null,null,null,null,null,null,null,null,null,null,0,0]
[{"$f":"Score!A89","v":86},{"$f":"Score!B89","v":" 553040448-3"},{"$f":"Score!C89","v":" นายอาทิตย์ ขาวสนิท"},{"$f":"Score!D89","v":" EN-ME"},{"$f":"Score!E89","v":2.65},{"$f":"Score!F89","v":1},null,null,null,null,null,null,null,null,null,null,null,null,null,null,null,null,null,null,null,null,null,null,null,null,null,null,null,null,null,null,null,null,0,0]
[{"$f":"Score!A88","v":85},{"$f":"Score!B88","v":" 553040436-0"},{"$f":"Score!C88","v":" นายเสฎฐฌาน น้อยอาษา"},{"$f":"Score!D88","v":" EN-ME"},{"$f":"Score!E88","v":2.2599999999999998},{"$f":"Score!F88","v":1},null,null,null,null,null,null,null,null,null,null,null,null,null,null,null,null,null,null,null,null,null,null,null,null,null,null,null,null,null,null,null,null,0,0]
[{"$f":"Score!A87","v":84},{"$f":"Score!B87","v":" 553040434-4"},{"$f":"Score!C87","v":" นางสาวสุรัชนา ตุ่นแก้ว"},{"$f":"Score!D87","v":" EN-ME"},{"$f":"Score!E87","v":2.62},{"$f":"Score!F87","v":1},null,null,null,null,null,null,null,null,null,null,null,null,null,null,null,null,null,null,null,null,null,null,null,null,null,null,null,null,null,null,null,null,0,0]
[{"$f":"Score!A86","v":83},{"$f":"Score!B86","v":" 553040430-2"},{"$f":"Score!C86","v":" นางสาวสุฑิฌา อินทนนท์"},{"$f":"Score!D86","v":" EN-IE"},{"$f":"Score!E86","v":1.95},{"$f":"Score!F86","v":1},null,null,null,null,null,null,null,null,null,null,null,null,null,null,null,null,null,null,null,null,null,null,null,null,null,null,null,null,null,null,null,null,0,0]
[{"$f":"Score!A85","v":82},{"$f":"Score!B85","v":" 553040429-7"},{"$f":"Score!C85","v":" นางสาวสุกัญญา เวียงสิมา"},{"$f":"Score!D85","v":" EN-IE"},{"$f":"Score!E85","v":2.2799999999999998},{"$f":"Score!F85","v":1},null,null,null,null,null,null,null,null,null,null,null,null,null,null,null,null,null,null,null,null,null,null,null,null,null,null,null,null,null,null,null,null,0,0]
[{"$f":"Score!A84","v":81},{"$f":"Score!B84","v":" 553040428-9"},{"$f":"Score!C84","v":" นางสาวสุกัญญา ธารานุวงศ์"},{"$f":"Score!D84","v":" EN-ME"},{"$f":"Score!E84","v":2.8},{"$f":"Score!F84","v":1},null,null,null,null,null,null,null,null,null,null,null,null,null,null,null,null,null,null,null,null,null,null,null,null,null,null,null,null,null,null,null,null,0,0]
[{"$f":"Score!A83","v":80},{"$f":"Score!B83","v":" 553040427-1"},{"$f":"Score!C83","v":" นายสิทธิชัย เมืองโคตร"},{"$f":"Score!D83","v":" EN-ME"},{"$f":"Score!E83","v":2.35},{"$f":"Score!F83","v":1},null,null,null,null,null,null,null,null,null,null,null,null,null,null,null,null,null,null,null,null,null,null,null,null,null,null,null,null,null,null,null,null,0,0]
[{"$f":"Score!A82","v":79},{"$f":"Score!B82","v":" 553040426-3"},{"$f":"Score!C82","v":" นายสหภาพ เพียรชนะ"},{"$f":"Score!D82","v":" EN-ME"},{"$f":"Score!E82","v":3.13},{"$f":"Score!F82","v":1},null,null,null,null,null,null,null,null,null,null,null,null,null,null,null,null,null,null,null,null,null,null,null,null,null,null,null,null,null,null,null,null,0,0]
[{"$f":"Score!A81","v":78},{"$f":"Score!B81","v":" 553040420-5"},{"$f":"Score!C81","v":" นางสาวศิรินาถ ดวงพิมพ์"},{"$f":"Score!D81","v":" EN-IE"},{"$f":"Score!E81","v":2.21},{"$f":"Score!F81","v":1},null,null,null,null,null,null,null,null,null,null,null,null,null,null,null,null,null,null,null,null,null,null,null,null,null,null,null,null,null,null,null,null,0,0]
[{"$f":"Score!A80","v":77},{"$f":"Score!B80","v":" 553040417-4"},{"$f":"Score!C80","v":" นางสาวศศิวิมล กองพันธ์"},{"$f":"Score!D80","v":" EN-IE"},{"$f":"Score!E80","v":2.94},{"$f":"Score!F80","v":1},null,null,null,null,null,null,null,null,null,null,null,null,null,null,null,null,null,null,null,null,null,null,null,null,null,null,null,null,null,null,null,null,0,0]
[{"$f":"Score!A79","v":76},{"$f":"Score!B79","v":" 553040404-3"},{"$f":"Score!C79","v":" นายวนัสมัญ กฤษณะสุวรรณ"},{"$f":"Score!D79","v":" EN-IE"},{"$f":"Score!E79","v":2.2999999999999998},{"$f":"Score!F79","v":1},null,null,null,null,null,null,null,null,null,null,null,null,null,null,null,null,null,null,null,null,null,null,null,null,null,null,null,null,null,null,null,null,0,0]
[{"$f":"Score!A78","v":75},{"$f":"Score!B78","v":" 553040401-9"},{"$f":"Score!C78","v":" นายวชิรวิทย์ นวรัตนากร"},{"$f":"Score!D78","v":" EN-IE"},{"$f":"Score!E78","v":2.83},{"$f":"Score!F78","v":1},null,null,null,null,null,null,null,null,null,null,null,null,null,null,null,null,null,null,null,null,null,null,null,null,null,null,null,null,null,null,null,null,0,{"$f":"+$AN$2-AM36","v":0}]
[{"$f":"Score!A77","v":74},{"$f":"Score!B77","v":" 553040400-1"},{"$f":"Score!C77","v":" นายวงศธร เอียตระกูลไพบูลย์"},{"$f":"Score!D77","v":" EN-IE"},{"$f":"Score!E77","v":2.76},{"$f":"Score!F77","v":1},null,null,null,null,null,null,null,null,null,null,null,null,null,null,null,null,null,null,null,null,null,null,null,null,null,null,null,null,null,null,null,null,{"$f":"SUM(G37:AL37)","v":0},0]
[{"$f":"Score!A76","v":73},{"$f":"Score!B76","v":" 553040397-4"},{"$f":"Score!C76","v":" นายรัชชานนท์ หาญกล้า"},{"$f":"Score!D76","v":" EN-ME"},{"$f":"Score!E76","v":2.65},{"$f":"Score!F76","v":1},null,null,null,null,null,null,null,null,null,null,null,null,null,null,null,null,null,null,null,null,null,null,null,null,null,null,null,null,null,null,null,null,0,0]
[{"$f":"Score!A75","v":72},{"$f":"Score!B75","v":" 553040391-6"},{"$f":"Score!C75","v":" นายมารุต พลวัน"},{"$f":"Score!D75","v":" EN-ME"},{"$f":"Score!E75","v":2.77},{"$f":"Score!F75","v":1},null,null,null,null,null,null,null,null,null,null,null,null,null,null,null,null,null,null,null,null,null,null,null,null,null,null,null,null,null,null,null,null,0,0]
[{"$f":"Score!A74","v":71},{"$f":"Score!B74","v":" 553040387-7"},{"$f":"Score!C74","v":" นายภาคภูมิ ประเสริฐ"},{"$f":"Score!D74","v":" EN-ME"},{"$f":"Score!E74","v":2.86},{"$f":"Score!F74","v":1},null,null,null,null,null,null,null,null,null,null,null,null,null,null,null,null,null,null,null,null,null,null,null,null,null,null,null,null,null,null,null,null,0,0]
[{"$f":"Score!A73","v":70},{"$f":"Score!B73","v":" 553040386-9"},{"$f":"Score!C73","v":" นายภัทรพล สารผล"},{"$f":"Score!D73","v":" EN-IE"},{"$f":"Score!E73","v":2.08},{"$f":"Score!F73","v":1},null,null,null,null,null,null,null,null,null,null,null,null,null,null,null,null,null,null,null,null,null,null,null,null,null,null,null,null,null,null,null,null,0,0]
[{"$f":"Score!A72","v":69},{"$f":"Score!B72","v":" 553040383-5"},{"$f":"Score!C72","v":" นายพีระพงษ์ สิมงาม"},{"$f":"Score!D72","v":" EN-ME"},{"$f":"Score!E72","v":2.69},{"$f":"Score!F72","v":1},null,null,null,null,null,null,null,null,null,null,null,null,null,null,null,null,null,null,null,null,null,null,null,null,null,null,null,null,null,null,null,null,0,0]
[{"$f":"Score!A71","v":68},{"$f":"Score!B71","v":" 553040380-1"},{"$f":"Score!C71","v":" นายพิธพล พลเพชร"},{"$f":"Score!D71","v":" EN-IE"},{"$f":"Score!E71","v":2.21},{"$f":"Score!F71","v":1},null,null,null,null,null,null,null,null,null,null,null,null,null,null,null,null,null,null,null,null,null,null,null,null,null,null,null,null,null,null,null,null,0,0]
[{"$f":"Score!A70","v":67},{"$f":"Score!B70","v":" 553040368-1"},{"$f":"Score!C70","v":" นางสาวปุณฑริกา สิทธิกรชัย"},{"$f":"Score!D70","v":" EN-IE"},{"$f":"Score!E70","v":2.2599999999999998},{"$f":"Score!F70","v":1},null,null,null,null,null,null,null,null,null,null,null,null,null,null,null,null,null,null,null,null,null,null,null,null,null,null,null,null,null,null,null,null,0,0]
[{"$f":"Score!A69","v":66},{"$f":"Score!B69","v":" 553040365-7"},{"$f":"Score!C69","v":" นางสาวปรีม สุขเสนีย์"},{"$f":"Score!D69","v":" EN-ME"},{"$f":"Score!E69","v":2.4700000000000002},{"$f":"Score!F69","v":1},null,null,null,null,null,null,null,null,null,null,null,null,null,null,null,null,null,null,null,null,null,null,null,null,null,null,null,null,null,null,null,null,0,0]
[{"$f":"Score!A68","v":65},{"$f":"Score!B68","v":" 553040359-2"},{"$f":"Score!C68","v":" นางสาวเบญจวรรณ มั่นวงษ์"},{"$f":"Score!D68","v":" EN-IE"},{"$f":"Score!E68","v":2.02},{"$f":"Score!F68","v":1},null,null,null,null,null,null,null,null,null,null,null,null,null,null,null,null,null,null,null,null,null,null,null,null,null,null,null,null,null,null,null,null,0,0]
[{"$f":"Score!A67","v":64},{"$f":"Score!B67","v":" 553040349-5"},{"$f":"Score!C67","v":" นายธิบดี ธิแก้ว"},{"$f":"Score!D67","v":" EN-IE"},{"$f":"Score!E67","v":2.15},{"$f":"Score!F67","v":1},null,null,null,null,null,null,null,null,null,null,null,null,null,null,null,null,null,null,null,null,null,null,null,null,null,null,null,null,null,null,null,null,0,0]
[{"$f":"Score!A66","v":63},{"$f":"Score!B66","v":" 553040347-9"},{"$f":"Score!C66","v":" นายธันวา ไกยราช"},{"$f":"Score!D66","v":" EN-ME"},{"$f":"Score!E66","v":2.72},{"$f":"Score!F66","v":1},null,null,null,null,null,null,null,null,null,null,null,null,null,null,null,null,null,null,null,null,null,null,null,null,null,null,null,null,null,null,null,null,0,0]
[{"$f":"Score!A65","v":62},{"$f":"Score!B65","v":" 553040346-1"},{"$f":"Score!C65","v":" นางสาวธันยมัย มูลมณี"},{"$f":"Score!D65","v":" EN-IE"},{"$f":"Score!E65","v":1.92},{"$f":"Score!F65","v":1},null,null,null,null,null,null,null,null,null,null,null,null,null,null,null,null,null,null,null,null,null,null,null,null,null,null,null,null,null,null,null,null,0,0]
[{"$f":"Score!A64","v":61},{"$f":"Score!B64","v":" 553040340-3"},{"$f":"Score!C64","v":" นายธนกฤต เหล่าพิเดช"},{"$f":"Score!D64","v":" EN-IE"},{"$f":"Score!E64","v":2.23},{"$f":"Score!F64","v":1},null,null,null,null,null,null,null,null,null,null,null,null,null,null,null,null,null,null,null,null,null,null,null,null,null,null,null,null,null,null,null,null,0,0]
[{"$f":"Score!A63","v":60},{"$f":"Score!B63","v":" 553040339-8"},{"$f":"Score!C63","v":" นายแทนพงศ์ พุทธลา"},{"$f":"Score!D63","v":" EN-ME"},{"$f":"Score!E63","v":2.73},{"$f":"Score!F63","v":1},null,null,null,null,null,null,null,null,null,null,null,null,null,null,null,null,null,null,null,null,null,null,null,null,null,null,null,null,null,null,null,null,0,0]
[{"$f":"Score!A62","v":59},{"$f":"Score!B62","v":" 553040336-4"},{"$f":"Score!C62","v":" นายทวีรัช ทาจันทร์"},{"$f":"Score!D62","v":" EN-ME"},{"$f":"Score!E62","v":2.46},{"$f":"Score!F62","v":1},null,null,null,null,null,null,null,null,null,null,null,null,null,null,null,null,null,null,null,null,null,null,null,null,null,null,null,null,null,null,null,null,0,0]
[{"$f":"Score!A61","v":58},{"$f":"Score!B61","v":" 553040326-7"},{"$f":"Score!C61","v":" นางสาวญาดา ยิ้มยินดี"},{"$f":"Score!D61","v":" EN-IE"},{"$f":"Score!E61","v":2.09},{"$f":"Score!F61","v":1},null,null,null,null,null,null,null,null,null,null,null,null,null,null,null,null,null,null,null,null,null,null,null,null,null,null,null,null,null,null,null,null,0,0]
[{"$f":"Score!A60","v":57},{"$f":"Score!B60","v":" 553040321-7"},{"$f":"Score!C60","v":" นายชลวิทย์ พิสิฐรัตนวงศ์"},{"$f":"Score!D60","v":" EN-IE"},{"$f":"Score!E60","v":2.19},{"$f":"Score!F60","v":1},null,null,null,null,null,null,null,null,null,null,null,null,null,null,null,null,null,null,null,null,null,null,null,null,null,null,null,null,null,null,null,null,0,0]
[{"$f":"Score!A59","v":56},{"$f":"Score!B59","v":" 553040320-9"},{"$f":"Score!C59","v":" นางสาวชลธิชา นาสินสร้อย"},{"$f":"Score!D59","v":" EN-ME"},{"$f":"Score!E59","v":2.81},{"$f":"Score!F59","v":1},null,null,null,null,null,null,null,null,null,null,null,null,null,null,null,null,null,null,null,null,null,null,null,null,null,null,null,null,null,null,null,null,0,0]
[{"$f":"Score!A58","v":55},{"$f":"Score!B58","v":" 553040317-8"},{"$f":"Score!C58","v":" นายเจนณรงค์ อยู่ยง"},{"$f":"Score!D58","v":" EN-ME"},{"$f":"Score!E58","v":2.57},{"$f":"Score!F58","v":1},null,null,null,null,null,null,null,null,null,null,null,null,null,null,null,null,null,null,null,null,null,null,null,null,null,null,null,null,null,null,null,null,0,0]
[{"$f":"Score!A57","v":54},{"$f":"Score!B57","v":" 553040316-0"},{"$f":"Score!C57","v":" นางสาวเจนจิรา ปิยาโยค"},{"$f":"Score!D57","v":" EN-ME"},{"$f":"Score!E57","v":2.2999999999999998},{"$f":"Score!F57","v":1},null,null,null,null,null,null,null,null,null,null,null,null,null,null,null,null,null,null,null,null,null,null,null,null,null,null,null,null,null,null,null,null,0,0]
[{"$f":"Score!A56","v":53},{"$f":"Score!B56","v":" 553040315-2"},{"$f":"Score!C56","v":" นางสาวจุฬารัตน์ แสนวงษ์"},{"$f":"Score!D56","v":" EN-ME"},{"$f":"Score!E56","v":3.22},{"$f":"Score!F56","v":1},null,null,null,null,null,null,null,null,null,null,null,null,null,null,null,null,null,null,null,null,null,null,null,null,null,null,null,null,null,null,null,null,0,0]
[{"$f":"Score!A55","v":52},{"$f":"Score!B55","v":" 553040312-8"},{"$f":"Score!C55","v":" นางสาวจุฑารัตน์ เลยยุทธ"},{"$f":"Score!D55","v":" EN-IE"},{"$f":"Score!E55","v":2.66},{"$f":"Score!F55","v":1},null,null,null,null,null,null,null,null,null,null,null,null,null,null,null,null,null,null,null,null,null,null,null,null,null,null,null,null,null,null,null,null,0,0]
[{"$f":"Score!A54","v":51},{"$f":"Score!B54","v":" 553040310-2"},{"$f":"Score!C54","v":" นายจีระวัฒน์ ศรีมีชัย"},{"$f":"Score!D54","v":" EN-IE"},{"$f":"Score!E54","v":2.1800000000000002},{"$f":"Score!F54","v":1},null,null,null,null,null,null,null,null,null,null,null,null,null,null,null,null,null,null,null,null,null,null,null,null,null,null,null,null,null,null,null,null,0,0]
[{"$f":"Score!A53","v":50},{"$f":"Score!B53","v":" 553040302-1"},{"$f":"Score!C53","v":" นายจรูญวิทย์ ยึนประโคน"},{"$f":"Score!D53","v":" EN-IE"},{"$f":"Score!E53","v":2.25},{"$f":"Score!F53","v":1},null,null,null,null,null,null,null,null,null,null,null,null,null,null,null,null,null,null,null,null,null,null,null,null,null,null,null,null,null,null,null,null,0,0]
[{"$f":"Score!A52","v":49},{"$f":"Score!B52","v":" 553040298-6"},{"$f":"Score!C52","v":" นายคฑาวุธ นิลคุณ"},{"$f":"Score!D52","v":" EN-ME"},{"$f":"Score!E52","v":2.16},{"$f":"Score!F52","v":1},null,null,null,null,null,null,null,null,null,null,null,null,null,null,null,null,null,null,null,null,null,null,null,null,null,null,null,null,null,null,null,null,0,0]
[{"$f":"Score!A51","v":48},{"$f":"Score!B51","v":" 553040297-8"},{"$f":"Score!C51","v":" นางสาวขวัญตา สุวรรณจันทร์"},{"$f":"Score!D51","v":" EN-IE"},{"$f":"Score!E51","v":1.24},{"$f":"Score!F51","v":1},null,null,null,null,null,null,null,null,null,null,null,null,null,null,null,null,null,null,null,null,null,null,null,null,null,null,null,null,null,null,null,null,0,0]
[{"$f":"Score!A50","v":47},{"$f":"Score!B50","v":" 553040290-2"},{"$f":"Score!C50","v":" นายกานตภณ รุ่งฤทัยวัฒน์"},{"$f":"Score!D50","v":" EN-IE"},{"$f":"Score!E50","v":2.2200000000000002},{"$f":"Score!F50","v":1},null,null,null,null,null,null,null,null,null,null,null,null,null,null,null,null,null,null,null,null,null,null,null,null,null,null,null,null,null,null,null,null,0,0]
[{"$f":"Score!A49","v":46},{"$f":"Score!B49","v":" 553040289-7"},{"$f":"Score!C49","v":" นายกัมปนาท ชาวดร"},{"$f":"Score!D49","v":" EN-ME"},{"$f":"Score!E49","v":3.02},{"$f":"Score!F49","v":1},null,null,null,null,null,null,null,null,null,null,null,null,null,null,null,null,null,null,null,null,null,null,null,null,null,null,null,null,null,null,null,null,0,0]
[{"$f":"Score!A48","v":45},{"$f":"Score!B48","v":" 553040285-5"},{"$f":"Score!C48","v":" นางสาวกนกอร แดงน้อย"},{"$f":"Score!D48","v":" EN-IE"},{"$f":"Score!E48","v":2.5099999999999998},{"$f":"Score!F48","v":1},null,null,null,null,null,null,null,null,null,null,null,null,null,null,null,null,null,null,null,null,null,null,null,null,null,null,null,null,null,null,null,null,0,0]
[{"$f":"Score!A47","v":44},{"$f":"Score!B47","v":" 553040281-3"},{"$f":"Score!C47","v":" นายทวิชาติ อัครสันตติกุล"},{"$f":"Score!D47","v":" EN-IE"},{"$f":"Score!E47","v":1.95},{"$f":"Score!F47","v":1},null,null,null,null,null,null,null,null,null,null,null,null,null,null,null,null,null,null,null,null,null,null,null,null,null,null,null,null,null,null,null,null,0,0]
[{"$f":"Score!A46","v":43},{"$f":"Score!B46","v":" 553040170-2"},{"$f":"Score!C46","v":" นายอาทิตย์ ภูผาผุด"},{"$f":"Score!D46","v":" EN-AE"},{"$f":"Score!E46","v":3.25},{"$f":"Score!F46","v":1},null,null,null,null,null,null,null,null,null,null,null,null,null,null,null,null,null,null,null,null,null,null,null,null,null,null,null,null,null,null,null,null,0,{"$f":"+$AN$2-AM68","v":0}]
[{"$f":"Score!A45","v":42},{"$f":"Score!B45","v":" 553040169-7"},{"$f":"Score!C45","v":" นายอภิสิทธิ์ รังสิมาวงศ์"},{"$f":"Score!D45","v":" EN-AE"},{"$f":"Score!E45","v":3.16},{"$f":"Score!F45","v":1},null,null,null,null,null,null,null,null,null,null,null,null,null,null,null,null,null,null,null,null,null,null,null,null,null,null,null,null,null,null,null,null,{"$f":"SUM(G69:AL69)","v":0},0]
[{"$f":"Score!A44","v":41},{"$f":"Score!B44","v":" 553040167-1"},{"$f":"Score!C44","v":" นายอดิศักดิ์ มุนนี"},{"$f":"Score!D44","v":" EN-AE"},{"$f":"Score!E44","v":2.96},{"$f":"Score!F44","v":1},null,null,null,null,null,null,null,null,null,null,null,null,null,null,null,null,null,null,null,null,null,null,null,null,null,null,null,null,null,null,null,null,0,0]
[{"$f":"Score!A43","v":40},{"$f":"Score!B43","v":" 553040164-7"},{"$f":"Score!C43","v":" นายวิภูรินทร์ เลิศพนาลัย"},{"$f":"Score!D43","v":" EN-AE"},{"$f":"Score!E43","v":2.5499999999999998},{"$f":"Score!F43","v":1},null,null,null,null,null,null,null,null,null,null,null,null,null,null,null,null,null,null,null,null,null,null,null,null,null,null,null,null,null,null,null,null,0,0]
[{"$f":"Score!A42","v":39},{"$f":"Score!B42","v":" 553040163-9"},{"$f":"Score!C42","v":" นางสาววาสนา เคเมือง"},{"$f":"Score!D42","v":" EN-AE"},{"$f":"Score!E42","v":2.2999999999999998},{"$f":"Score!F42","v":1},null,null,null,null,null,null,null,null,null,null,null,null,null,null,null,null,null,null,null,null,null,null,null,null,null,null,null,null,null,null,null,null,0,0]
[{"$f":"Score!A41","v":38},{"$f":"Score!B41","v":" 553040154-0"},{"$f":"Score!C41","v":" นางสาวนฤมล พรมพุ้ย"},{"$f":"Score!D41","v":" EN-AE"},{"$f":"Score!E41","v":2.5299999999999998},{"$f":"Score!F41","v":1},null,null,null,null,null,null,null,null,null,null,null,null,null,null,null,null,null,null,null,null,null,null,null,null,null,null,null,null,null,null,null,null,0,0]
[{"$f":"Score!A40","v":37},{"$f":"Score!B40","v":" 553040149-3"},{"$f":"Score!C40","v":" นายณัฐพงษ์ เหล่าจูม"},{"$f":"Score!D40","v":" EN-AE"},{"$f":"Score!E40","v":3.04},{"$f":"Score!F40","v":1},null,null,null,null,null,null,null,null,null,null,null,null,null,null,null,null,null,null,null,null,null,null,null,null,null,null,null,null,null,null,null,null,0,0]
[{"$f":"Score!A39","v":36},{"$f":"Score!B39","v":" 553040148-5"},{"$f":"Score!C39","v":" นายเชษฐทรัพย์ ทองคำใส"},{"$f":"Score!D39","v":" EN-AE"},{"$f":"Score!E39","v":2.6},{"$f":"Score!F39","v":1},null,null,null,null,null,null,null,null,null,null,null,null,null,null,null,null,null,null,null,null,null,null,null,null,null,null,null,null,null,null,null,null,0,0]
[{"$f":"Score!A38","v":35},{"$f":"Score!B38","v":" 553040146-9"},{"$f":"Score!C38","v":" นายเจษฎา พลชา"},{"$f":"Score!D38","v":" EN-AE"},{"$f":"Score!E38","v":2.39},{"$f":"Score!F38","v":1},null,null,null,null,null,null,null,null,null,null,null,null,null,null,null,null,null,null,null,null,null,null,null,null,null,null,null,null,null,null,null,null,0,0]
[{"$f":"Score!A37","v":34},{"$f":"Score!B37","v":" 553040137-0"},{"$f":"Score!C37","v":" นางสาวอัชรา เชาว์ชอบ"},{"$f":"Score!D37","v":" EN-IE"},{"$f":"Score!E37","v":2.81},{"$f":"Score!F37","v":1},null,null,null,null,null,null,null,null,null,null,null,null,null,null,null,null,null,null,null,null,null,null,null,null,null,null,null,null,null,null,null,null,0,0]
[{"$f":"Score!A36","v":33},{"$f":"Score!B36","v":" 553040136-2"},{"$f":"Score!C36","v":" นางสาวอัชฌา เสาร์สิงห์"},{"$f":"Score!D36","v":" EN-ME"},{"$f":"Score!E36","v":2.8},{"$f":"Score!F36","v":1},null,null,null,null,null,null,null,null,null,null,null,null,null,null,null,null,null,null,null,null,null,null,null,null,null,null,null,null,null,null,null,null,0,0]
[{"$f":"Score!A35","v":32},{"$f":"Score!B35","v":" 553040133-8"},{"$f":"Score!C35","v":" นายอรรถชัย ทองสุข"},{"$f":"Score!D35","v":" EN-ME"},{"$f":"Score!E35","v":2.16},{"$f":"Score!F35","v":1},null,null,null,null,null,null,null,null,null,null,null,null,null,null,null,null,null,null,null,null,null,null,null,null,null,null,null,null,null,null,null,null,0,0]
[{"$f":"Score!A34","v":31},{"$f":"Score!B34","v":" 553040132-0"},{"$f":"Score!C34","v":" นางสาวอรทัย ยอดแก้วพิสัย"},{"$f":"Score!D34","v":" EN-IE"},{"$f":"Score!E34","v":2.8},{"$f":"Score!F34","v":1},null,null,null,null,null,null,null,null,null,null,null,null,null,null,null,null,null,null,null,null,null,null,null,null,null,null,null,null,null,null,null,null,0,0]
[{"$f":"Score!A33","v":30},{"$f":"Score!B33","v":" 553040126-5"},{"$f":"Score!C33","v":" นายอนวัช คงวีระวัฒน์"},{"$f":"Score!D33","v":" EN-ME"},{"$f":"Score!E33","v":2.27},{"$f":"Score!F33","v":1},null,null,null,null,null,null,null,null,null,null,null,null,null,null,null,null,null,null,null,null,null,null,null,null,null,null,null,null,null,null,null,null,0,0]
[{"$f":"Score!A32","v":29},{"$f":"Score!B32","v":" 553040123-1"},{"$f":"Score!C32","v":" นางสาวหทัยชนก ปัญญาบุตร"},{"$f":"Score!D32","v":" EN-ME"},{"$f":"Score!E32","v":2.4500000000000002},{"$f":"Score!F32","v":1},null,null,null,null,null,null,null,null,null,null,null,null,null,null,null,null,null,null,null,null,null,null,null,null,null,null,null,null,null,null,null,null,0,0]
[{"$f":"Score!A31","v":28},{"$f":"Score!B31","v":" 553040121-5"},{"$f":"Score!C31","v":" นายสิริวุฒิ ภูมิภูเขียว"},{"$f":"Score!D31","v":" EN-IE"},{"$f":"Score!E31","v":2.06},{"$f":"Score!F31","v":1},null,null,null,null,null,null,null,null,null,null,null,null,null,null,null,null,null,null,null,null,null,null,null,null,null,null,null,null,null,null,null,null,0,0]
[{"$f":"Score!A30","v":27},{"$f":"Score!B30","v":" 553040108-7"},{"$f":"Score!C30","v":" นายวิชญสิทธิ์ พันธุ์รักษา"},{"$f":"Score!D30","v":" EN-IE"},{"$f":"Score!E30","v":2.83},{"$f":"Score!F30","v":1},null,null,null,null,null,null,null,null,null,null,null,null,null,null,null,null,null,null,null,null,null,null,null,null,null,null,null,null,null,null,null,null,0,0]
[{"$f":"Score!A29","v":26},{"$f":"Score!B29","v":" 553040106-1"},{"$f":"Score!C29","v":" นายวศิน คำปัญโญ"},{"$f":"Score!D29","v":" EN-ME"},{"$f":"Score!E29","v":2.6},{"$f":"Score!F29","v":1},null,null,null,null,null,null,null,null,null,null,null,null,null,null,null,null,null,null,null,null,null,null,null,null,null,null,null,null,null,null,null,null,0,0]
[{"$f":"Score!A28","v":25},{"$f":"Score!B28","v":" 553040104-5"},{"$f":"Score!C28","v":" นายวรานนท์ ยุทธอมร"},{"$f":"Score!D28","v":" EN-ME"},{"$f":"Score!E28","v":2.72},{"$f":"Score!F28","v":1},null,null,null,null,null,null,null,null,null,null,null,null,null,null,null,null,null,null,null,null,null,null,null,null,null,null,null,null,null,null,null,null,0,0]
[{"$f":"Score!A27","v":24},{"$f":"Score!B27","v":" 553040101-1"},{"$f":"Score!C27","v":" นายวรพล จันทร์ผิว"},{"$f":"Score!D27","v":" EN-IE"},{"$f":"Score!E27","v":3.05},{"$f":"Score!F27","v":1},null,null,null,null,null,null,null,null,null,null,null,null,null,null,null,null,null,null,null,null,null,null,null,null,null,null,null,null,null,null,null,null,0,0]
[{"$f":"Score!A26","v":23},{"$f":"Score!B26","v":" 553040095-0"},{"$f":"Score!C26","v":" นายยุทธนา พิริยะสุทธิ์"},{"$f":"Score!D26","v":" EN-ME"},{"$f":"Score!E26","v":2.64},{"$f":"Score!F26","v":1},null,null,null,null,null,null,null,null,null,null,null,null,null,null,null,null,null,null,null,null,null,null,null,null,null,null,null,null,null,null,null,null,0,0]
[{"$f":"Score!A25","v":22},{"$f":"Score!B25","v":" 553040094-2"},{"$f":"Score!C25","v":" นายยุทธการ แสนเสนา"},{"$f":"Score!D25","v":" EN-ME"},{"$f":"Score!E25","v":2.37},{"$f":"Score!F25","v":1},null,null,null,null,null,null,null,null,null,null,null,null,null,null,null,null,null,null,null,null,null,null,null,null,null,null,null,null,null,null,null,null,0,0]
[{"$f":"Score!A24","v":21},{"$f":"Score!B24","v":" 553040092-6"},{"$f":"Score!C24","v":" นายยศพนธ์ จันทร์วิเมลือง"},{"$f":"Score!D24","v":" EN-ME"},{"$f":"Score!E24","v":3.11},{"$f":"Score!F24","v":1},null,null,null,null,null,null,null,null,null,null,null,null,null,null,null,null,null,null,null,null,null,null,null,null,null,null,null,null,null,null,null,null,0,0]
[{"$f":"Score!A23","v":20},{"$f":"Score!B23","v":" 553040087-9"},{"$f":"Score!C23","v":" นายพิภัทรยา ศิริแว่น"},{"$f":"Score!D23","v":" EN-ME"},{"$f":"Score!E23","v":2.29},{"$f":"Score!F23","v":1},null,null,null,null,null,null,null,null,null,null,null,null,null,null,null,null,null,null,null,null,null,null,null,null,null,null,null,null,null,null,null,null,0,0]
[{"$f":"Score!A22","v":19},{"$f":"Score!B22","v":" 553040085-3"},{"$f":"Score!C22","v":" นายพิพัฒน์ รักทองจัน"},{"$f":"Score!D22","v":" EN-ME"},{"$f":"Score!E22","v":3.04},{"$f":"Score!F22","v":1},null,null,null,null,null,null,null,null,null,null,null,null,null,null,null,null,null,null,null,null,null,null,null,null,null,null,null,null,null,null,null,null,0,0]
[{"$f":"Score!A21","v":18},{"$f":"Score!B21","v":" 553040083-7"},{"$f":"Score!C21","v":" นายพันธวัช เก็มประโคน"},{"$f":"Score!D21","v":" EN-IE"},{"$f":"Score!E21","v":2.08},{"$f":"Score!F21","v":1},null,null,null,null,null,null,null,null,null,null,null,null,null,null,null,null,null,null,null,null,null,null,null,null,null,null,null,null,null,null,null,null,0,0]
[{"$f":"Score!A20","v":17},{"$f":"Score!B20","v":" 553040072-2"},{"$f":"Score!C20","v":" นายบัญชา แก้วอาจ"},{"$f":"Score!D20","v":" EN-IE"},{"$f":"Score!E20","v":2.2599999999999998},{"$f":"Score!F20","v":1},null,null,null,null,null,null,null,null,null,null,null,null,null,null,null,null,null,null,null,null,null,null,null,null,null,null,null,null,null,null,null,null,{"$f":"SUM(G94:AL94)","v":0},{"$f":"+$AN$2-AM94","v":0}]
[{"$f":"Score!A19","v":16},{"$f":"Score!B19","v":" 553040071-4"},{"$f":"Score!C19","v":" นายบรรยง ชัยยิ่ง"},{"$f":"Score!D19","v":" EN-ME"},{"$f":"Score!E19","v":2.68},{"$f":"Score!F19","v":1},null,null,null,null,null,null,null,null,null,null,null,null,null,null,null,null,null,null,null,null,null,null,null,null,null,null,null,null,null,null,null,null,0,0]
[{"$f":"Score!A18","v":15},{"$f":"Score!B18","v":" 553040064-1"},{"$f":"Score!C18","v":" นายธีรพล เตชะเสน"},{"$f":"Score!D18","v":" EN-ME"},{"$f":"Score!E18","v":3.24},{"$f":"Score!F18","v":1},null,null,null,null,null,null,null,null,null,null,null,null,null,null,null,null,null,null,null,null,null,null,null,null,null,null,null,null,null,null,null,null,0,0]
[{"$f":"Score!A17","v":14},{"$f":"Score!B17","v":" 553040063-3"},{"$f":"Score!C17","v":" นายธีรเจต เตรียมวิชานนท์"},{"$f":"Score!D17","v":" EN-ME"},{"$f":"Score!E17","v":3.03},{"$f":"Score!F17","v":1},null,null,null,null,null,null,null,null,null,null,null,null,null,null,null,null,null,null,null,null,null,null,null,null,null,null,null,null,null,null,null,null,0,0]
[{"$f":"Score!A16","v":13},{"$f":"Score!B16","v":" 553040061-7"},{"$f":"Score!C16","v":" นายธนารักษ์ ศรีน้อย"},{"$f":"Score!D16","v":" EN-ME"},{"$f":"Score!E16","v":2.5099999999999998},{"$f":"Score!F16","v":1},null,null,null,null,null,null,null,null,null,null,null,null,null,null,null,null,null,null,null,null,null,null,null,null,null,null,null,null,null,null,null,null,0,0]
[{"$f":"Score!A15","v":12},{"$f":"Score!B15","v":" 553040060-9"},{"$f":"Score!C15","v":" นายธนานนท์ ติรวีรขจร"},{"$f":"Score!D15","v":" EN-ME"},{"$f":"Score!E15","v":2.5099999999999998},{"$f":"Score!F15","v":1},null,null,null,null,null,null,null,null,null,null,null,null,null,null,null,null,null,null,null,null,null,null,null,null,null,null,null,null,null,null,null,null,0,0]
[{"$f":"Score!A14","v":11},{"$f":"Score!B14","v":" 553040059-4"},{"$f":"Score!C14","v":" นายธนากร บุญดาว"},{"$f":"Score!D14","v":" EN-ME"},{"$f":"Score!E14","v":3.03},{"$f":"Score!F14","v":1},null,null,null,null,null,null,null,null,null,null,null,null,null,null,null,null,null,null,null,null,null,null,null,null,null,null,null,null,null,null,null,null,0,0]
[{"$f":"Score!A13","v":10},{"$f":"Score!B13","v":" 553040057-8"},{"$f":"Score!C13","v":" นายธนวิชญ์ เลิศวุฒิชัยกุล"},{"$f":"Score!D13","v":" EN-IE"},{"$f":"Score!E13","v":2.29},{"$f":"Score!F13","v":1},null,null,null,null,null,null,null,null,null,null,null,null,null,null,null,null,null,null,null,null,null,null,null,null,null,null,null,null,null,null,null,null,0,0]
[{"$f":"Score!A12","v":9},{"$f":"Score!B12","v":" 553040052-8"},{"$f":"Score!C12","v":" นายถิรวัฒน์ แก้วคำปอด"},{"$f":"Score!D12","v":" EN-ME"},{"$f":"Score!E12","v":2.61},{"$f":"Score!F12","v":1},null,null,null,null,null,null,null,null,null,null,null,null,null,null,null,null,null,null,null,null,null,null,null,null,null,null,null,null,null,null,null,null,0,0]
[{"$f":"Score!A11","v":8},{"$f":"Score!B11","v":" 553040050-2"},{"$f":"Score!C11","v":" นายณัฐวุฒิ ฆารประเดิม"},{"$f":"Score!D11","v":" EN-ME"},{"$f":"Score!E11","v":2.87},{"$f":"Score!F11","v":1},null,null,null,null,null,null,null,null,null,null,null,null,null,null,null,null,null,null,null,null,null,null,null,null,null,null,null,null,null,null,null,null,0,0]
[{"$f":"Score!A10","v":7},{"$f":"Score!B10","v":" 553040049-7"},{"$f":"Score!C10","v":" นายณัฐวัตร สุขสำราญ"},{"$f":"Score!D10","v":" EN-IE"},{"$f":"Score!E10","v":1.76},{"$f":"Score!F10","v":1},null,null,null,null,null,null,null,null,null,null,null,null,null,null,null,null,null,null,null,null,null,null,null,null,null,null,null,null,null,null,null,null,0,0]
[{"$f":"Score!A9","v":6},{"$f":"Score!B9","v":" 553040047-1"},{"$f":"Score!C9","v":" นายณัฐพงษ์ กลิ่นมาลี"},{"$f":"Score!D9","v":" EN-ME"},{"$f":"Score!E9","v":2.87},{"$f":"Score!F9","v":1},null,null,null,null,null,null,null,null,null,null,null,null,null,null,null,null,null,null,null,null,null,null,null,null,null,null,null,null,null,null,null,null,0,0]
[{"$f":"Score!A8","v":5},{"$f":"Score!B8","v":" 553040045-5"},{"$f":"Score!C8","v":" นายณัฏฐกิตติ์ พูลประสงค์"},{"$f":"Score!D8","v":" EN-ME"},{"$f":"Score!E8","v":3.28},{"$f":"Score!F8","v":1},null,null,null,null,null,null,null,null,null,null,null,null,null,null,null,null,null,null,null,null,null,null,null,null,null,null,null,null,null,null,null,null,0,0]
[{"$f":"Score!A7","v":4},{"$f":"Score!B7","v":" 553040041-3"},{"$f":"Score!C7","v":" นางสาวชนาธินาถ โสกงโสด"},{"$f":"Score!D7","v":" EN-ME"},{"$f":"Score!E7","v":2.42},{"$f":"Score!F7","v":1},null,null,null,null,null,null,null,null,null,null,null,null,null,null,null,null,null,null,null,null,null,null,null,null,null,null,null,null,null,null,null,null,0,0]
[{"$f":"Score!A6","v":3},{"$f":"Score!B6","v":" 553040033-2"},{"$f":"Score!C6","v":" นายกิรติกร แก้วปานกัน"},{"$f":"Score!D6","v":" EN-ME"},{"$f":"Score!E6","v":2.82},{"$f":"Score!F6","v":1},null,null,null,null,null,null,null,null,null,null,null,null,null,null,null,null,null,null,null,null,null,null,null,null,null,null,null,null,null,null,null,null,0,0]
[{"$f":"Score!A5","v":2},{"$f":"Score!B5","v":" 553040032-4"},{"$f":"Score!C5","v":" นายกิตติภัทร จิตรกสิกร"},{"$f":"Score!D5","v":" EN-IE"},{"$f":"Score!E5","v":2.68},{"$f":"Score!F5","v":1},null,null,null,null,null,null,null,null,null,null,null,null,null,null,null,null,null,null,null,null,null,null,null,null,null,null,null,null,null,null,null,null,0,0]
[{"$f":"Score!A4","v":1},{"$f":"Score!B4","v":" 553040026-9"},{"$f":"Score!C4","v":" นางสาวกนกกาญจน์ อุปสาร"},{"$f":"Score!D4","v":" EN-IE"},{"$f":"Score!E4","v":2.7},{"$f":"Score!F4","v":1},null,null,null,null,null,null,null,null,null,null,null,null,null,null,null,null,null,null,null,null,null,null,null,null,null,null,null,null,null,null,null,null,{"$f":"SUM(G110:AL110)","v":0},{"$f":"+$AN$2-AM110","v":0}]

{"sheet":"QuizAll","index":5,"n_rows":110,"n_cols":32,"rows_kept":110,"cut":false,"hidden":false,"merged":[]}
[null,"รายวิชา","185231 : THERMODYNAMICS I",null,null,"Section 1",{"$f":"+G2","v":1},{"$f":"+H2","v":1},1,1,1,1,1,1,1,1,1,1,{"$f":"SUM(G1:R1)/1.2","v":10}]
[null,"ปีการศึกษา","2553 ภาคการศึกษาที่ 1",null,null,"รศ.ดร.สมหมาย ปรีเปรม",1,{"$f":"+G2","v":1},{"$f":"+H2","v":1},1,1,1,1,1,1,1,1,1,{"$f":"SUM(G2:R2)/1.2","v":10},null,20,10,100,10,100,100,100,10,10,10,100,10]
["ลำดับ"," รหัส","ชื่อ","หลักสูตร","GPA","Section","Quiz 1","Quiz 2","Quiz 3","Quiz 4","Quiz 5","Quiz 6","Quiz 7","Quiz 8","Quiz 9","Quiz 10","Quiz 11","Quiz 12","Sum",null,"Quiz 1","Quiz 2","Quiz 3","Quiz 4","Quiz 5","Quiz 6","Quiz 7","Quiz 8","Quiz 9","Quiz 10","Quiz 11","Quiz 12"]
[{"$f":"Score!A4","v":1},{"$f":"Score!B4","v":" 553040026-9"},{"$f":"Score!C4","v":" นางสาวกนกกาญจน์ อุปสาร"},{"$f":"Score!D4","v":" EN-IE"},{"$f":"Score!E4","v":2.7},{"$f":"Score!F4","v":1},{"$f":"U4/20","v":1},{"$f":"V4/10","v":1},{"$f":"W4/100","v":1},{"$f":"X4/10","v":1},{"$f":"Y4/100","v":1},{"$f":"Z4/100","v":0.5},{"$f":"AA4/100","v":1},{"$f":"AB4/10","v":1},{"$f":"AC4/10","v":1},{"$f":"AD4/10","v":0.95500000000000007},{"$f":"AE4/100","v":1},{"$f":"AF4/10","v":1},{"$f":"SUM(G4:R4)/1.2","v":9.5458333333333343},null,20,10,100,10,100,50,100,10,10,9.5500000000000007,100,10]
[{"$f":"Score!A5","v":2},{"$f":"Score!B5","v":" 553040032-4"},{"$f":"Score!C5","v":" นายกิตติภัทร จิตรกสิกร"},{"$f":"Score!D5","v":" EN-IE"},{"$f":"Score!E5","v":2.68},{"$f":"Score!F5","v":1},{"$f":"U5/20","v":1},{"$f":"V5/10","v":1},{"$f":"W5/100","v":1},{"$f":"X5/10","v":1},{"$f":"Y5/100","v":1},{"$f":"Z5/100","v":0.7},{"$f":"AA5/100","v":1},{"$f":"AB5/10","v":1},{"$f":"AC5/10","v":1},{"$f":"AD5/10","v":1},{"$f":"AE5/100","v":1},{"$f":"AF5/10","v":1},{"$f":"SUM(G5:R5)/1.2","v":9.75},null,20,10,100,10,100,70,100,10,10,10,100,10]
[{"$f":"Score!A6","v":3},{"$f":"Score!B6","v":" 553040033-2"},{"$f":"Score!C6","v":" นายกิรติกร แก้วปานกัน"},{"$f":"Score!D6","v":" EN-ME"},{"$f":"Score!E6","v":2.82},{"$f":"Score!F6","v":1},{"$f":"U6/20","v":0.9},{"$f":"V6/10","v":1},{"$f":"W6/100","v":1},{"$f":"X6/10","v":1},{"$f":"Y6/100","v":1},1,0.8,1,1,1,1,1,9.75,null,18,10,100,10,100,100,80,10,10,10,100,10]
[{"$f":"Score!A7","v":4},{"$f":"Score!B7","v":" 553040041-3"},{"$f":"Score!C7","v":" นางสาวชนาธินาถ โสกงโสด"},{"$f":"Score!D7","v":" EN-ME"},{"$f":"Score!E7","v":2.42},{"$f":"Score!F7","v":1},1,1,1,0.8,1,0.7,1,1,1,0.95500000000000007,0.55000000000000004,0,8.3375000000000004,null,20,10,100,8,100,70,100,10,10,9.5500000000000007,55,0]
[{"$f":"Score!A8","v":5},{"$f":"Score!B8","v":" 553040045-5"},{"$f":"Score!C8","v":" นายณัฏฐกิตติ์ พูลประสงค์"},{"$f":"Score!D8","v":" EN-ME"},{"$f":"Score!E8","v":3.28},{"$f":"Score!F8","v":1},1,1,1,1,1,1,1,1,1,{"$f":"AD8/10","v":1},{"$f":"AE8/100","v":1},{"$f":"AF8/10","v":1},10,null,20,10,100,10,100,100,100,10,10,10,100,10]
[{"$f":"Score!A9","v":6},{"$f":"Score!B9","v":" 553040047-1"},{"$f":"Score!C9","v":" นายณัฐพงษ์ กลิ่นมาลี"},{"$f":"Score!D9","v":" EN-ME"},{"$f":"Score!E9","v":2.87},{"$f":"Score!F9","v":1},0.77500000000000002,1,1,1,0.85709999999999997,0.2,1,1,0.9,0.8640000000000001,1,1,8.8300833333333344,null,15.5,10,100,10,85.71,20,100,10,9,8.64,100,10]
[{"$f":"Score!A10","v":7},{"$f":"Score!B10","v":" 553040049-7"},{"$f":"Score!C10","v":" นายณัฐวัตร สุขสำราญ"},{"$f":"Score!D10","v":" EN-IE"},{"$f":"Score!E10","v":1.76},{"$f":"Score!F10","v":1},1,1,0.6,0.8,0.78569999999999995,0.8,1,1,1,0,0,0,6.6547500000000008,null,20,10,60,8,78.569999999999993,80,100,10,10,0,0,0]
[{"$f":"Score!A11","v":8},{"$f":"Score!B11","v":" 553040050-2"},{"$f":"Score!C11","v":" นายณัฐวุฒิ ฆารประเดิม"},{"$f":"Score!D11","v":" EN-ME"},{"$f":"Score!E11","v":2.87},{"$f":"Score!F11","v":1},1,1,1,1,1,0.8,1,1,1,1,1,1,9.8333333333333339,null,20,10,100,10,100,80,100,10,10,10,100,10]
[{"$f":"Score!A12","v":9},{"$f":"Score!B12","v":" 553040052-8"},{"$f":"Score!C12","v":" นายถิรวัฒน์ แก้วคำปอด"},{"$f":"Score!D12","v":" EN-ME"},{"$f":"Score!E12","v":2.61},{"$f":"Score!F12","v":1},1,1,1,1,1,1,1,0.83299999999999996,1,1,1,1,9.8608333333333338,null,20,10,100,10,100,100,100,8.33,10,10,100,10]
[{"$f":"Score!A13","v":10},{"$f":"Score!B13","v":" 553040057-8"},{"$f":"Score!C13","v":" นายธนวิชญ์ เลิศวุฒิชัยกุล"},{"$f":"Score!D13","v":" EN-IE"},{"$f":"Score!E13","v":2.29},{"$f":"Score!F13","v":1},0,0.8,0,0,0.85709999999999997,0,0.6,0.5,0,0.77300000000000002,0,0,2.9417500000000003,null,0,8,0,0,85.71,0,60,5,0,7.73,0,0]
[{"$f":"Score!A14","v":11},{"$f":"Score!B14","v":" 553040059-4"},{"$f":"Score!C14","v":" นายธนากร บุญดาว"},{"$f":"Score!D14","v":" EN-ME"},{"$f":"Score!E14","v":3.03},{"$f":"Score!F14","v":1},1,1,0.8,1,1,1,1,1,1,{"$f":"AD14/10","v":1},{"$f":"AE14/100","v":1},{"$f":"AF14/10","v":0},9.0000000000000018,null,20,10,80,10,100,100,100,10,10,10,100,0]
[{"$f":"Score!A15","v":12},{"$f":"Score!B15","v":" 553040060-9"},{"$f":"Score!C15","v":" นายธนานนท์ ติรวีรขจร"},{"$f":"Score!D15","v":" EN-ME"},{"$f":"Score!E15","v":2.5099999999999998},{"$f":"Score!F15","v":1},0.97499999999999998,1,0.7,0.8,1,0.6,1,1,1,1,1,1,9.2291666666666661,null,19.5,10,70,8,100,60,100,10,10,10,100,10]
[{"$f":"Score!A16","v":13},{"$f":"Score!B16","v":" 553040061-7"},{"$f":"Score!C16","v":" นายธนารักษ์ ศรีน้อย"},{"$f":"Score!D16","v":" EN-ME"},{"$f":"Score!E16","v":2.5099999999999998},{"$f":"Score!F16","v":1},0,1,0.9,0.8,0.85709999999999997,0.4,1,0,1,1,0.97499999999999998,1,7.4434166666666668,null,0,10,90,8,85.71,40,100,0,10,10,97.5,10]
[{"$f":"Score!A17","v":14},{"$f":"Score!B17","v":" 553040063-3"},{"$f":"Score!C17","v":" นายธีรเจต เตรียมวิชานนท์"},{"$f":"Score!D17","v":" EN-ME"},{"$f":"Score!E17","v":3.03},{"$f":"Score!F17","v":1},0.95,0.9,0.8,1,1,0.5,1,1,1,0.95500000000000007,1,1,9.2541666666666682,null,19,9,80,10,100,50,100,10,10,9.5500000000000007,100,10]
[{"$f":"Score!A18","v":15},{"$f":"Score!B18","v":" 553040064-1"},{"$f":"Score!C18","v":" นายธีรพล เตชะเสน"},{"$f":"Score!D18","v":" EN-ME"},{"$f":"Score!E18","v":3.24},{"$f":"Score!F18","v":1},1,1,1,1,1,1,1,1,1,1,1,1,10,null,20,10,100,10,100,100,100,10,10,10,100,10]
[{"$f":"Score!A19","v":16},{"$f":"Score!B19","v":" 553040071-4"},{"$f":"Score!C19","v":" นายบรรยง ชัยยิ่ง"},{"$f":"Score!D19","v":" EN-ME"},{"$f":"Score!E19","v":2.68},{"$f":"Score!F19","v":1},0.8,1,1,0.8,1,0.8,1,1,1,1,0.9667,0.92300000000000004,9.408083333333332,null,16,10,100,8,100,80,100,10,10,10,96.67,9.23]
[{"$f":"Score!A20","v":17},{"$f":"Score!B20","v":" 553040072-2"},{"$f":"Score!C20","v":" นายบัญชา แก้วอาจ"},{"$f":"Score!D20","v":" EN-IE"},{"$f":"Score!E20","v":2.2599999999999998},{"$f":"Score!F20","v":1},0,0.7,0,0.2,1,0,0.7,1,0.3,{"$f":"AD20/10","v":0.90900000000000003},{"$f":"AE20/100","v":0.75},{"$f":"AF20/10","v":0.84600000000000009},5.3374999999999995,null,0,7,0,2,100,0,70,10,3,9.09,75,8.4600000000000009]
[{"$f":"Score!A21","v":18},{"$f":"Score!B21","v":" 553040083-7"},{"$f":"Score!C21","v":" นายพันธวัช เก็มประโคน"},{"$f":"Score!D21","v":" EN-IE"},{"$f":"Score!E21","v":2.08},{"$f":"Score!F21","v":1},1,0.9,0.2,0,1,0,0.5,0,0,0.95500000000000007,0,0,3.7958333333333334,null,20,9,20,0,100,0,50,0,0,9.5500000000000007,0,0]
[{"$f":"Score!A22","v":19},{"$f":"Score!B22","v":" 553040085-3"},{"$f":"Score!C22","v":" นายพิพัฒน์ รักทองจัน"},{"$f":"Score!D22","v":" EN-ME"},{"$f":"Score!E22","v":3.04},{"$f":"Score!F22","v":1},1,0.8,1,0.8,1,0.8,1,1,1,0.77300000000000002,1,0.69199999999999995,9.0541666666666654,null,20,8,100,8,100,80,100,10,10,7.73,100,6.92]
[{"$f":"Score!A23","v":20},{"$f":"Score!B23","v":" 553040087-9"},{"$f":"Score!C23","v":" นายพิภัทรยา ศิริแว่น"},{"$f":"Score!D23","v":" EN-ME"},{"$f":"Score!E23","v":2.29},{"$f":"Score!F23","v":1},1,0.9,1,1,1,1,1,1,1,0,1,1,9.0833333333333339,null,20,9,100,10,100,100,100,10,10,0,100,10]
[{"$f":"Score!A24","v":21},{"$f":"Score!B24","v":" 553040092-6"},{"$f":"Score!C24","v":" นายยศพนธ์ จันทร์วิเมลือง"},{"$f":"Score!D24","v":" EN-ME"},{"$f":"Score!E24","v":3.11},{"$f":"Score!F24","v":1},1,1,0.8,1,1,1,0.8,1,1,0.95500000000000007,1,1,9.6291666666666664,null,20,10,80,10,100,100,80,10,10,9.5500000000000007,100,10]
[{"$f":"Score!A25","v":22},{"$f":"Score!B25","v":" 553040094-2"},{"$f":"Score!C25","v":" นายยุทธการ แสนเสนา"},{"$f":"Score!D25","v":" EN-ME"},{"$f":"Score!E25","v":2.37},{"$f":"Score!F25","v":1},1,0.9,1,1,1,0,1,1,1,0.90900000000000003,1,1,9.0075000000000021,null,20,9,100,10,100,0,100,10,10,9.09,100,10]
[{"$f":"Score!A26","v":23},{"$f":"Score!B26","v":" 553040095-0"},{"$f":"Score!C26","v":" นายยุทธนา พิริยะสุทธิ์"},{"$f":"Score!D26","v":" EN-ME"},{"$f":"Score!E26","v":2.64},{"$f":"Score!F26","v":1},1,1,1,0.8,1,0.2,1,1,0.9,0.81799999999999995,1,1,8.9316666666666666,null,20,10,100,8,100,20,100,10,9,8.18,100,10]
[{"$f":"Score!A27","v":24},{"$f":"Score!B27","v":" 553040101-1"},{"$f":"Score!C27","v":" นายวรพล จันทร์ผิว"},{"$f":"Score!D27","v":" EN-IE"},{"$f":"Score!E27","v":3.05},{"$f":"Score!F27","v":1},0.95,0.8,0.5,1,1,0.2,1,1,1,1,1,1,8.7083333333333339,null,19,8,50,10,100,20,100,10,10,10,100,10]
[{"$f":"Score!A28","v":25},{"$f":"Score!B28","v":" 553040104-5"},{"$f":"Score!C28","v":" นายวรานนท์ ยุทธอมร"},{"$f":"Score!D28","v":" EN-ME"},{"$f":"Score!E28","v":2.72},{"$f":"Score!F28","v":1},1,0.9,0.7,0.8,0.28570000000000001,0,0.8,0.83299999999999996,1,0,1,1,6.9322499999999998,null,20,9,70,8,28.57,0,80,8.33,10,0,100,10]
[{"$f":"Score!A29","v":26},{"$f":"Score!B29","v":" 553040106-1"},{"$f":"Score!C29","v":" นายวศิน คำปัญโญ"},{"$f":"Score!D29","v":" EN-ME"},{"$f":"Score!E29","v":2.6},{"$f":"Score!F29","v":1},1,0.9,0.9,0.6,1,0.7,1,1,1,1,0.9667,1,9.2222500000000007,null,20,9,90,6,100,70,100,10,10,10,96.67,10]
[{"$f":"Score!A30","v":27},{"$f":"Score!B30","v":" 553040108-7"},{"$f":"Score!C30","v":" นายวิชญสิทธิ์ พันธุ์รักษา"},{"$f":"Score!D30","v":" EN-IE"},{"$f":"Score!E30","v":2.83},{"$f":"Score!F30","v":1},1,1,1,0.8,1,0,0.8,1,1,1,1,1,8.8333333333333339,null,20,10,100,8,100,0,80,10,10,10,100,10]
[{"$f":"Score!A31","v":28},{"$f":"Score!B31","v":" 553040121-5"},{"$f":"Score!C31","v":" นายสิริวุฒิ ภูมิภูเขียว"},{"$f":"Score!D31","v":" EN-IE"},{"$f":"Score!E31","v":2.06},{"$f":"Score!F31","v":1},0,0,1,1,1,0,0,0.83299999999999996,1,0.95500000000000007,1,1,6.49,null,0,0,100,10,100,0,0,8.33,10,9.5500000000000007,100,10]
[{"$f":"Score!A32","v":29},{"$f":"Score!B32","v":" 553040123-1"},{"$f":"Score!C32","v":" นางสาวหทัยชนก ปัญญาบุตร"},{"$f":"Score!D32","v":" EN-ME"},{"$f":"Score!E32","v":2.4500000000000002},{"$f":"Score!F32","v":1},1,0.9,1,1,0.78569999999999995,0.5,0.8,1,1,1,0.9667,1,9.1269999999999989,null,20,9,100,10,78.569999999999993,50,80,10,10,10,96.67,10]
[{"$f":"Score!A33","v":30},{"$f":"Score!B33","v":" 553040126-5"},{"$f":"Score!C33","v":" นายอนวัช คงวีระวัฒน์"},{"$f":"Score!D33","v":" EN-ME"},{"$f":"Score!E33","v":2.27},{"$f":"Score!F33","v":1},1,1,1,1,1,0,0.8,1,0.9,0,0.68330000000000002,1,7.8194166666666671,null,20,10,100,10,100,0,80,10,9,0,68.33,10]
[{"$f":"Score!A34","v":31},{"$f":"Score!B34","v":" 553040132-0"},{"$f":"Score!C34","v":" นางสาวอรทัย ยอดแก้วพิสัย"},{"$f":"Score!D34","v":" EN-IE"},{"$f":"Score!E34","v":2.8},{"$f":"Score!F34","v":1},1,1,1,1,1,0.5,1,1,1,1,1,1,9.5833333333333339,null,20,10,100,10,100,50,100,10,10,10,100,10]
[{"$f":"Score!A35","v":32},{"$f":"Score!B35","v":" 553040133-8"},{"$f":"Score!C35","v":" นายอรรถชัย ทองสุข"},{"$f":"Score!D35","v":" EN-ME"},{"$f":"Score!E35","v":2.16},{"$f":"Score!F35","v":1},1,1,1,1,1,1,0.8,1,1,1,1,1,9.8333333333333339,null,20,10,100,10,100,100,80,10,10,10,100,10]
[{"$f":"Score!A36","v":33},{"$f":"Score!B36","v":" 553040136-2"},{"$f":"Score!C36","v":" นางสาวอัชฌา เสาร์สิงห์"},{"$f":"Score!D36","v":" EN-ME"},{"$f":"Score!E36","v":2.8},{"$f":"Score!F36","v":1},1,1,0.8,1,0.78569999999999995,0.1,1,1,1,1,0.97499999999999998,1,8.8839166666666678,null,20,10,80,10,78.569999999999993,10,100,10,10,10,97.5,10]
[{"$f":"Score!A37","v":34},{"$f":"Score!B37","v":" 553040137-0"},{"$f":"Score!C37","v":" นางสาวอัชรา เชาว์ชอบ"},{"$f":"Score!D37","v":" EN-IE"},{"$f":"Score!E37","v":2.81},{"$f":"Score!F37","v":1},1,1,1,1,1,0.8,1,1,1,1,1,1,9.8333333333333339,null,20,10,100,10,100,80,100,10,10,10,100,10]
[{"$f":"Score!A38","v":35},{"$f":"Score!B38","v":" 553040146-9"},{"$f":"Score!C38","v":" นายเจษฎา พลชา"},{"$f":"Score!D38","v":" EN-AE"},{"$f":"Score!E38","v":2.39},{"$f":"Score!F38","v":1},1,1,1,1,0.78569999999999995,1,1,1,1,1,1,1,9.8214166666666678,null,20,10,100,10,78.569999999999993,100,100,10,10,10,100,10]
[{"$f":"Score!A39","v":36},{"$f":"Score!B39","v":" 553040148-5"},{"$f":"Score!C39","v":" นายเชษฐทรัพย์ ทองคำใส"},{"$f":"Score!D39","v":" EN-AE"},{"$f":"Score!E39","v":2.6},{"$f":"Score!F39","v":1},1,1,0,1,1,0.8,1,1,1,0.90900000000000003,1,1,8.9241666666666664,null,20,10,0,10,100,80,100,10,10,9.09,100,10]
[{"$f":"Score!A40","v":37},{"$f":"Score!B40","v":" 553040149-3"},{"$f":"Score!C40","v":" นายณัฐพงษ์ เหล่าจูม"},{"$f":"Score!D40","v":" EN-AE"},{"$f":"Score!E40","v":3.04},{"$f":"Score!F40","v":1},0.85,1,1,1,1,1,1,1,1,1,1,1,9.875,null,17,10,100,10,100,100,100,10,10,10,100,10]
[{"$f":"Score!A41","v":38},{"$f":"Score!B41","v":" 553040154-0"},{"$f":"Score!C41","v":" นางสาวนฤมล พรมพุ้ย"},{"$f":"Score!D41","v":" EN-AE"},{"$f":"Score!E41","v":2.5299999999999998},{"$f":"Score!F41","v":1},0.75,1,0.2,0.8,1,0.3,1,1,0.9,0.95500000000000007,0.93330000000000002,1,8.1985833333333336,null,15,10,20,8,100,30,100,10,9,9.5500000000000007,93.33,10]
[{"$f":"Score!A42","v":39},{"$f":"Score!B42","v":" 553040163-9"},{"$f":"Score!C42","v":" นางสาววาสนา เคเมือง"},{"$f":"Score!D42","v":" EN-AE"},{"$f":"Score!E42","v":2.2999999999999998},{"$f":"Score!F42","v":1},0.97499999999999998,1,1,1,1,1,1,1,1,1,1,1,9.9791666666666661,null,19.5,10,100,10,100,100,100,10,10,10,100,10]
[{"$f":"Score!A43","v":40},{"$f":"Score!B43","v":" 553040164-7"},{"$f":"Score!C43","v":" นายวิภูรินทร์ เลิศพนาลัย"},{"$f":"Score!D43","v":" EN-AE"},{"$f":"Score!E43","v":2.5499999999999998},{"$f":"Score!F43","v":1},1,1,0.8,1,0.35710000000000003,1,1,1,1,1,1,1,9.2975833333333338,null,20,10,80,10,35.71,100,100,10,10,10,100,10]
[{"$f":"Score!A44","v":41},{"$f":"Score!B44","v":" 553040167-1"},{"$f":"Score!C44","v":" นายอดิศักดิ์ มุนนี"},{"$f":"Score!D44","v":" EN-AE"},{"$f":"Score!E44","v":2.96},{"$f":"Score!F44","v":1},0.8,0.9,1,1,1,1,1,1,1,1,1,1,9.75,null,16,9,100,10,100,100,100,10,10,10,100,10]
[{"$f":"Score!A45","v":42},{"$f":"Score!B45","v":" 553040169-7"},{"$f":"Score!C45","v":" นายอภิสิทธิ์ รังสิมาวงศ์"},{"$f":"Score!D45","v":" EN-AE"},{"$f":"Score!E45","v":3.16},{"$f":"Score!F45","v":1},0.9,1,1,1,1,1,1,1,1,1,1,1,9.9166666666666679,null,18,10,100,10,100,100,100,10,10,10,100,10]
[{"$f":"Score!A46","v":43},{"$f":"Score!B46","v":" 553040170-2"},{"$f":"Score!C46","v":" นายอาทิตย์ ภูผาผุด"},{"$f":"Score!D46","v":" EN-AE"},{"$f":"Score!E46","v":3.25},{"$f":"Score!F46","v":1},1,1,1,1,1,1,1,1,1,1,1,1,10,null,20,10,100,10,100,100,100,10,10,10,100,10]
[{"$f":"Score!A47","v":44},{"$f":"Score!B47","v":" 553040281-3"},{"$f":"Score!C47","v":" นายทวิชาติ อัครสันตติกุล"},{"$f":"Score!D47","v":" EN-IE"},{"$f":"Score!E47","v":1.95},{"$f":"Score!F47","v":1},0.75,0.8,0.4,0.8,1,0.2,0.8,1,0.9,0.8640000000000001,1,0.92300000000000004,7.8641666666666667,null,15,8,40,8,100,20,80,10,9,8.64,100,9.23]
[{"$f":"Score!A48","v":45},{"$f":"Score!B48","v":" 553040285-5"},{"$f":"Score!C48","v":" นางสาวกนกอร แดงน้อย"},{"$f":"Score!D48","v":" EN-IE"},{"$f":"Score!E48","v":2.5099999999999998},{"$f":"Score!F48","v":1},1,1,0.6,1,1,0.3,0.5,1,1,0.8640000000000001,0.9667,0.92300000000000004,8.4614166666666666,null,20,10,60,10,100,30,50,10,10,8.64,96.67,9.23]
[{"$f":"Score!A49","v":46},{"$f":"Score!B49","v":" 553040289-7"},{"$f":"Score!C49","v":" นายกัมปนาท ชาวดร"},{"$f":"Score!D49","v":" EN-ME"},{"$f":"Score!E49","v":3.02},{"$f":"Score!F49","v":1},1,1,0.8,1,1,1,0,1,0.9,1,1,1,8.9166666666666661,null,20,10,80,10,100,100,0,10,9,10,100,10]
[{"$f":"Score!A50","v":47},{"$f":"Score!B50","v":" 553040290-2"},{"$f":"Score!C50","v":" นายกานตภณ รุ่งฤทัยวัฒน์"},{"$f":"Score!D50","v":" EN-IE"},{"$f":"Score!E50","v":2.2200000000000002},{"$f":"Score!F50","v":1},0,0.3,0.3,0.4,0.5,1,0,1,1,1,1,1,6.25,null,0,3,30,4,50,100,0,10,10,10,100,10]
[{"$f":"Score!A51","v":48},{"$f":"Score!B51","v":" 553040297-8"},{"$f":"Score!C51","v":" นางสาวขวัญตา สุวรรณจันทร์"},{"$f":"Score!D51","v":" EN-IE"},{"$f":"Score!E51","v":1.24},{"$f":"Score!F51","v":1},0,0,0,0,0,0,0,0,0,0,0,0,0,null,0,0,0,0,0,0,0,0,0,0,0,0]
[{"$f":"Score!A52","v":49},{"$f":"Score!B52","v":" 553040298-6"},{"$f":"Score!C52","v":" นายคฑาวุธ นิลคุณ"},{"$f":"Score!D52","v":" EN-ME"},{"$f":"Score!E52","v":2.16},{"$f":"Score!F52","v":1},1,0.7,0.9,1,0,0.2,1,0.83299999999999996,1,0,0,1,6.3608333333333347,null,20,7,90,10,0,20,100,8.33,10,0,0,10]
[{"$f":"Score!A53","v":50},{"$f":"Score!B53","v":" 553040302-1"},{"$f":"Score!C53","v":" นายจรูญวิทย์ ยึนประโคน"},{"$f":"Score!D53","v":" EN-IE"},{"$f":"Score!E53","v":2.25},{"$f":"Score!F53","v":1},1,0.9,0.6,1,1,1,1,1,1,1,1,1,9.5833333333333339,null,20,9,60,10,100,100,100,10,10,10,100,10]
[{"$f":"Score!A54","v":51},{"$f":"Score!B54","v":" 553040310-2"},{"$f":"Score!C54","v":" นายจีระวัฒน์ ศรีมีชัย"},{"$f":"Score!D54","v":" EN-IE"},{"$f":"Score!E54","v":2.1800000000000002},{"$f":"Score!F54","v":1},0.92500000000000004,1,0.7,1,1,0,1,0.83299999999999996,1,0.95500000000000007,0,1,7.8441666666666672,null,18.5,10,70,10,100,0,100,8.33,10,9.5500000000000007,0,10]
[{"$f":"Score!A55","v":52},{"$f":"Score!B55","v":" 553040312-8"},{"$f":"Score!C55","v":" นางสาวจุฑารัตน์ เลยยุทธ"},{"$f":"Score!D55","v":" EN-IE"},{"$f":"Score!E55","v":2.66},{"$f":"Score!F55","v":1},1,1,1,1,1,0.5,1,1,1,1,1,1,9.5833333333333339,null,20,10,100,10,100,50,100,10,10,10,100,10]
[{"$f":"Score!A56","v":53},{"$f":"Score!B56","v":" 553040315-2"},{"$f":"Score!C56","v":" นางสาวจุฬารัตน์ แสนวงษ์"},{"$f":"Score!D56","v":" EN-ME"},{"$f":"Score!E56","v":3.22},{"$f":"Score!F56","v":1},0.75,0.6,1,1,1,0.1,1,1,1,1,0,1,7.875,null,15,6,100,10,100,10,100,10,10,10,0,10]
[{"$f":"Score!A57","v":54},{"$f":"Score!B57","v":" 553040316-0"},{"$f":"Score!C57","v":" นางสาวเจนจิรา ปิยาโยค"},{"$f":"Score!D57","v":" EN-ME"},{"$f":"Score!E57","v":2.2999999999999998},{"$f":"Score!F57","v":1},0.75,0.9,0.8,1,1,0.2,0.7,1,1,0.95500000000000007,0,1,7.7541666666666664,null,15,9,80,10,100,20,70,10,10,9.5500000000000007,0,10]
[{"$f":"Score!A58","v":55},{"$f":"Score!B58","v":" 553040317-8"},{"$f":"Score!C58","v":" นายเจนณรงค์ อยู่ยง"},{"$f":"Score!D58","v":" EN-ME"},{"$f":"Score!E58","v":2.57},{"$f":"Score!F58","v":1},1,1,0.9,1,1,0.2,1,0.66700000000000004,1,0.95500000000000007,0.93330000000000002,1,8.8794166666666676,null,20,10,90,10,100,20,100,6.67,10,9.5500000000000007,93.33,10]
[{"$f":"Score!A59","v":56},{"$f":"Score!B59","v":" 553040320-9"},{"$f":"Score!C59","v":" นางสาวชลธิชา นาสินสร้อย"},{"$f":"Score!D59","v":" EN-ME"},{"$f":"Score!E59","v":2.81},{"$f":"Score!F59","v":1},1,1,1,1,1,1,1,1,1,1,1,1,10,null,20,10,100,10,100,100,100,10,10,10,100,10]
[{"$f":"Score!A60","v":57},{"$f":"Score!B60","v":" 553040321-7"},{"$f":"Score!C60","v":" นายชลวิทย์ พิสิฐรัตนวงศ์"},{"$f":"Score!D60","v":" EN-IE"},{"$f":"Score!E60","v":2.19},{"$f":"Score!F60","v":1},0.97499999999999998,1,1,1,1,0.2,0.8,1,1,1,1,1,9.1458333333333339,null,19.5,10,100,10,100,20,80,10,10,10,100,10]
[{"$f":"Score!A61","v":58},{"$f":"Score!B61","v":" 553040326-7"},{"$f":"Score!C61","v":" นางสาวญาดา ยิ้มยินดี"},{"$f":"Score!D61","v":" EN-IE"},{"$f":"Score!E61","v":2.09},{"$f":"Score!F61","v":1},0.85,1,1,1,1,0,0.8,1,1,1,1,1,8.875,null,17,10,100,10,100,0,80,10,10,10,100,10]
[{"$f":"Score!A62","v":59},{"$f":"Score!B62","v":" 553040336-4"},{"$f":"Score!C62","v":" นายทวีรัช ทาจันทร์"},{"$f":"Score!D62","v":" EN-ME"},{"$f":"Score!E62","v":2.46},{"$f":"Score!F62","v":1},0,0.8,1,1,1,0.2,1,1,0.6,0,0.1583,1,6.4652499999999993,null,0,8,100,10,100,20,100,10,6,0,15.83,10]
[{"$f":"Score!A63","v":60},{"$f":"Score!B63","v":" 553040339-8"},{"$f":"Score!C63","v":" นายแทนพงศ์ พุทธลา"},{"$f":"Score!D63","v":" EN-ME"},{"$f":"Score!E63","v":2.73},{"$f":"Score!F63","v":1},1,1,0.8,1,1,1,1,1,0.9,1,1,1,9.75,null,20,10,80,10,100,100,100,10,9,10,100,10]
[{"$f":"Score!A64","v":61},{"$f":"Score!B64","v":" 553040340-3"},{"$f":"Score!C64","v":" นายธนกฤต เหล่าพิเดช"},{"$f":"Score!D64","v":" EN-IE"},{"$f":"Score!E64","v":2.23},{"$f":"Score!F64","v":1},0,0.6,0.9,0.4,1,0.8,1,1,1,0.95500000000000007,1,1,8.0458333333333343,null,0,6,90,4,100,80,100,10,10,9.5500000000000007,100,10]
[{"$f":"Score!A65","v":62},{"$f":"Score!B65","v":" 553040346-1"},{"$f":"Score!C65","v":" นางสาวธันยมัย มูลมณี"},{"$f":"Score!D65","v":" EN-IE"},{"$f":"Score!E65","v":1.92},{"$f":"Score!F65","v":1},1,1,0.8,1,1,0,1,1,1,1,1,1,9.0000000000000018,null,20,10,80,10,100,0,100,10,10,10,100,10]
[{"$f":"Score!A66","v":63},{"$f":"Score!B66","v":" 553040347-9"},{"$f":"Score!C66","v":" นายธันวา ไกยราช"},{"$f":"Score!D66","v":" EN-ME"},{"$f":"Score!E66","v":2.72},{"$f":"Score!F66","v":1},1,0.8,0.8,0.6,1,0.1,1,1,1,0.95500000000000007,0.75,1,8.3375000000000004,null,20,8,80,6,100,10,100,10,10,9.5500000000000007,75,10]
[{"$f":"Score!A67","v":64},{"$f":"Score!B67","v":" 553040349-5"},{"$f":"Score!C67","v":" นายธิบดี ธิแก้ว"},{"$f":"Score!D67","v":" EN-IE"},{"$f":"Score!E67","v":2.15},{"$f":"Score!F67","v":1},1,1,0.7,1,1,0,1,1,1,1,1,1,8.9166666666666661,null,20,10,70,10,100,0,100,10,10,10,100,10]
[{"$f":"Score!A68","v":65},{"$f":"Score!B68","v":" 553040359-2"},{"$f":"Score!C68","v":" นางสาวเบญจวรรณ มั่นวงษ์"},{"$f":"Score!D68","v":" EN-IE"},{"$f":"Score!E68","v":2.02},{"$f":"Score!F68","v":1},1,1,0.4,1,0,0.2,1,1,1,0,1,1,7.166666666666667,null,20,10,40,10,0,20,100,10,10,0,100,10]
[{"$f":"Score!A69","v":66},{"$f":"Score!B69","v":" 553040365-7"},{"$f":"Score!C69","v":" นางสาวปรีม สุขเสนีย์"},{"$f":"Score!D69","v":" EN-ME"},{"$f":"Score!E69","v":2.4700000000000002},{"$f":"Score!F69","v":1},1,1,0.4,1,0.85709999999999997,{"$f":"Z69/100","v":0.3},{"$f":"AA69/100","v":1},{"$f":"AB69/10","v":1},{"$f":"AC69/10","v":1},1,0.9667,1,{"$f":"SUM(G69:R69)/1.2","v":8.7698333333333327},null,20,10,40,10,85.71,30,100,10,10,10,96.67,10]
[{"$f":"Score!A70","v":67},{"$f":"Score!B70","v":" 553040368-1"},{"$f":"Score!C70","v":" นางสาวปุณฑริกา สิทธิกรชัย"},{"$f":"Score!D70","v":" EN-IE"},{"$f":"Score!E70","v":2.2599999999999998},{"$f":"Score!F70","v":1},{"$f":"U70/20","v":1},{"$f":"V70/10","v":1},{"$f":"W70/100","v":1},{"$f":"X70/10","v":1},{"$f":"Y70/100","v":0.64290000000000003},0,0.3,0.66700000000000004,0,1,1,1,7.1749166666666664,null,20,10,100,10,64.290000000000006,0,30,6.67,0,10,100,10]
[{"$f":"Score!A71","v":68},{"$f":"Score!B71","v":" 553040380-1"},{"$f":"Score!C71","v":" นายพิธพล พลเพชร"},{"$f":"Score!D71","v":" EN-IE"},{"$f":"Score!E71","v":2.21},{"$f":"Score!F71","v":1},1,0.7,0.1,0,0,0,0,1,0.9,0,0.9667,1,4.7222499999999998,null,20,7,10,0,0,0,0,10,9,0,96.67,10]
[{"$f":"Score!A72","v":69},{"$f":"Score!B72","v":" 553040383-5"},{"$f":"Score!C72","v":" นายพีระพงษ์ สิมงาม"},{"$f":"Score!D72","v":" EN-ME"},{"$f":"Score!E72","v":2.69},{"$f":"Score!F72","v":1},1,1,1,1,1,1,1,1,1,1,1,1,10,null,20,10,100,10,100,100,100,10,10,10,100,10]
[{"$f":"Score!A73","v":70},{"$f":"Score!B73","v":" 553040386-9"},{"$f":"Score!C73","v":" นายภัทรพล สารผล"},{"$f":"Score!D73","v":" EN-IE"},{"$f":"Score!E73","v":2.08},{"$f":"Score!F73","v":1},0,0.5,0.7,1,1,0,1,1,0,1,0,0.69199999999999995,5.7433333333333341,null,0,5,70,10,100,0,100,10,0,10,0,6.92]
[{"$f":"Score!A74","v":71},{"$f":"Score!B74","v":" 553040387-7"},{"$f":"Score!C74","v":" นายภาคภูมิ ประเสริฐ"},{"$f":"Score!D74","v":" EN-ME"},{"$f":"Score!E74","v":2.86},{"$f":"Score!F74","v":1},1,1,1,1,1,0.7,1,1,1,1,1,1,9.75,null,20,10,100,10,100,70,100,10,10,10,100,10]
[{"$f":"Score!A75","v":72},{"$f":"Score!B75","v":" 553040391-6"},{"$f":"Score!C75","v":" นายมารุต พลวัน"},{"$f":"Score!D75","v":" EN-ME"},{"$f":"Score!E75","v":2.77},{"$f":"Score!F75","v":1},0.97499999999999998,1,0.9,1,0.78569999999999995,0.8,1,1,1,1,1,1,9.5505833333333339,null,19.5,10,90,10,78.569999999999993,80,100,10,10,10,100,10]
[{"$f":"Score!A76","v":73},{"$f":"Score!B76","v":" 553040397-4"},{"$f":"Score!C76","v":" นายรัชชานนท์ หาญกล้า"},{"$f":"Score!D76","v":" EN-ME"},{"$f":"Score!E76","v":2.65},{"$f":"Score!F76","v":1},1,1,1,0.6,0.5,0,0,0,1,0,0,0,4.25,null,20,10,100,6,50,0,0,0,10,0,0,0]
[{"$f":"Score!A77","v":74},{"$f":"Score!B77","v":" 553040400-1"},{"$f":"Score!C77","v":" นายวงศธร เอียตระกูลไพบูลย์"},{"$f":"Score!D77","v":" EN-IE"},{"$f":"Score!E77","v":2.76},{"$f":"Score!F77","v":1},1,0.8,1,1,0.85709999999999997,1,1,0.83299999999999996,1,1,1,1,9.5750833333333336,null,20,8,100,10,85.71,100,100,8.33,10,10,100,10]
[{"$f":"Score!A78","v":75},{"$f":"Score!B78","v":" 553040401-9"},{"$f":"Score!C78","v":" นายวชิรวิทย์ นวรัตนากร"},{"$f":"Score!D78","v":" EN-IE"},{"$f":"Score!E78","v":2.83},{"$f":"Score!F78","v":1},0.85,0.7,1,1,1,0,0,0.83299999999999996,0.4,0.95500000000000007,1,1,7.2816666666666663,null,17,7,100,10,100,0,0,8.33,4,9.5500000000000007,100,10]
[{"$f":"Score!A79","v":76},{"$f":"Score!B79","v":" 553040404-3"},{"$f":"Score!C79","v":" นายวนัสมัญ กฤษณะสุวรรณ"},{"$f":"Score!D79","v":" EN-IE"},{"$f":"Score!E79","v":2.2999999999999998},{"$f":"Score!F79","v":1},0,0,0,0,0,0,0,0,0,0,1,0.92300000000000004,1.6025,null,0,0,0,0,0,0,0,0,0,0,100,9.23]
[{"$f":"Score!A80","v":77},{"$f":"Score!B80","v":" 553040417-4"},{"$f":"Score!C80","v":" นางสาวศศิวิมล กองพันธ์"},{"$f":"Score!D80","v":" EN-IE"},{"$f":"Score!E80","v":2.94},{"$f":"Score!F80","v":1},1,1,0.6,1,1,0,0.5,1,1,1,1,1,8.4166666666666661,null,20,10,60,10,100,0,50,10,10,10,100,10]
[{"$f":"Score!A81","v":78},{"$f":"Score!B81","v":" 553040420-5"},{"$f":"Score!C81","v":" นางสาวศิรินาถ ดวงพิมพ์"},{"$f":"Score!D81","v":" EN-IE"},{"$f":"Score!E81","v":2.21},{"$f":"Score!F81","v":1},0.82499999999999996,1,1,1,1,0,0,1,1,1,1,1,8.1875,null,16.5,10,100,10,100,0,0,10,10,10,100,10]
[{"$f":"Score!A82","v":79},{"$f":"Score!B82","v":" 553040426-3"},{"$f":"Score!C82","v":" นายสหภาพ เพียรชนะ"},{"$f":"Score!D82","v":" EN-ME"},{"$f":"Score!E82","v":3.13},{"$f":"Score!F82","v":1},1,0.9,0.9,1,1,1,1,1,1,1,1,1,9.8333333333333339,null,20,9,90,10,100,100,100,10,10,10,100,10]
[{"$f":"Score!A83","v":80},{"$f":"Score!B83","v":" 553040427-1"},{"$f":"Score!C83","v":" นายสิทธิชัย เมืองโคตร"},{"$f":"Score!D83","v":" EN-ME"},{"$f":"Score!E83","v":2.35},{"$f":"Score!F83","v":1},1,1,0.8,0.6,1,0.1,1,1,1,0.8640000000000001,1,1,8.6366666666666685,null,20,10,80,6,100,10,100,10,10,8.64,100,10]
[{"$f":"Score!A84","v":81},{"$f":"Score!B84","v":" 553040428-9"},{"$f":"Score!C84","v":" นางสาวสุกัญญา ธารานุวงศ์"},{"$f":"Score!D84","v":" EN-ME"},{"$f":"Score!E84","v":2.8},{"$f":"Score!F84","v":1},1,0.8,0.8,0.8,1,0.4,1,1,1,{"$f":"AD84/10","v":1},{"$f":"AE84/100","v":0.9667},{"$f":"AF84/10","v":1},8.9722500000000007,null,20,8,80,8,100,40,100,10,10,10,96.67,10]
[{"$f":"Score!A85","v":82},{"$f":"Score!B85","v":" 553040429-7"},{"$f":"Score!C85","v":" นางสาวสุกัญญา เวียงสิมา"},{"$f":"Score!D85","v":" EN-IE"},{"$f":"Score!E85","v":2.2799999999999998},{"$f":"Score!F85","v":1},0.7,0.8,0.8,1,0.85709999999999997,0.2,0.3,1,1,1,1,1,8.0475833333333338,null,14,8,80,10,85.71,20,30,10,10,10,100,10]
[{"$f":"Score!A86","v":83},{"$f":"Score!B86","v":" 553040430-2"},{"$f":"Score!C86","v":" นางสาวสุฑิฌา อินทนนท์"},{"$f":"Score!D86","v":" EN-IE"},{"$f":"Score!E86","v":1.95},{"$f":"Score!F86","v":1},1,1,0.8,1,1,0,0.3,1,1,0.95500000000000007,1,0.84600000000000009,8.2508333333333344,null,20,10,80,10,100,0,30,10,10,9.5500000000000007,100,8.4600000000000009]
[{"$f":"Score!A87","v":84},{"$f":"Score!B87","v":" 553040434-4"},{"$f":"Score!C87","v":" นางสาวสุรัชนา ตุ่นแก้ว"},{"$f":"Score!D87","v":" EN-ME"},{"$f":"Score!E87","v":2.62},{"$f":"Score!F87","v":1},1,1,0.9,0.8,1,1,1,1,1,0.90900000000000003,1,1,9.6741666666666664,null,20,10,90,8,100,100,100,10,10,9.09,100,10]
[{"$f":"Score!A88","v":85},{"$f":"Score!B88","v":" 553040436-0"},{"$f":"Score!C88","v":" นายเสฎฐฌาน น้อยอาษา"},{"$f":"Score!D88","v":" EN-ME"},{"$f":"Score!E88","v":2.2599999999999998},{"$f":"Score!F88","v":1},1,0.7,1,1,1,0.6,1,1,1,0,0.7167,1,8.3472500000000007,null,20,7,100,10,100,60,100,10,10,0,71.67,10]
[{"$f":"Score!A89","v":86},{"$f":"Score!B89","v":" 553040448-3"},{"$f":"Score!C89","v":" นายอาทิตย์ ขาวสนิท"},{"$f":"Score!D89","v":" EN-ME"},{"$f":"Score!E89","v":2.65},{"$f":"Score!F89","v":1},1,1,1,1,1,0.2,0.8,1,1,1,1,1,9.1666666666666679,null,20,10,100,10,100,20,80,10,10,10,100,10]
[{"$f":"Score!A90","v":87},{"$f":"Score!B90","v":" 553040449-1"},{"$f":"Score!C90","v":" นายอานุภาพ วิจบ"},{"$f":"Score!D90","v":" EN-IE"},{"$f":"Score!E90","v":2.9},{"$f":"Score!F90","v":1},1,0.9,0.7,1,1,0.3,1,1,1,1,1,1,9.0833333333333321,null,20,9,70,10,100,30,100,10,10,10,100,10]
[{"$f":"Score!A91","v":88},{"$f":"Score!B91","v":" 553040450-6"},{"$f":"Score!C91","v":" นายเอกราช คำงาม"},{"$f":"Score!D91","v":" EN-ME"},{"$f":"Score!E91","v":2.3199999999999998},{"$f":"Score!F91","v":1},0.95,0.8,0.4,1,0.78569999999999995,0.6,0,0.66700000000000004,0.4,0.81799999999999995,0.93330000000000002,1,6.961666666666666,null,19,8,40,10,78.569999999999993,60,0,6.67,4,8.18,93.33,10]
[{"$f":"Score!A92","v":89},{"$f":"Score!B92","v":" 553040454-8"},{"$f":"Score!C92","v":" นายกลวัชร จงฤาชา"},{"$f":"Score!D92","v":" EN-AE"},{"$f":"Score!E92","v":2.2400000000000002},{"$f":"Score!F92","v":1},1,1,1,1,1,0.2,1,1,0.7,0,1,1,8.25,null,20,10,100,10,100,20,100,10,7,0,100,10]
[{"$f":"Score!A93","v":90},{"$f":"Score!B93","v":" 553040458-0"},{"$f":"Score!C93","v":" นางสาวจุฬาลักษณ์ ชมภูรักษ์"},{"$f":"Score!D93","v":" EN-AE"},{"$f":"Score!E93","v":2.57},{"$f":"Score!F93","v":1},1,0.8,0.9,0.8,1,0,1,1,0.9,0.90900000000000003,1,1,8.5908333333333342,null,20,8,90,8,100,0,100,10,9,9.09,100,10]
[{"$f":"Score!A94","v":91},{"$f":"Score!B94","v":" 553040464-5"},{"$f":"Score!C94","v":" นางสาวทิชากร จุลพันธ์"},{"$f":"Score!D94","v":" EN-AE"},{"$f":"Score!E94","v":1.97},{"$f":"Score!F94","v":1},0,0.9,0.6,1,1,1,0,1,1,1,1,1,7.916666666666667,null,0,9,60,10,100,100,0,10,10,10,100,10]
[{"$f":"Score!A95","v":92},{"$f":"Score!B95","v":" 553040467-9"},{"$f":"Score!C95","v":" นายนพพล รัตน์ปิยะภาภรณ์"},{"$f":"Score!D95","v":" EN-AE"},{"$f":"Score!E95","v":2.57},{"$f":"Score!F95","v":1},1,1,0.6,1,1,1,1,1,1,1,1,1,9.6666666666666661,null,20,10,60,10,100,100,100,10,10,10,100,10]
[{"$f":"Score!A96","v":93},{"$f":"Score!B96","v":" 553040468-7"},{"$f":"Score!C96","v":" นางสาวบังอร ทนน้ำ"},{"$f":"Score!D96","v":" EN-AE"},{"$f":"Score!E96","v":2.6},{"$f":"Score!F96","v":1},0.7,1,0.8,1,1,0,0.8,1,1,0.8640000000000001,0.97499999999999998,1,8.4491666666666667,null,14,10,80,10,100,0,80,10,10,8.64,97.5,10]
[{"$f":"Score!A97","v":94},{"$f":"Score!B97","v":" 553040476-8"},{"$f":"Score!C97","v":" นายมงคลลักษ์ วงษ์ศรีมี"},{"$f":"Score!D97","v":" EN-AE"},{"$f":"Score!E97","v":2.83},{"$f":"Score!F97","v":1},1,1,0.6,1,1,1,1,1,1,1,1,1,9.6666666666666661,null,20,10,60,10,100,100,100,10,10,10,100,10]
[{"$f":"Score!A98","v":95},{"$f":"Score!B98","v":" 553040485-7"},{"$f":"Score!C98","v":" นายอานันต์ หอมเนียม"},{"$f":"Score!D98","v":" EN-AE"},{"$f":"Score!E98","v":2.2400000000000002},{"$f":"Score!F98","v":1},0.45,1,0.6,1,1,0.8,1,1,1,1,1,1,9.0416666666666661,null,9,10,60,10,100,80,100,10,10,10,100,10]
[{"$f":"Score!A99","v":96},{"$f":"Score!B99","v":" 553040614-2"},{"$f":"Score!C99","v":" นายจตุรงค์ ถนอมศิลป์"},{"$f":"Score!D99","v":" EN-ME (พิเศษ ม.6)"},{"$f":"Score!E99","v":0},{"$f":"Score!F99","v":"4"},1,1,0.5,1,1,1,1,1,1,0.95500000000000007,1,1,9.5458333333333343,null,20,10,50,10,100,100,100,10,10,9.5500000000000007,100,10]
[{"$f":"Score!A100","v":97},{"$f":"Score!B100","v":" 553040617-6"},{"$f":"Score!C100","v":" นายชัยศิริ ลี้มีธรรม"},{"$f":"Score!D100","v":" EN-ME (พิเศษ ม.6)"},{"$f":"Score!E100","v":0},{"$f":"Score!F100","v":"4"},1,0.6,0.6,0.6,1,0,0.8,1,1,1,0.75,1,7.7916666666666679,null,20,6,60,6,100,0,80,10,10,10,75,10]
[{"$f":"Score!A101","v":98},{"$f":"Score!B101","v":" 553040618-4"},{"$f":"Score!C101","v":" นายเชษฐพงษ์ สาขา"},{"$f":"Score!D101","v":" EN-ME (พิเศษ ม.6)"},{"$f":"Score!E101","v":0},{"$f":"Score!F101","v":"4"},1,0.8,0.7,1,1,0,1,1,1,1,1,0.76900000000000002,8.557500000000001,null,20,8,70,10,100,0,100,10,10,10,100,7.69]
[{"$f":"Score!A102","v":99},{"$f":"Score!B102","v":" 553040621-5"},{"$f":"Score!C102","v":" นายณัฐพล หอมจะบก"},{"$f":"Score!D102","v":" EN-ME (พิเศษ ม.6)"},{"$f":"Score!E102","v":0},{"$f":"Score!F102","v":"4"},1,1,0.6,1,1,0.2,1,1,1,0,1,0,7.3333333333333339,null,20,10,60,10,100,20,100,10,10,0,100,0]
[{"$f":"Score!A103","v":100},{"$f":"Score!B103","v":" 553040622-3"},{"$f":"Score!C103","v":" นายทศพล ฉายจรุง"},{"$f":"Score!D103","v":" EN-ME (พิเศษ ม.6)"},{"$f":"Score!E103","v":0},{"$f":"Score!F103","v":"4"},1,1,0.6,1,1,0.7,1,1,1,0.95500000000000007,1,1,9.3791666666666682,null,20,10,60,10,100,70,100,10,10,9.5500000000000007,100,10]
[{"$f":"Score!A104","v":101},{"$f":"Score!B104","v":" 553040623-1"},{"$f":"Score!C104","v":" นายเทพนรินทร์ อินธิราช"},{"$f":"Score!D104","v":" EN-ME (พิเศษ ม.6)"},{"$f":"Score!E104","v":0},{"$f":"Score!F104","v":"4"},1,1,0.8,1,1,1,1,1,1,1,1,1,9.8333333333333339,null,20,10,80,10,100,100,100,10,10,10,100,10]
[{"$f":"Score!A105","v":102},{"$f":"Score!B105","v":" 553040624-9"},{"$f":"Score!C105","v":" นายธนะสิทธิ์ รุจิระโชติวัฒน์"},{"$f":"Score!D105","v":" EN-ME (พิเศษ ม.6)"},{"$f":"Score!E105","v":0},{"$f":"Score!F105","v":"4"},1,1,0.7,1,1,0.7,1,1,1,1,1,1,9.5,null,20,10,70,10,100,70,100,10,10,10,100,10]
[{"$f":"Score!A106","v":103},{"$f":"Score!B106","v":" 553040625-7"},{"$f":"Score!C106","v":" นายธีรศักดิ์ สังสิทธิสวัสดิ์"},{"$f":"Score!D106","v":" EN-ME (พิเศษ ม.6)"},{"$f":"Score!E106","v":0},{"$f":"Score!F106","v":"4"},0,0,0,0,0,0,0,0,0,0,0,0,0,null,0,0,0,0,0,0,0,0,0,0,0,0]
[{"$f":"Score!A107","v":104},{"$f":"Score!B107","v":" 553040626-5"},{"$f":"Score!C107","v":" นายปฏิภาณ สังข์ชัย"},{"$f":"Score!D107","v":" EN-ME (พิเศษ ม.6)"},{"$f":"Score!E107","v":0},{"$f":"Score!F107","v":"4"},0.3,0.8,0.7,1,1,0.6,1,1,1,0.95500000000000007,1,0,7.7958333333333343,null,6,8,70,10,100,60,100,10,10,9.5500000000000007,100,0]
[{"$f":"Score!A108","v":105},{"$f":"Score!B108","v":" 553040631-2"},{"$f":"Score!C108","v":" นายพงศ์รัตน์ ณ หนองคาย"},{"$f":"Score!D108","v":" EN-ME (พิเศษ ม.6)"},{"$f":"Score!E108","v":0},{"$f":"Score!F108","v":"4"},1,1,0.8,1,1,0.8,1,1,1,1,1,0.92300000000000004,9.6025000000000009,null,20,10,80,10,100,80,100,10,10,10,100,9.23]
[{"$f":"Score!A109","v":106},{"$f":"Score!B109","v":" 553040636-2"},{"$f":"Score!C109","v":" นายรัชชานนท์ บุญอาษา"},{"$f":"Score!D109","v":" EN-ME (พิเศษ ม.6)"},{"$f":"Score!E109","v":0},{"$f":"Score!F109","v":"4"},1,1,0.7,1,1,0.8,1,1,1,0.90900000000000003,1,1,9.5075000000000003,null,20,10,70,10,100,80,100,10,10,9.09,100,10]
[{"$f":"Score!A110","v":107},{"$f":"Score!B110","v":" 563040310-3"},{"$f":"Score!C110","v":" นางสาวธัญชนภ ธีระเดชธำดง"},{"$f":"Score!D110","v":"EN-IE"},{"$f":"Score!E110","v":0},{"$f":"Score!F110","v":"4"},{"$f":"U110/20","v":1},{"$f":"V110/10","v":1},{"$f":"W110/100","v":1},{"$f":"X110/10","v":1},{"$f":"Y110/100","v":1},{"$f":"Z110/100","v":1},{"$f":"AA110/100","v":1},1,1,1,1,1,{"$f":"SUM(G110:R110)/1.2","v":10},null,20,10,100,10,100,100,100,10,10,10,100,10]

{"sheet":"HomeworkAll","index":6,"n_rows":110,"n_cols":45,"rows_kept":110,"cut":false,"hidden":false,"merged":[]}
[null,"รายวิชา","195231 : THERMODYNAMICS I",null,null,"Section 1",null,null,null,null,null,null,null,null,null,null,null,null,null,"Accumulated",null,"Full","Score","Full","Score","Full","Score","full","score","Full","Score","full","score","Full","Score","full","score","full","score","full","score","full","score","full","score"]
[null,"ปีการศึกษา","2556 ภาคการศึกษาที่ 1",null,null,"รศ.ดร.สมหมาย ปรีเปรม",1,1,1,1,1,1,1,1,1,1,1,1,{"$f":"SUM(G2:R2)/1.2","v":10},"Full score",null,40,1,50,1,30,1,60,1,60,1,30,1,110,1,40,1,72,1,30,1,45,1,20,1]
["ลำดับ"," รหัส","ชื่อ","หลักสูตร","GPA","Section 1","HW1***","HW2","HW3","HW4","HW5","HW6","HW7","HW8","HW9","HW10","HW11","HW12","Sum",null,null,"HW1***",null,"HW2",null,"HW3",null,"HW4",null,"HW5",null,"HW6",null,"HW7",null,"HW8",null,"HW9",null,"HW10",null,"HW11",null,"HW12"]
[{"$f":"+Score!A4","v":1},{"$f":"+Score!B4","v":" 553040026-9"},{"$f":"+Score!C4","v":" นางสาวกนกกาญจน์ อุปสาร"},{"$f":"+Score!D4","v":" EN-IE"},{"$f":"+Score!E4","v":2.7},{"$f":"+Score!F4","v":1},{"$f":"W4","v":0.72499999999999998},{"$f":"Y4","v":1},{"$f":"AA4","v":0.9},{"$f":"AC4","v":0.8666666666666667},{"$f":"AE4","v":0.91666666666666663},{"$f":"AG4","v":0.96666666666666667},{"$f":"AI4","v":1},{"$f":"AK4","v":1},{"$f":"AM4","v":1},{"$f":"AO4","v":1},{"$f":"AQ4","v":1},{"$f":"AS4","v":1},{"$f":"SUM(G4:R4)/1.2","v":9.4791666666666679},null,null,29,{"$f":"V4/40","v":0.72499999999999998},50,{"$f":"X4/50","v":1},27,{"$f":"Z4/30","v":0.9},52,{"$f":"AB4/60","v":0.8666666666666667},55,{"$f":"AD4/60","v":0.91666666666666663},29,{"$f":"AF4/30","v":0.96666666666666667},110,{"$f":"AH4/110","v":1},40,{"$f":"AJ4/40","v":1},72,{"$f":"AL4/72","v":1},30,{"$f":"AN4/30","v":1},45,{"$f":"AP4/45","v":1},20,{"$f":"AR4/20","v":1}]
[{"$f":"+Score!A5","v":2},{"$f":"+Score!B5","v":" 553040032-4"},{"$f":"+Score!C5","v":" นายกิตติภัทร จิตรกสิกร"},{"$f":"+Score!D5","v":" EN-IE"},{"$f":"+Score!E5","v":2.68},{"$f":"+Score!F5","v":1},{"$f":"W5","v":0.75},{"$f":"Y5","v":1},{"$f":"AA5","v":0.96666666666666667},{"$f":"AC5","v":0.83333333333333337},{"$f":"AE5","v":0.93333333333333335},{"$f":"AG5","v":0.96666666666666667},{"$f":"AI5","v":1},{"$f":"AK5","v":1},{"$f":"AM5","v":0.97222222222222221},{"$f":"AO5","v":1},{"$f":"AQ5","v":1},{"$f":"AS5","v":1},{"$f":"SUM(G5:R5)/1.2","v":9.518518518518519},null,null,30,{"$f":"V5/40","v":0.75},50,{"$f":"X5/50","v":1},29,{"$f":"Z5/30","v":0.96666666666666667},50,{"$f":"AB5/60","v":0.83333333333333337},56,{"$f":"AD5/60","v":0.93333333333333335},29,{"$f":"AF5/30","v":0.96666666666666667},110,{"$f":"AH5/110","v":1},40,{"$f":"AJ5/40","v":1},70,{"$f":"AL5/72","v":0.97222222222222221},30,{"$f":"AN5/30","v":1},45,{"$f":"AP5/45","v":1},20,{"$f":"AR5/20","v":1}]
[{"$f":"+Score!A6","v":3},{"$f":"+Score!B6","v":" 553040033-2"},{"$f":"+Score!C6","v":" นายกิรติกร แก้วปานกัน"},{"$f":"+Score!D6","v":" EN-ME"},{"$f":"+Score!E6","v":2.82},{"$f":"+Score!F6","v":1},{"$f":"W6","v":0.77500000000000002},{"$f":"Y6","v":0.9},{"$f":"AA6","v":0.96666666666666667},0.96666666666666667,0.96666666666666667,0.96666666666666667,0.86363636363636365,1,0.91666666666666663,1,0.9555555555555556,0.9,9.3146043771043789,null,null,31,0.77500000000000002,45,0.9,29,0.96666666666666667,58,0.96666666666666667,58,0.96666666666666667,29,0.96666666666666667,95,0.86363636363636365,40,1,66,0.91666666666666663,30,1,43,0.9555555555555556,18,0.9]
[{"$f":"+Score!A7","v":4},{"$f":"+Score!B7","v":" 553040041-3"},{"$f":"+Score!C7","v":" นางสาวชนาธินาถ โสกงโสด"},{"$f":"+Score!D7","v":" EN-ME"},{"$f":"+Score!E7","v":2.42},{"$f":"+Score!F7","v":1},{"$f":"W7","v":1},0.94,0.96666666666666667,0.8833333333333333,1,1,1,1,1,1,1,1,9.8249999999999993,null,null,40,1,47,0.94,29,0.96666666666666667,53,0.8833333333333333,60,1,30,1,110,1,40,1,72,1,30,1,45,1,20,1]
[{"$f":"+Score!A8","v":5},{"$f":"+Score!B8","v":" 553040045-5"},{"$f":"+Score!C8","v":" นายณัฏฐกิตติ์ พูลประสงค์"},{"$f":"+Score!D8","v":" EN-ME"},{"$f":"+Score!E8","v":3.28},{"$f":"+Score!F8","v":1},0.9,1,0.8666666666666667,0.95,1,0,1,1,1,1,1,1,8.9305555555555554,null,null,36,0.9,50,1,26,0.8666666666666667,57,0.95,60,1,0,0,110,1,40,1,72,1,30,1,45,1,20,1]
[{"$f":"+Score!A9","v":6},{"$f":"+Score!B9","v":" 553040047-1"},{"$f":"+Score!C9","v":" นายณัฐพงษ์ กลิ่นมาลี"},{"$f":"+Score!D9","v":" EN-ME"},{"$f":"+Score!E9","v":2.87},{"$f":"+Score!F9","v":1},0.8,1,0.8666666666666667,0.85,1,1,0.9363636363636364,0.95,1,0,1,0,7.8358585858585874,null,null,32,0.8,50,1,26,0.8666666666666667,51,0.85,60,1,30,1,103,0.9363636363636364,38,0.95,72,1,0,0,45,1,0,0]
[{"$f":"+Score!A10","v":7},{"$f":"+Score!B10","v":" 553040049-7"},{"$f":"+Score!C10","v":" นายณัฐวัตร สุขสำราญ"},{"$f":"+Score!D10","v":" EN-IE"},{"$f":"+Score!E10","v":1.76},{"$f":"+Score!F10","v":1},0.57499999999999996,0,0.93333333333333335,0.71666666666666667,1,0.96666666666666667,0.9363636363636364,0.95,0,0,0,1,5.8983585858585865,null,null,23,0.57499999999999996,0,0,28,0.93333333333333335,43,0.71666666666666667,60,1,29,0.96666666666666667,103,0.9363636363636364,38,0.95,0,0,0,0,0,0,20,1]
[{"$f":"+Score!A11","v":8},{"$f":"+Score!B11","v":" 553040050-2"},{"$f":"+Score!C11","v":" นายณัฐวุฒิ ฆารประเดิม"},{"$f":"+Score!D11","v":" EN-ME"},{"$f":"+Score!E11","v":2.87},{"$f":"+Score!F11","v":1},0.75,1,0.76666666666666672,1,0.76666666666666672,1,1,1,1,1,0,1,8.5694444444444446,null,null,30,0.75,50,1,23,0.76666666666666672,60,1,46,0.76666666666666672,30,1,110,1,40,1,72,1,30,1,0,0,20,1]
[{"$f":"+Score!A12","v":9},{"$f":"+Score!B12","v":" 553040052-8"},{"$f":"+Score!C12","v":" นายถิรวัฒน์ แก้วคำปอด"},{"$f":"+Score!D12","v":" EN-ME"},{"$f":"+Score!E12","v":2.61},{"$f":"+Score!F12","v":1},0.85,1,1,0.91666666666666663,0.83333333333333337,1,1,0,1,1,0.88888888888888884,0,7.9074074074074074,null,null,34,0.85,50,1,30,1,55,0.91666666666666663,50,0.83333333333333337,30,1,110,1,0,0,72,1,30,1,40,0.88888888888888884,0,0]
[{"$f":"+Score!A13","v":10},{"$f":"+Score!B13","v":" 553040057-8"},{"$f":"+Score!C13","v":" นายธนวิชญ์ เลิศวุฒิชัยกุล"},{"$f":"+Score!D13","v":" EN-IE"},{"$f":"+Score!E13","v":2.29},{"$f":"+Score!F13","v":1},0,0,0,0,0.9,0,0,0,0,0,0,1,1.5833333333333333,null,null,0,0,0,0,0,0,0,0,54,0.9,0,0,0,0,0,0,0,0,0,0,0,0,20,1]
[{"$f":"+Score!A14","v":11},{"$f":"+Score!B14","v":" 553040059-4"},{"$f":"+Score!C14","v":" นายธนากร บุญดาว"},{"$f":"+Score!D14","v":" EN-ME"},{"$f":"+Score!E14","v":3.03},{"$f":"+Score!F14","v":1},1,1,1,0.96666666666666667,1,1,1,1,1,1,1,1,9.9722222222222232,null,null,40,1,50,1,30,1,58,0.96666666666666667,60,1,30,1,110,1,40,1,72,1,30,1,45,1,20,1]
[{"$f":"+Score!A15","v":12},{"$f":"+Score!B15","v":" 553040060-9"},{"$f":"+Score!C15","v":" นายธนานนท์ ติรวีรขจร"},{"$f":"+Score!D15","v":" EN-ME"},{"$f":"+Score!E15","v":2.5099999999999998},{"$f":"+Score!F15","v":1},1,1,1,0.96666666666666667,0.96666666666666667,1,1,1,1,1,1,1,9.9444444444444446,null,null,40,1,50,1,30,1,58,0.96666666666666667,58,0.96666666666666667,30,1,110,1,40,1,72,1,30,1,45,1,20,1]
[{"$f":"+Score!A16","v":13},{"$f":"+Score!B16","v":" 553040061-7"},{"$f":"+Score!C16","v":" นายธนารักษ์ ศรีน้อย"},{"$f":"+Score!D16","v":" EN-ME"},{"$f":"+Score!E16","v":2.5099999999999998},{"$f":"+Score!F16","v":1},1,1,0.83333333333333337,0,0.9,1,0,0,0.93055555555555558,0,1,1,6.3865740740740744,null,null,40,1,50,1,25,0.83333333333333337,0,0,54,0.9,30,1,0,0,0,0,67,0.93055555555555558,0,0,45,1,20,1]
[{"$f":"+Score!A17","v":14},{"$f":"+Score!B17","v":" 553040063-3"},{"$f":"+Score!C17","v":" นายธีรเจต เตรียมวิชานนท์"},{"$f":"+Score!D17","v":" EN-ME"},{"$f":"+Score!E17","v":3.03},{"$f":"+Score!F17","v":1},0.67500000000000004,1,0.96666666666666667,0.83333333333333337,1,1,1,1,1,1,0.88888888888888884,1,9.4699074074074083,null,null,27,0.67500000000000004,50,1,29,0.96666666666666667,50,0.83333333333333337,60,1,30,1,110,1,40,1,72,1,30,1,40,0.88888888888888884,20,1]
[{"$f":"+Score!A18","v":15},{"$f":"+Score!B18","v":" 553040064-1"},{"$f":"+Score!C18","v":" นายธีรพล เตชะเสน"},{"$f":"+Score!D18","v":" EN-ME"},{"$f":"+Score!E18","v":3.24},{"$f":"+Score!F18","v":1},1,0.92,1,0.96666666666666667,1,1,1,1,1,1,1,1,9.9055555555555568,null,null,40,1,46,0.92,30,1,58,0.96666666666666667,60,1,30,1,110,1,40,1,72,1,30,1,45,1,20,1]
[{"$f":"+Score!A19","v":16},{"$f":"+Score!B19","v":" 553040071-4"},{"$f":"+Score!C19","v":" นายบรรยง ชัยยิ่ง"},{"$f":"+Score!D19","v":" EN-ME"},{"$f":"+Score!E19","v":2.68},{"$f":"+Score!F19","v":1},1,1,1,0.96666666666666667,0.98333333333333328,1,1,0.9375,1,1,1,1,9.90625,null,null,40,1,50,1,30,1,58,0.96666666666666667,59,0.98333333333333328,30,1,110,1,37.5,0.9375,72,1,30,1,45,1,20,1]
[{"$f":"+Score!A20","v":17},{"$f":"+Score!B20","v":" 553040072-2"},{"$f":"+Score!C20","v":" นายบัญชา แก้วอาจ"},{"$f":"+Score!D20","v":" EN-IE"},{"$f":"+Score!E20","v":2.2599999999999998},{"$f":"+Score!F20","v":1},0,1,0.7,0.85,1,1,0,0,0,1,1,0,5.458333333333333,null,null,0,0,50,1,21,0.7,51,0.85,60,1,30,1,0,0,0,0,0,0,30,1,45,1,0,0]
[{"$f":"+Score!A21","v":18},{"$f":"+Score!B21","v":" 553040083-7"},{"$f":"+Score!C21","v":" นายพันธวัช เก็มประโคน"},{"$f":"+Score!D21","v":" EN-IE"},{"$f":"+Score!E21","v":2.08},{"$f":"+Score!F21","v":1},0.625,0.34,0,0,0,0.83333333333333337,0,0,0,1,0.82222222222222219,0.8,3.6837962962962965,null,null,25,0.625,17,0.34,0,0,0,0,0,0,25,0.83333333333333337,0,0,0,0,0,0,30,1,37,0.82222222222222219,16,0.8]
[{"$f":"+Score!A22","v":19},{"$f":"+Score!B22","v":" 553040085-3"},{"$f":"+Score!C22","v":" นายพิพัฒน์ รักทองจัน"},{"$f":"+Score!D22","v":" EN-ME"},{"$f":"+Score!E22","v":3.04},{"$f":"+Score!F22","v":1},1,1,1,0.96666666666666667,1,1,1,1,1,1,0,1,9.1388888888888893,null,null,40,1,50,1,30,1,58,0.96666666666666667,60,1,30,1,110,1,40,1,72,1,30,1,0,0,20,1]
[{"$f":"+Score!A23","v":20},{"$f":"+Score!B23","v":" 553040087-9"},{"$f":"+Score!C23","v":" นายพิภัทรยา ศิริแว่น"},{"$f":"+Score!D23","v":" EN-ME"},{"$f":"+Score!E23","v":2.29},{"$f":"+Score!F23","v":1},1,1,0,0.83333333333333337,1,1,1,1,0,1,1,1,8.1944444444444446,null,null,40,1,50,1,0,0,50,0.83333333333333337,60,1,30,1,110,1,40,1,0,0,30,1,45,1,20,1]
[{"$f":"+Score!A24","v":21},{"$f":"+Score!B24","v":" 553040092-6"},{"$f":"+Score!C24","v":" นายยศพนธ์ จันทร์วิเมลือง"},{"$f":"+Score!D24","v":" EN-ME"},{"$f":"+Score!E24","v":3.11},{"$f":"+Score!F24","v":1},1,1,0.9,0.96666666666666667,0.8666666666666667,0.93333333333333335,1,0.92500000000000004,0,1,1,1,8.8263888888888893,null,null,40,1,50,1,27,0.9,58,0.96666666666666667,52,0.8666666666666667,28,0.93333333333333335,110,1,37,0.92500000000000004,0,0,30,1,45,1,20,1]
[{"$f":"+Score!A25","v":22},{"$f":"+Score!B25","v":" 553040094-2"},{"$f":"+Score!C25","v":" นายยุทธการ แสนเสนา"},{"$f":"+Score!D25","v":" EN-ME"},{"$f":"+Score!E25","v":2.37},{"$f":"+Score!F25","v":1},0.9,1,0,0.85833333333333328,0.91666666666666663,1,1,1,1,1,0,1,8.0625000000000018,null,null,36,0.9,50,1,0,0,51.5,0.85833333333333328,55,0.91666666666666663,30,1,110,1,40,1,72,1,30,1,0,0,20,1]
[{"$f":"+Score!A26","v":23},{"$f":"+Score!B26","v":" 553040095-0"},{"$f":"+Score!C26","v":" นายยุทธนา พิริยะสุทธิ์"},{"$f":"+Score!D26","v":" EN-ME"},{"$f":"+Score!E26","v":2.64},{"$f":"+Score!F26","v":1},0.67500000000000004,1,0.8,0.84166666666666667,0.95,1,1,0,1,0,1,0,6.8888888888888884,null,null,27,0.67500000000000004,50,1,24,0.8,50.5,0.84166666666666667,57,0.95,30,1,110,1,0,0,72,1,0,0,45,1,0,0]
[{"$f":"+Score!A27","v":24},{"$f":"+Score!B27","v":" 553040101-1"},{"$f":"+Score!C27","v":" นายวรพล จันทร์ผิว"},{"$f":"+Score!D27","v":" EN-IE"},{"$f":"+Score!E27","v":3.05},{"$f":"+Score!F27","v":1},0.9,0.82,0.83333333333333337,0,0.91666666666666663,0.96666666666666667,0.86363636363636365,1,0.94444444444444442,1,0.9555555555555556,1,8.5002525252525256,null,null,36,0.9,41,0.82,25,0.83333333333333337,0,0,55,0.91666666666666663,29,0.96666666666666667,95,0.86363636363636365,40,1,68,0.94444444444444442,30,1,43,0.9555555555555556,20,1]
[{"$f":"+Score!A28","v":25},{"$f":"+Score!B28","v":" 553040104-5"},{"$f":"+Score!C28","v":" นายวรานนท์ ยุทธอมร"},{"$f":"+Score!D28","v":" EN-ME"},{"$f":"+Score!E28","v":2.72},{"$f":"+Score!F28","v":1},0,1,1,1,1,1,1,0,0,0,0,0,5,null,null,0,0,50,1,30,1,60,1,60,1,30,1,110,1,0,0,0,0,0,0,0,0,0,0]
[{"$f":"+Score!A29","v":26},{"$f":"+Score!B29","v":" 553040106-1"},{"$f":"+Score!C29","v":" นายวศิน คำปัญโญ"},{"$f":"+Score!D29","v":" EN-ME"},{"$f":"+Score!E29","v":2.6},{"$f":"+Score!F29","v":1},0.82499999999999996,1,1,0.9,0,1,1,1,1,1,1,1,8.9375,null,null,33,0.82499999999999996,50,1,30,1,54,0.9,0,0,30,1,110,1,40,1,72,1,30,1,45,1,20,1]
[{"$f":"+Score!A30","v":27},{"$f":"+Score!B30","v":" 553040108-7"},{"$f":"+Score!C30","v":" นายวิชญสิทธิ์ พันธุ์รักษา"},{"$f":"+Score!D30","v":" EN-IE"},{"$f":"+Score!E30","v":2.83},{"$f":"+Score!F30","v":1},0.5,0.9,0.96666666666666667,0.91666666666666663,0.96666666666666667,1,1,1,1,1,1,1,9.375,null,null,20,0.5,45,0.9,29,0.96666666666666667,55,0.91666666666666663,58,0.96666666666666667,30,1,110,1,40,1,72,1,30,1,45,1,20,1]
[{"$f":"+Score!A31","v":28},{"$f":"+Score!B31","v":" 553040121-5"},{"$f":"+Score!C31","v":" นายสิริวุฒิ ภูมิภูเขียว"},{"$f":"+Score!D31","v":" EN-IE"},{"$f":"+Score!E31","v":2.06},{"$f":"+Score!F31","v":1},0.5,0.94,1,0.93333333333333335,0.95,1,1,0.92500000000000004,0,1,1,1,8.5402777777777779,null,null,20,0.5,47,0.94,30,1,56,0.93333333333333335,57,0.95,30,1,110,1,37,0.92500000000000004,0,0,30,1,45,1,20,1]
[{"$f":"+Score!A32","v":29},{"$f":"+Score!B32","v":" 553040123-1"},{"$f":"+Score!C32","v":" นางสาวหทัยชนก ปัญญาบุตร"},{"$f":"+Score!D32","v":" EN-ME"},{"$f":"+Score!E32","v":2.4500000000000002},{"$f":"+Score!F32","v":1},1,0.96,1,0.83333333333333337,0.83333333333333337,1,0.95454545454545459,0,1,1,0.88888888888888884,1,8.7250841750841772,null,null,40,1,48,0.96,30,1,50,0.83333333333333337,50,0.83333333333333337,30,1,105,0.95454545454545459,0,0,72,1,30,1,40,0.88888888888888884,20,1]
[{"$f":"+Score!A33","v":30},{"$f":"+Score!B33","v":" 553040126-5"},{"$f":"+Score!C33","v":" นายอนวัช คงวีระวัฒน์"},{"$f":"+Score!D33","v":" EN-ME"},{"$f":"+Score!E33","v":2.27},{"$f":"+Score!F33","v":1},1,0,0,0,0,0.6,1,1,1,1,0,1,5.5,null,null,40,1,0,0,0,0,0,0,0,0,18,0.6,110,1,40,1,72,1,30,1,0,0,20,1]
[{"$f":"+Score!A34","v":31},{"$f":"+Score!B34","v":" 553040132-0"},{"$f":"+Score!C34","v":" นางสาวอรทัย ยอดแก้วพิสัย"},{"$f":"+Score!D34","v":" EN-IE"},{"$f":"+Score!E34","v":2.8},{"$f":"+Score!F34","v":1},0.92500000000000004,1,0.9,0.95,0.93333333333333335,0.96666666666666667,1,1,0.97222222222222221,1,1,1,9.706018518518519,null,null,37,0.92500000000000004,50,1,27,0.9,57,0.95,56,0.93333333333333335,29,0.96666666666666667,110,1,40,1,70,0.97222222222222221,30,1,45,1,20,1]
[{"$f":"+Score!A35","v":32},{"$f":"+Score!B35","v":" 553040133-8"},{"$f":"+Score!C35","v":" นายอรรถชัย ทองสุข"},{"$f":"+Score!D35","v":" EN-ME"},{"$f":"+Score!E35","v":2.16},{"$f":"+Score!F35","v":1},1,1,0.9,0.83333333333333337,1,1,0.9363636363636364,1,1,1,0.88888888888888884,1,9.6321548821548824,null,null,40,1,50,1,27,0.9,50,0.83333333333333337,60,1,30,1,103,0.9363636363636364,40,1,72,1,30,1,40,0.88888888888888884,20,1]
[{"$f":"+Score!A36","v":33},{"$f":"+Score!B36","v":" 553040136-2"},{"$f":"+Score!C36","v":" นางสาวอัชฌา เสาร์สิงห์"},{"$f":"+Score!D36","v":" EN-ME"},{"$f":"+Score!E36","v":2.8},{"$f":"+Score!F36","v":1},0.6,0.94,0.9,0.95,0.75,0.96666666666666667,0.82272727272727275,1,0.98611111111111116,1,0.9555555555555556,0.9,8.9758838383838384,null,null,24,0.6,47,0.94,27,0.9,57,0.95,45,0.75,29,0.96666666666666667,90.5,0.82272727272727275,40,1,71,0.98611111111111116,30,1,43,0.9555555555555556,18,0.9]
[{"$f":"+Score!A37","v":34},{"$f":"+Score!B37","v":" 553040137-0"},{"$f":"+Score!C37","v":" นางสาวอัชรา เชาว์ชอบ"},{"$f":"+Score!D37","v":" EN-IE"},{"$f":"+Score!E37","v":2.81},{"$f":"+Score!F37","v":1},0.72499999999999998,1,0.9,0.71666666666666667,0.9,0.96666666666666667,1,1,0.94444444444444442,1,0,1,8.4606481481481488,null,null,29,0.72499999999999998,50,1,27,0.9,43,0.71666666666666667,54,0.9,29,0.96666666666666667,110,1,40,1,68,0.94444444444444442,30,1,0,0,20,1]
[{"$f":"+Score!A38","v":35},{"$f":"+Score!B38","v":" 553040146-9"},{"$f":"+Score!C38","v":" นายเจษฎา พลชา"},{"$f":"+Score!D38","v":" EN-AE"},{"$f":"+Score!E38","v":2.39},{"$f":"+Score!F38","v":1},0.8,0.88,0,0.75,0.96666666666666667,0,0.91363636363636369,0,0,0.66666666666666663,1,1,5.8141414141414147,null,null,32,0.8,44,0.88,0,0,45,0.75,58,0.96666666666666667,0,0,100.5,0.91363636363636369,0,0,0,0,20,0.66666666666666663,45,1,20,1]
[{"$f":"+Score!A39","v":36},{"$f":"+Score!B39","v":" 553040148-5"},{"$f":"+Score!C39","v":" นายเชษฐทรัพย์ ทองคำใส"},{"$f":"+Score!D39","v":" EN-AE"},{"$f":"+Score!E39","v":2.6},{"$f":"+Score!F39","v":1},0.625,1,0.96666666666666667,0.98333333333333328,0.98333333333333328,1,1,1,1,1,1,1,9.6319444444444446,null,null,25,0.625,50,1,29,0.96666666666666667,59,0.98333333333333328,59,0.98333333333333328,30,1,110,1,40,1,72,1,30,1,45,1,20,1]
[{"$f":"+Score!A40","v":37},{"$f":"+Score!B40","v":" 553040149-3"},{"$f":"+Score!C40","v":" นายณัฐพงษ์ เหล่าจูม"},{"$f":"+Score!D40","v":" EN-AE"},{"$f":"+Score!E40","v":3.04},{"$f":"+Score!F40","v":1},1,0.98,1,0.8,1,1,0.97272727272727277,0.95,0.93055555555555558,1,1,1,9.6944023569023567,null,null,40,1,49,0.98,30,1,48,0.8,60,1,30,1,107,0.97272727272727277,38,0.95,67,0.93055555555555558,30,1,45,1,20,1]
[{"$f":"+Score!A41","v":38},{"$f":"+Score!B41","v":" 553040154-0"},{"$f":"+Score!C41","v":" นางสาวนฤมล พรมพุ้ย"},{"$f":"+Score!D41","v":" EN-AE"},{"$f":"+Score!E41","v":2.5299999999999998},{"$f":"+Score!F41","v":1},1,1,0.83333333333333337,0.76666666666666672,1,1,0.92727272727272725,0.95,0.93055555555555558,1,1,1,9.506523569023571,null,null,40,1,50,1,25,0.83333333333333337,46,0.76666666666666672,60,1,30,1,102,0.92727272727272725,38,0.95,67,0.93055555555555558,30,1,45,1,20,1]
[{"$f":"+Score!A42","v":39},{"$f":"+Score!B42","v":" 553040163-9"},{"$f":"+Score!C42","v":" นางสาววาสนา เคเมือง"},{"$f":"+Score!D42","v":" EN-AE"},{"$f":"+Score!E42","v":2.2999999999999998},{"$f":"+Score!F42","v":1},0.92500000000000004,1,0.9,0.83333333333333337,1,1,0.99090909090909096,0.95,1,1,1,1,9.6660353535353547,null,null,37,0.92500000000000004,50,1,27,0.9,50,0.83333333333333337,60,1,30,1,109,0.99090909090909096,38,0.95,72,1,30,1,45,1,20,1]
[{"$f":"+Score!A43","v":40},{"$f":"+Score!B43","v":" 553040164-7"},{"$f":"+Score!C43","v":" นายวิภูรินทร์ เลิศพนาลัย"},{"$f":"+Score!D43","v":" EN-AE"},{"$f":"+Score!E43","v":2.5499999999999998},{"$f":"+Score!F43","v":1},0,1,0.96666666666666667,0,1,0,0.95454545454545459,0.95,0,1,1,1,6.5593434343434343,null,null,0,0,50,1,29,0.96666666666666667,0,0,60,1,0,0,105,0.95454545454545459,38,0.95,0,0,30,1,45,1,20,1]
[{"$f":"+Score!A44","v":41},{"$f":"+Score!B44","v":" 553040167-1"},{"$f":"+Score!C44","v":" นายอดิศักดิ์ มุนนี"},{"$f":"+Score!D44","v":" EN-AE"},{"$f":"+Score!E44","v":2.96},{"$f":"+Score!F44","v":1},1,0.98,0.93333333333333335,0.76666666666666672,0.95,0.96666666666666667,0.9,0.95,0,1,0.88888888888888884,0.95,8.5712962962962962,null,null,40,1,49,0.98,28,0.93333333333333335,46,0.76666666666666672,57,0.95,29,0.96666666666666667,99,0.9,38,0.95,0,0,30,1,40,0.88888888888888884,19,0.95]
[{"$f":"+Score!A45","v":42},{"$f":"+Score!B45","v":" 553040169-7"},{"$f":"+Score!C45","v":" นายอภิสิทธิ์ รังสิมาวงศ์"},{"$f":"+Score!D45","v":" EN-AE"},{"$f":"+Score!E45","v":3.16},{"$f":"+Score!F45","v":1},0.7,0.84,0.96666666666666667,0.93333333333333335,0.95,0.96666666666666667,0.9363636363636364,0.95,0,1,1,1,8.5358585858585876,null,null,28,0.7,42,0.84,29,0.96666666666666667,56,0.93333333333333335,57,0.95,29,0.96666666666666667,103,0.9363636363636364,38,0.95,0,0,30,1,45,1,20,1]
[{"$f":"+Score!A46","v":43},{"$f":"+Score!B46","v":" 553040170-2"},{"$f":"+Score!C46","v":" นายอาทิตย์ ภูผาผุด"},{"$f":"+Score!D46","v":" EN-AE"},{"$f":"+Score!E46","v":3.25},{"$f":"+Score!F46","v":1},0.85,0.98,0.96666666666666667,0.96666666666666667,0.96666666666666667,0.96666666666666667,0.96363636363636362,1,0.97222222222222221,1,1,1,9.6937710437710454,null,null,34,0.85,49,0.98,29,0.96666666666666667,58,0.96666666666666667,58,0.96666666666666667,29,0.96666666666666667,106,0.96363636363636362,40,1,70,0.97222222222222221,30,1,45,1,20,1]
[{"$f":"+Score!A47","v":44},{"$f":"+Score!B47","v":" 553040281-3"},{"$f":"+Score!C47","v":" นายทวิชาติ อัครสันตติกุล"},{"$f":"+Score!D47","v":" EN-IE"},{"$f":"+Score!E47","v":1.95},{"$f":"+Score!F47","v":1},0.75,0.92,0.96666666666666667,0.9,0.91666666666666663,0.8666666666666667,0.92727272727272725,1,0,1,0,0,6.8727272727272739,null,null,30,0.75,46,0.92,29,0.96666666666666667,54,0.9,55,0.91666666666666663,26,0.8666666666666667,102,0.92727272727272725,40,1,0,0,30,1,0,0,0,0]
[{"$f":"+Score!A48","v":45},{"$f":"+Score!B48","v":" 553040285-5"},{"$f":"+Score!C48","v":" นางสาวกนกอร แดงน้อย"},{"$f":"+Score!D48","v":" EN-IE"},{"$f":"+Score!E48","v":2.5099999999999998},{"$f":"+Score!F48","v":1},0.8,0.96,0.96666666666666667,0.68333333333333335,0.91666666666666663,0.83333333333333337,0.89090909090909087,0.97499999999999998,0.97222222222222221,1,0.91111111111111109,1,9.0910353535353554,null,null,32,0.8,48,0.96,29,0.96666666666666667,41,0.68333333333333335,55,0.91666666666666663,25,0.83333333333333337,98,0.89090909090909087,39,0.97499999999999998,70,0.97222222222222221,30,1,41,0.91111111111111109,20,1]
[{"$f":"+Score!A49","v":46},{"$f":"+Score!B49","v":" 553040289-7"},{"$f":"+Score!C49","v":" นายกัมปนาท ชาวดร"},{"$f":"+Score!D49","v":" EN-ME"},{"$f":"+Score!E49","v":3.02},{"$f":"+Score!F49","v":1},0.8,0.9,0.96666666666666667,0.47499999999999998,0.875,0.95,0.87272727272727268,0.97499999999999998,0.97222222222222221,1,0.98888888888888893,1,8.9795875420875433,null,null,32,0.8,45,0.9,29,0.96666666666666667,28.5,0.47499999999999998,52.5,0.875,28.5,0.95,96,0.87272727272727268,39,0.97499999999999998,70,0.97222222222222221,30,1,44.5,0.98888888888888893,20,1]
[{"$f":"+Score!A50","v":47},{"$f":"+Score!B50","v":" 553040290-2"},{"$f":"+Score!C50","v":" นายกานตภณ รุ่งฤทัยวัฒน์"},{"$f":"+Score!D50","v":" EN-IE"},{"$f":"+Score!E50","v":2.2200000000000002},{"$f":"+Score!F50","v":1},0.8,0.9,1,0.6166666666666667,0.875,0.95,0.87272727272727268,1,0.90277777777777779,1,1,1,9.0976430976430986,null,null,32,0.8,45,0.9,30,1,37,0.6166666666666667,52.5,0.875,28.5,0.95,96,0.87272727272727268,40,1,65,0.90277777777777779,30,1,45,1,20,1]
[{"$f":"+Score!A51","v":48},{"$f":"+Score!B51","v":" 553040297-8"},{"$f":"+Score!C51","v":" นางสาวขวัญตา สุวรรณจันทร์"},{"$f":"+Score!D51","v":" EN-IE"},{"$f":"+Score!E51","v":1.24},{"$f":"+Score!F51","v":1},0,0,0,0,0,0,0,0,0,0,0,0,0,null,null,0,0,0,0,0,0,0,0,0,0,0,0,0,0,0,0,0,0,0,0,0,0,0,0]
[{"$f":"+Score!A52","v":49},{"$f":"+Score!B52","v":" 553040298-6"},{"$f":"+Score!C52","v":" นายคฑาวุธ นิลคุณ"},{"$f":"+Score!D52","v":" EN-ME"},{"$f":"+Score!E52","v":2.16},{"$f":"+Score!F52","v":1},1,1,1,0.96666666666666667,1,1,0,0,0,0,0,0,4.9722222222222223,null,null,40,1,50,1,30,1,58,0.96666666666666667,60,1,30,1,0,0,0,0,0,0,0,0,0,0,0,0]
[{"$f":"+Score!A53","v":50},{"$f":"+Score!B53","v":" 553040302-1"},{"$f":"+Score!C53","v":" นายจรูญวิทย์ ยึนประโคน"},{"$f":"+Score!D53","v":" EN-IE"},{"$f":"+Score!E53","v":2.25},{"$f":"+Score!F53","v":1},0.9,0.82,0.8666666666666667,0.53333333333333333,0.9,0.96666666666666667,0.87272727272727268,1,0.97222222222222221,1,1,1,9.0263468013468025,null,null,36,0.9,41,0.82,26,0.8666666666666667,32,0.53333333333333333,54,0.9,29,0.96666666666666667,96,0.87272727272727268,40,1,70,0.97222222222222221,30,1,45,1,20,1]
[{"$f":"+Score!A54","v":51},{"$f":"+Score!B54","v":" 553040310-2"},{"$f":"+Score!C54","v":" นายจีระวัฒน์ ศรีมีชัย"},{"$f":"+Score!D54","v":" EN-IE"},{"$f":"+Score!E54","v":2.1800000000000002},{"$f":"+Score!F54","v":1},0.72499999999999998,0.94,0.96666666666666667,0.8666666666666667,1,1,0.94545454545454544,1,0.90277777777777779,1,0,1,8.6221380471380478,null,null,29,0.72499999999999998,47,0.94,29,0.96666666666666667,52,0.8666666666666667,60,1,30,1,104,0.94545454545454544,40,1,65,0.90277777777777779,30,1,0,0,20,1]
[{"$f":"+Score!A55","v":52},{"$f":"+Score!B55","v":" 553040312-8"},{"$f":"+Score!C55","v":" นางสาวจุฑารัตน์ เลยยุทธ"},{"$f":"+Score!D55","v":" EN-IE"},{"$f":"+Score!E55","v":2.66},{"$f":"+Score!F55","v":1},0.7,1,0.96666666666666667,0.8666666666666667,0.93333333333333335,0.96666666666666667,0.98181818181818181,1,1,1,1,1,9.512626262626263,null,null,28,0.7,50,1,29,0.96666666666666667,52,0.8666666666666667,56,0.93333333333333335,29,0.96666666666666667,108,0.98181818181818181,40,1,72,1,30,1,45,1,20,1]
[{"$f":"+Score!A56","v":53},{"$f":"+Score!B56","v":" 553040315-2"},{"$f":"+Score!C56","v":" นางสาวจุฬารัตน์ แสนวงษ์"},{"$f":"+Score!D56","v":" EN-ME"},{"$f":"+Score!E56","v":3.22},{"$f":"+Score!F56","v":1},0.8,0.8,0.9,0.8833333333333333,1,0.66666666666666663,0.91818181818181821,0,0.97222222222222221,1,1,1,8.2836700336700346,null,null,32,0.8,40,0.8,27,0.9,53,0.8833333333333333,60,1,20,0.66666666666666663,101,0.91818181818181821,0,0,70,0.97222222222222221,30,1,45,1,20,1]
[{"$f":"+Score!A57","v":54},{"$f":"+Score!B57","v":" 553040316-0"},{"$f":"+Score!C57","v":" นางสาวเจนจิรา ปิยาโยค"},{"$f":"+Score!D57","v":" EN-ME"},{"$f":"+Score!E57","v":2.2999999999999998},{"$f":"+Score!F57","v":1},0.8,0.96,0.9,0.73333333333333328,1,0.83333333333333337,0.91818181818181821,0,0.97222222222222221,1,1,0.9,8.3475589225589228,null,null,32,0.8,48,0.96,27,0.9,44,0.73333333333333328,60,1,25,0.83333333333333337,101,0.91818181818181821,0,0,70,0.97222222222222221,30,1,45,1,18,0.9]
[{"$f":"+Score!A58","v":55},{"$f":"+Score!B58","v":" 553040317-8"},{"$f":"+Score!C58","v":" นายเจนณรงค์ อยู่ยง"},{"$f":"+Score!D58","v":" EN-ME"},{"$f":"+Score!E58","v":2.57},{"$f":"+Score!F58","v":1},0.75,1,1,0.91666666666666663,1,1,1,1,1,1,1,1,9.7222222222222214,null,null,30,0.75,50,1,30,1,55,0.91666666666666663,60,1,30,1,110,1,40,1,72,1,30,1,45,1,20,1]
[{"$f":"+Score!A59","v":56},{"$f":"+Score!B59","v":" 553040320-9"},{"$f":"+Score!C59","v":" นางสาวชลธิชา นาสินสร้อย"},{"$f":"+Score!D59","v":" EN-ME"},{"$f":"+Score!E59","v":2.81},{"$f":"+Score!F59","v":1},0.9,0.94,0,0.83333333333333337,0.9,1,1,1,1,1,0.97777777777777775,1,8.7925925925925945,null,null,36,0.9,47,0.94,0,0,50,0.83333333333333337,54,0.9,30,1,110,1,40,1,72,1,30,1,44,0.97777777777777775,20,1]
[{"$f":"+Score!A60","v":57},{"$f":"+Score!B60","v":" 553040321-7"},{"$f":"+Score!C60","v":" นายชลวิทย์ พิสิฐรัตนวงศ์"},{"$f":"+Score!D60","v":" EN-IE"},{"$f":"+Score!E60","v":2.19},{"$f":"+Score!F60","v":1},0.75,0.96,0.96666666666666667,0.83333333333333337,0.98333333333333328,0.91666666666666663,0.94545454545454544,1,0.86111111111111116,1,0.9555555555555556,1,9.3101010101010111,null,null,30,0.75,48,0.96,29,0.96666666666666667,50,0.83333333333333337,59,0.98333333333333328,27.5,0.91666666666666663,104,0.94545454545454544,40,1,62,0.86111111111111116,30,1,43,0.9555555555555556,20,1]
[{"$f":"+Score!A61","v":58},{"$f":"+Score!B61","v":" 553040326-7"},{"$f":"+Score!C61","v":" นางสาวญาดา ยิ้มยินดี"},{"$f":"+Score!D61","v":" EN-IE"},{"$f":"+Score!E61","v":2.09},{"$f":"+Score!F61","v":1},0.5,0.98,0.9,0.875,0.97499999999999998,0.83333333333333337,0.96363636363636362,1,0.97222222222222221,1,1,0.9,9.0826599326599329,null,null,20,0.5,49,0.98,27,0.9,52.5,0.875,58.5,0.97499999999999998,25,0.83333333333333337,106,0.96363636363636362,40,1,70,0.97222222222222221,30,1,45,1,18,0.9]
[{"$f":"+Score!A62","v":59},{"$f":"+Score!B62","v":" 553040336-4"},{"$f":"+Score!C62","v":" นายทวีรัช ทาจันทร์"},{"$f":"+Score!D62","v":" EN-ME"},{"$f":"+Score!E62","v":2.46},{"$f":"+Score!F62","v":1},0.95,1,0.83333333333333337,0,0.83333333333333337,1,0.9,0,0,1,0,0,5.4305555555555562,null,null,38,0.95,50,1,25,0.83333333333333337,0,0,50,0.83333333333333337,30,1,99,0.9,0,0,0,0,30,1,0,0,0,0]
[{"$f":"+Score!A63","v":60},{"$f":"+Score!B63","v":" 553040339-8"},{"$f":"+Score!C63","v":" นายแทนพงศ์ พุทธลา"},{"$f":"+Score!D63","v":" EN-ME"},{"$f":"+Score!E63","v":2.73},{"$f":"+Score!F63","v":1},0.97499999999999998,0.9,0.93333333333333335,0.64166666666666672,0.90833333333333333,0.98333333333333328,0.86363636363636365,0.97499999999999998,0.97222222222222221,1,1,1,9.2937710437710432,null,null,39,0.97499999999999998,45,0.9,28,0.93333333333333335,38.5,0.64166666666666672,54.5,0.90833333333333333,29.5,0.98333333333333328,95,0.86363636363636365,39,0.97499999999999998,70,0.97222222222222221,30,1,45,1,20,1]
[{"$f":"+Score!A64","v":61},{"$f":"+Score!B64","v":" 553040340-3"},{"$f":"+Score!C64","v":" นายธนกฤต เหล่าพิเดช"},{"$f":"+Score!D64","v":" EN-IE"},{"$f":"+Score!E64","v":2.23},{"$f":"+Score!F64","v":1},1,1,1,0.9,0.95,0.93333333333333335,1,1,0.97222222222222221,1,1,1,9.7962962962962958,null,null,40,1,50,1,30,1,54,0.9,57,0.95,28,0.93333333333333335,110,1,40,1,70,0.97222222222222221,30,1,45,1,20,1]
[{"$f":"+Score!A65","v":62},{"$f":"+Score!B65","v":" 553040346-1"},{"$f":"+Score!C65","v":" นางสาวธันยมัย มูลมณี"},{"$f":"+Score!D65","v":" EN-IE"},{"$f":"+Score!E65","v":1.92},{"$f":"+Score!F65","v":1},1,0.88,0.5,0.83333333333333337,1,1,1,1,0.86111111111111116,1,1,1,9.2287037037037027,null,null,40,1,44,0.88,15,0.5,50,0.83333333333333337,60,1,30,1,110,1,40,1,62,0.86111111111111116,30,1,45,1,20,1]
[{"$f":"+Score!A66","v":63},{"$f":"+Score!B66","v":" 553040347-9"},{"$f":"+Score!C66","v":" นายธันวา ไกยราช"},{"$f":"+Score!D66","v":" EN-ME"},{"$f":"+Score!E66","v":2.72},{"$f":"+Score!F66","v":1},1,1,0.93333333333333335,0.9916666666666667,0.96666666666666667,1,0.97272727272727277,0,0.97222222222222221,1,0,1,8.197180134680135,null,null,40,1,50,1,28,0.93333333333333335,59.5,0.9916666666666667,58,0.96666666666666667,30,1,107,0.97272727272727277,0,0,70,0.97222222222222221,30,1,0,0,20,1]
[{"$f":"+Score!A67","v":64},{"$f":"+Score!B67","v":" 553040349-5"},{"$f":"+Score!C67","v":" นายธิบดี ธิแก้ว"},{"$f":"+Score!D67","v":" EN-IE"},{"$f":"+Score!E67","v":2.15},{"$f":"+Score!F67","v":1},0.5,0.96,1,0,1,1,1,0.92500000000000004,0.86111111111111116,1,1,1,8.5384259259259263,null,null,20,0.5,48,0.96,30,1,0,0,60,1,30,1,110,1,37,0.92500000000000004,62,0.86111111111111116,30,1,45,1,20,1]
[{"$f":"+Score!A68","v":65},{"$f":"+Score!B68","v":" 553040359-2"},{"$f":"+Score!C68","v":" นางสาวเบญจวรรณ มั่นวงษ์"},{"$f":"+Score!D68","v":" EN-IE"},{"$f":"+Score!E68","v":2.02},{"$f":"+Score!F68","v":1},0.72499999999999998,1,0.9,0.5,0,0,0.96363636363636362,0.85,0,0,0,0,4.1155303030303028,null,null,29,0.72499999999999998,50,1,27,0.9,30,0.5,0,0,0,0,106,0.96363636363636362,34,0.85,0,0,0,0,0,0,0,0]
[{"$f":"+Score!A69","v":66},{"$f":"+Score!B69","v":" 553040365-7"},{"$f":"+Score!C69","v":" นางสาวปรีม สุขเสนีย์"},{"$f":"+Score!D69","v":" EN-ME"},{"$f":"+Score!E69","v":2.4700000000000002},{"$f":"+Score!F69","v":1},0.7,0.94,0.93333333333333335,{"$f":"AC69","v":0.875},{"$f":"AE69","v":0},{"$f":"AG69","v":0},{"$f":"AI69","v":0.82727272727272727},{"$f":"AK69","v":1},{"$f":"AM69","v":1},{"$f":"AO69","v":1},{"$f":"AQ69","v":1},{"$f":"AS69","v":1},{"$f":"SUM(G69:R69)/1.2","v":7.7296717171717173},null,null,28,{"$f":"V69/40","v":0.7},47,{"$f":"X69/50","v":0.94},28,{"$f":"Z69/30","v":0.93333333333333335},52.5,{"$f":"AB69/60","v":0.875},0,{"$f":"AD69/60","v":0},0,{"$f":"AF69/30","v":0},91,{"$f":"AH69/110","v":0.82727272727272727},40,{"$f":"AJ69/40","v":1},72,{"$f":"AL69/72","v":1},30,{"$f":"AN69/30","v":1},45,{"$f":"AP69/45","v":1},20,{"$f":"AR69/20","v":1}]
[{"$f":"+Score!A70","v":67},{"$f":"+Score!B70","v":" 553040368-1"},{"$f":"+Score!C70","v":" นางสาวปุณฑริกา สิทธิกรชัย"},{"$f":"+Score!D70","v":" EN-IE"},{"$f":"+Score!E70","v":2.2599999999999998},{"$f":"+Score!F70","v":1},0.85,{"$f":"Y70","v":0.94},{"$f":"AA70","v":0},0.81666666666666665,0.95,0.96666666666666667,0.77272727272727271,1,0,1,0,1,6.9133838383838393,null,null,34,0.85,47,0.94,0,0,49,0.81666666666666665,57,0.95,29,0.96666666666666667,85,0.77272727272727271,40,1,0,0,30,1,0,0,20,1]
[{"$f":"+Score!A71","v":68},{"$f":"+Score!B71","v":" 553040380-1"},{"$f":"+Score!C71","v":" นายพิธพล พลเพชร"},{"$f":"+Score!D71","v":" EN-IE"},{"$f":"+Score!E71","v":2.21},{"$f":"+Score!F71","v":1},{"$f":"W71","v":0.65},0.72,1,1,1,1,1,0,1,0,0.98888888888888893,1,7.799074074074074,null,null,26,0.65,36,0.72,30,1,60,1,60,1,30,1,110,1,0,0,72,1,0,0,44.5,0.98888888888888893,20,1]
[{"$f":"+Score!A72","v":69},{"$f":"+Score!B72","v":" 553040383-5"},{"$f":"+Score!C72","v":" นายพีระพงษ์ สิมงาม"},{"$f":"+Score!D72","v":" EN-ME"},{"$f":"+Score!E72","v":2.69},{"$f":"+Score!F72","v":1},1,1,1,0.85,0.96666666666666667,1,0.96363636363636362,0.97499999999999998,0.95833333333333337,1,0.8666666666666667,1,9.650252525252526,null,null,40,1,50,1,30,1,51,0.85,58,0.96666666666666667,30,1,106,0.96363636363636362,39,0.97499999999999998,69,0.95833333333333337,30,1,39,0.8666666666666667,20,1]
[{"$f":"+Score!A73","v":70},{"$f":"+Score!B73","v":" 553040386-9"},{"$f":"+Score!C73","v":" นายภัทรพล สารผล"},{"$f":"+Score!D73","v":" EN-IE"},{"$f":"+Score!E73","v":2.08},{"$f":"+Score!F73","v":1},0.8,1,0.96666666666666667,1,1,0.76666666666666672,1,1,0,0,0.8666666666666667,1,7.8333333333333339,null,null,32,0.8,50,1,29,0.96666666666666667,60,1,60,1,23,0.76666666666666672,110,1,40,1,0,0,0,0,39,0.8666666666666667,20,1]
[{"$f":"+Score!A74","v":71},{"$f":"+Score!B74","v":" 553040387-7"},{"$f":"+Score!C74","v":" นายภาคภูมิ ประเสริฐ"},{"$f":"+Score!D74","v":" EN-ME"},{"$f":"+Score!E74","v":2.86},{"$f":"+Score!F74","v":1},0.95,0.9,0.7,0.8833333333333333,0.97499999999999998,1,0.95454545454545459,1,1,1,0.97777777777777775,1,9.4505471380471384,null,null,38,0.95,45,0.9,21,0.7,53,0.8833333333333333,58.5,0.97499999999999998,30,1,105,0.95454545454545459,40,1,72,1,30,1,44,0.97777777777777775,20,1]
[{"$f":"+Score!A75","v":72},{"$f":"+Score!B75","v":" 553040391-6"},{"$f":"+Score!C75","v":" นายมารุต พลวัน"},{"$f":"+Score!D75","v":" EN-ME"},{"$f":"+Score!E75","v":2.77},{"$f":"+Score!F75","v":1},0.92500000000000004,0.94,0.93333333333333335,0.8833333333333333,0.95,0.9,0.96363636363636362,1,1,1,0.97777777777777775,1,9.5609006734006741,null,null,37,0.92500000000000004,47,0.94,28,0.93333333333333335,53,0.8833333333333333,57,0.95,27,0.9,106,0.96363636363636362,40,1,72,1,30,1,44,0.97777777777777775,20,1]
[{"$f":"+Score!A76","v":73},{"$f":"+Score!B76","v":" 553040397-4"},{"$f":"+Score!C76","v":" นายรัชชานนท์ หาญกล้า"},{"$f":"+Score!D76","v":" EN-ME"},{"$f":"+Score!E76","v":2.65},{"$f":"+Score!F76","v":1},0.72499999999999998,1,1,0,0,0,0,0,0,0,0,1,3.104166666666667,null,null,29,0.72499999999999998,50,1,30,1,0,0,0,0,0,0,0,0,0,0,0,0,0,0,0,0,20,1]
[{"$f":"+Score!A77","v":74},{"$f":"+Score!B77","v":" 553040400-1"},{"$f":"+Score!C77","v":" นายวงศธร เอียตระกูลไพบูลย์"},{"$f":"+Score!D77","v":" EN-IE"},{"$f":"+Score!E77","v":2.76},{"$f":"+Score!F77","v":1},0.8,0.96,1,1,1,1,1,1,1,1,0.77777777777777779,1,9.6148148148148156,null,null,32,0.8,48,0.96,30,1,60,1,60,1,30,1,110,1,40,1,72,1,30,1,35,0.77777777777777779,20,1]
[{"$f":"+Score!A78","v":75},{"$f":"+Score!B78","v":" 553040401-9"},{"$f":"+Score!C78","v":" นายวชิรวิทย์ นวรัตนากร"},{"$f":"+Score!D78","v":" EN-IE"},{"$f":"+Score!E78","v":2.83},{"$f":"+Score!F78","v":1},0.77500000000000002,1,0.8666666666666667,1,1,1,1,1,0,0,0.8666666666666667,0.95,7.8819444444444438,null,null,31,0.77500000000000002,50,1,26,0.8666666666666667,60,1,60,1,30,1,110,1,40,1,0,0,0,0,39,0.8666666666666667,19,0.95]
[{"$f":"+Score!A79","v":76},{"$f":"+Score!B79","v":" 553040404-3"},{"$f":"+Score!C79","v":" นายวนัสมัญ กฤษณะสุวรรณ"},{"$f":"+Score!D79","v":" EN-IE"},{"$f":"+Score!E79","v":2.2999999999999998},{"$f":"+Score!F79","v":1},0,0,0.93333333333333335,0,0,0,0,0,0,0,0,0,0.77777777777777779,null,null,0,0,0,0,28,0.93333333333333335,0,0,0,0,0,0,0,0,0,0,0,0,0,0,0,0,0,0]
[{"$f":"+Score!A80","v":77},{"$f":"+Score!B80","v":" 553040417-4"},{"$f":"+Score!C80","v":" นางสาวศศิวิมล กองพันธ์"},{"$f":"+Score!D80","v":" EN-IE"},{"$f":"+Score!E80","v":2.94},{"$f":"+Score!F80","v":1},0.82499999999999996,0.96,0.9,0.85,0.95,0.8833333333333333,1,1,1,1,1,1,9.4736111111111114,null,null,33,0.82499999999999996,48,0.96,27,0.9,51,0.85,57,0.95,26.5,0.8833333333333333,110,1,40,1,72,1,30,1,45,1,20,1]
[{"$f":"+Score!A81","v":78},{"$f":"+Score!B81","v":" 553040420-5"},{"$f":"+Score!C81","v":" นางสาวศิรินาถ ดวงพิมพ์"},{"$f":"+Score!D81","v":" EN-IE"},{"$f":"+Score!E81","v":2.21},{"$f":"+Score!F81","v":1},0.75,1,0.96666666666666667,0.9,0.98333333333333328,0.93333333333333335,1,1,0.98611111111111116,1,1,1,9.5995370370370363,null,null,30,0.75,50,1,29,0.96666666666666667,54,0.9,59,0.98333333333333328,28,0.93333333333333335,110,1,40,1,71,0.98611111111111116,30,1,45,1,20,1]
[{"$f":"+Score!A82","v":79},{"$f":"+Score!B82","v":" 553040426-3"},{"$f":"+Score!C82","v":" นายสหภาพ เพียรชนะ"},{"$f":"+Score!D82","v":" EN-ME"},{"$f":"+Score!E82","v":3.13},{"$f":"+Score!F82","v":1},1,1,0.9,0.9916666666666667,0.98333333333333328,0.9,0.97272727272727277,0,0.97222222222222221,1,0.9555555555555556,0.95,8.8545875420875433,null,null,40,1,50,1,27,0.9,59.5,0.9916666666666667,59,0.98333333333333328,27,0.9,107,0.97272727272727277,0,0,70,0.97222222222222221,30,1,43,0.9555555555555556,19,0.95]
[{"$f":"+Score!A83","v":80},{"$f":"+Score!B83","v":" 553040427-1"},{"$f":"+Score!C83","v":" นายสิทธิชัย เมืองโคตร"},{"$f":"+Score!D83","v":" EN-ME"},{"$f":"+Score!E83","v":2.35},{"$f":"+Score!F83","v":1},0.5,1,0.96666666666666667,0,0.91666666666666663,0.95,0,0,0,0,0.9555555555555556,1,5.2407407407407405,null,null,20,0.5,50,1,29,0.96666666666666667,0,0,55,0.91666666666666663,28.5,0.95,0,0,0,0,0,0,0,0,43,0.9555555555555556,20,1]
[{"$f":"+Score!A84","v":81},{"$f":"+Score!B84","v":" 553040428-9"},{"$f":"+Score!C84","v":" นางสาวสุกัญญา ธารานุวงศ์"},{"$f":"+Score!D84","v":" EN-ME"},{"$f":"+Score!E84","v":2.8},{"$f":"+Score!F84","v":1},0.5,1,0.9,0.95,0.96666666666666667,0.96666666666666667,0.94545454545454544,1,0.94444444444444442,1,1,0.9,9.2276936026936038,null,null,20,0.5,50,1,27,0.9,57,0.95,58,0.96666666666666667,29,0.96666666666666667,104,0.94545454545454544,40,1,68,0.94444444444444442,30,1,45,1,18,0.9]
[{"$f":"+Score!A85","v":82},{"$f":"+Score!B85","v":" 553040429-7"},{"$f":"+Score!C85","v":" นางสาวสุกัญญา เวียงสิมา"},{"$f":"+Score!D85","v":" EN-IE"},{"$f":"+Score!E85","v":2.2799999999999998},{"$f":"+Score!F85","v":1},0.65,0.96,0.93333333333333335,0.89166666666666672,0.98333333333333328,0.95,0.99090909090909096,1,1,1,1,1,9.4660353535353536,null,null,26,0.65,48,0.96,28,0.93333333333333335,53.5,0.89166666666666672,59,0.98333333333333328,28.5,0.95,109,0.99090909090909096,40,1,72,1,30,1,45,1,20,1]
[{"$f":"+Score!A86","v":83},{"$f":"+Score!B86","v":" 553040430-2"},{"$f":"+Score!C86","v":" นางสาวสุฑิฌา อินทนนท์"},{"$f":"+Score!D86","v":" EN-IE"},{"$f":"+Score!E86","v":1.95},{"$f":"+Score!F86","v":1},1,1,0.8666666666666667,0.95,1,1,1,1,1,1,1,1,9.8472222222222232,null,null,40,1,50,1,26,0.8666666666666667,57,0.95,60,1,30,1,110,1,40,1,72,1,30,1,45,1,20,1]
[{"$f":"+Score!A87","v":84},{"$f":"+Score!B87","v":" 553040434-4"},{"$f":"+Score!C87","v":" นางสาวสุรัชนา ตุ่นแก้ว"},{"$f":"+Score!D87","v":" EN-ME"},{"$f":"+Score!E87","v":2.62},{"$f":"+Score!F87","v":1},1,0.94,1,0.93333333333333335,1,1,1,1,1,1,1,1,9.8944444444444439,null,null,40,1,47,0.94,30,1,56,0.93333333333333335,60,1,30,1,110,1,40,1,72,1,30,1,45,1,20,1]
[{"$f":"+Score!A88","v":85},{"$f":"+Score!B88","v":" 553040436-0"},{"$f":"+Score!C88","v":" นายเสฎฐฌาน น้อยอาษา"},{"$f":"+Score!D88","v":" EN-ME"},{"$f":"+Score!E88","v":2.2599999999999998},{"$f":"+Score!F88","v":1},0.92500000000000004,0.9,0.9,0,0,0.96666666666666667,1,1,1,1,0,1,7.2430555555555554,null,null,37,0.92500000000000004,45,0.9,27,0.9,0,0,0,0,29,0.96666666666666667,110,1,40,1,72,1,30,1,0,0,20,1]
[{"$f":"+Score!A89","v":86},{"$f":"+Score!B89","v":" 553040448-3"},{"$f":"+Score!C89","v":" นายอาทิตย์ ขาวสนิท"},{"$f":"+Score!D89","v":" EN-ME"},{"$f":"+Score!E89","v":2.65},{"$f":"+Score!F89","v":1},0.92500000000000004,1,0.8,0.91666666666666663,0.83333333333333337,0.96666666666666667,0.91818181818181821,0.97499999999999998,0.94444444444444442,1,1,0.95,9.3577441077441073,null,null,37,0.92500000000000004,50,1,24,0.8,55,0.91666666666666663,50,0.83333333333333337,29,0.96666666666666667,101,0.91818181818181821,39,0.97499999999999998,68,0.94444444444444442,30,1,45,1,19,0.95]
[{"$f":"+Score!A90","v":87},{"$f":"+Score!B90","v":" 553040449-1"},{"$f":"+Score!C90","v":" นายอานุภาพ วิจบ"},{"$f":"+Score!D90","v":" EN-IE"},{"$f":"+Score!E90","v":2.9},{"$f":"+Score!F90","v":1},0.6,1,0.9,0.95,0.96666666666666667,1,1,0.97499999999999998,0.94444444444444442,1,1,1,9.4467592592592595,null,null,24,0.6,50,1,27,0.9,57,0.95,58,0.96666666666666667,30,1,110,1,39,0.97499999999999998,68,0.94444444444444442,30,1,45,1,20,1]
[{"$f":"+Score!A91","v":88},{"$f":"+Score!B91","v":" 553040450-6"},{"$f":"+Score!C91","v":" นายเอกราช คำงาม"},{"$f":"+Score!D91","v":" EN-ME"},{"$f":"+Score!E91","v":2.3199999999999998},{"$f":"+Score!F91","v":1},0.75,0.94,0.83333333333333337,1,1,1,0.8545454545454545,1,0.93055555555555558,1,1,1,9.4236952861952865,null,null,30,0.75,47,0.94,25,0.83333333333333337,60,1,60,1,30,1,94,0.8545454545454545,40,1,67,0.93055555555555558,30,1,45,1,20,1]
[{"$f":"+Score!A92","v":89},{"$f":"+Score!B92","v":" 553040454-8"},{"$f":"+Score!C92","v":" นายกลวัชร จงฤาชา"},{"$f":"+Score!D92","v":" EN-AE"},{"$f":"+Score!E92","v":2.2400000000000002},{"$f":"+Score!F92","v":1},0.92500000000000004,1,0.9,0.83333333333333337,0.83333333333333337,1,1,0,1,0,0,1,7.0763888888888893,null,null,37,0.92500000000000004,50,1,27,0.9,50,0.83333333333333337,50,0.83333333333333337,30,1,110,1,0,0,72,1,0,0,0,0,20,1]
[{"$f":"+Score!A93","v":90},{"$f":"+Score!B93","v":" 553040458-0"},{"$f":"+Score!C93","v":" นางสาวจุฬาลักษณ์ ชมภูรักษ์"},{"$f":"+Score!D93","v":" EN-AE"},{"$f":"+Score!E93","v":2.57},{"$f":"+Score!F93","v":1},1,0.92,0.9,0.9,0,1,1,1,1,1,1,1,8.9333333333333336,null,null,40,1,46,0.92,27,0.9,54,0.9,0,0,30,1,110,1,40,1,72,1,30,1,45,1,20,1]
[{"$f":"+Score!A94","v":91},{"$f":"+Score!B94","v":" 553040464-5"},{"$f":"+Score!C94","v":" นางสาวทิชากร จุลพันธ์"},{"$f":"+Score!D94","v":" EN-AE"},{"$f":"+Score!E94","v":1.97},{"$f":"+Score!F94","v":1},0.875,0.9,0.9,0.47499999999999998,0.91666666666666663,0.98333333333333328,0.82727272727272727,1,1,1,1,1,9.0643939393939394,null,null,35,0.875,45,0.9,27,0.9,28.5,0.47499999999999998,55,0.91666666666666663,29.5,0.98333333333333328,91,0.82727272727272727,40,1,72,1,30,1,45,1,20,1]
[{"$f":"+Score!A95","v":92},{"$f":"+Score!B95","v":" 553040467-9"},{"$f":"+Score!C95","v":" นายนพพล รัตน์ปิยะภาภรณ์"},{"$f":"+Score!D95","v":" EN-AE"},{"$f":"+Score!E95","v":2.57},{"$f":"+Score!F95","v":1},0.57499999999999996,1,1,0.83333333333333337,1,1,0.99090909090909096,1,1,1,1,1,9.4993686868686869,null,null,23,0.57499999999999996,50,1,30,1,50,0.83333333333333337,60,1,30,1,109,0.99090909090909096,40,1,72,1,30,1,45,1,20,1]
[{"$f":"+Score!A96","v":93},{"$f":"+Score!B96","v":" 553040468-7"},{"$f":"+Score!C96","v":" นางสาวบังอร ทนน้ำ"},{"$f":"+Score!D96","v":" EN-AE"},{"$f":"+Score!E96","v":2.6},{"$f":"+Score!F96","v":1},0.92500000000000004,0.78,0.76666666666666672,0.76666666666666672,0.93333333333333335,0.96666666666666667,0.9363636363636364,0.95,0.94444444444444442,1,0.97777777777777775,1,9.1224326599326613,null,null,37,0.92500000000000004,39,0.78,23,0.76666666666666672,46,0.76666666666666672,56,0.93333333333333335,29,0.96666666666666667,103,0.9363636363636364,38,0.95,68,0.94444444444444442,30,1,44,0.97777777777777775,20,1]
[{"$f":"+Score!A97","v":94},{"$f":"+Score!B97","v":" 553040476-8"},{"$f":"+Score!C97","v":" นายมงคลลักษ์ วงษ์ศรีมี"},{"$f":"+Score!D97","v":" EN-AE"},{"$f":"+Score!E97","v":2.83},{"$f":"+Score!F97","v":1},0.5,1,1,0.78333333333333333,1,1,0.99090909090909096,1,1,1,1,1,9.3952020202020208,null,null,20,0.5,50,1,30,1,47,0.78333333333333333,60,1,30,1,109,0.99090909090909096,40,1,72,1,30,1,45,1,20,1]
[{"$f":"+Score!A98","v":95},{"$f":"+Score!B98","v":" 553040485-7"},{"$f":"+Score!C98","v":" นายอานันต์ หอมเนียม"},{"$f":"+Score!D98","v":" EN-AE"},{"$f":"+Score!E98","v":2.2400000000000002},{"$f":"+Score!F98","v":1},0.77500000000000002,1,1,0.8666666666666667,1,1,1,1,1,1,1,1,9.7013888888888893,null,null,31,0.77500000000000002,50,1,30,1,52,0.8666666666666667,60,1,30,1,110,1,40,1,72,1,30,1,45,1,20,1]
[{"$f":"+Score!A99","v":96},{"$f":"+Score!B99","v":" 553040614-2"},{"$f":"+Score!C99","v":" นายจตุรงค์ ถนอมศิลป์"},{"$f":"+Score!D99","v":" EN-ME (พิเศษ ม.6)"},{"$f":"+Score!E99","v":0},{"$f":"+Score!F99","v":"4"},1,1,0.9,1,1,1,1,1,1,1,1,1,9.9166666666666679,null,null,40,1,50,1,27,0.9,60,1,60,1,30,1,110,1,40,1,72,1,30,1,45,1,20,1]
[{"$f":"+Score!A100","v":97},{"$f":"+Score!B100","v":" 553040617-6"},{"$f":"+Score!C100","v":" นายชัยศิริ ลี้มีธรรม"},{"$f":"+Score!D100","v":" EN-ME (พิเศษ ม.6)"},{"$f":"+Score!E100","v":0},{"$f":"+Score!F100","v":"4"},0.72499999999999998,0.94,0.93333333333333335,0.81666666666666665,0.91666666666666663,0.76666666666666672,0.88181818181818183,1,1,1,0.97777777777777775,1,9.131607744107745,null,null,29,0.72499999999999998,47,0.94,28,0.93333333333333335,49,0.81666666666666665,55,0.91666666666666663,23,0.76666666666666672,97,0.88181818181818183,40,1,72,1,30,1,44,0.97777777777777775,20,1]
[{"$f":"+Score!A101","v":98},{"$f":"+Score!B101","v":" 553040618-4"},{"$f":"+Score!C101","v":" นายเชษฐพงษ์ สาขา"},{"$f":"+Score!D101","v":" EN-ME (พิเศษ ม.6)"},{"$f":"+Score!E101","v":0},{"$f":"+Score!F101","v":"4"},0.42499999999999999,1,0.9,0.8833333333333333,0.95,1,0.96363636363636362,1,0,1,1,1,8.4349747474747474,null,null,17,0.42499999999999999,50,1,27,0.9,53,0.8833333333333333,57,0.95,30,1,106,0.96363636363636362,40,1,0,0,30,1,45,1,20,1]
[{"$f":"+Score!A102","v":99},{"$f":"+Score!B102","v":" 553040621-5"},{"$f":"+Score!C102","v":" นายณัฐพล หอมจะบก"},{"$f":"+Score!D102","v":" EN-ME (พิเศษ ม.6)"},{"$f":"+Score!E102","v":0},{"$f":"+Score!F102","v":"4"},0.4,0.7,0,0.8666666666666667,0,1,0.96363636363636362,0,0,0,0,0,3.2752525252525255,null,null,16,0.4,35,0.7,0,0,52,0.8666666666666667,0,0,30,1,106,0.96363636363636362,0,0,0,0,0,0,0,0,0,0]
[{"$f":"+Score!A103","v":100},{"$f":"+Score!B103","v":" 553040622-3"},{"$f":"+Score!C103","v":" นายทศพล ฉายจรุง"},{"$f":"+Score!D103","v":" EN-ME (พิเศษ ม.6)"},{"$f":"+Score!E103","v":0},{"$f":"+Score!F103","v":"4"},0.72499999999999998,1,1,0.96666666666666667,0,1,1,1,1,1,1,1,8.9097222222222232,null,null,29,0.72499999999999998,50,1,30,1,58,0.96666666666666667,0,0,30,1,110,1,40,1,72,1,30,1,45,1,20,1]
[{"$f":"+Score!A104","v":101},{"$f":"+Score!B104","v":" 553040623-1"},{"$f":"+Score!C104","v":" นายเทพนรินทร์ อินธิราช"},{"$f":"+Score!D104","v":" EN-ME (พิเศษ ม.6)"},{"$f":"+Score!E104","v":0},{"$f":"+Score!F104","v":"4"},1,1,0.9,0.83333333333333337,0.96666666666666667,0.9,0.95454545454545459,1,1,1,0.97777777777777775,1,9.6102693602693616,null,null,40,1,50,1,27,0.9,50,0.83333333333333337,58,0.96666666666666667,27,0.9,105,0.95454545454545459,40,1,72,1,30,1,44,0.97777777777777775,20,1]
[{"$f":"+Score!A105","v":102},{"$f":"+Score!B105","v":" 553040624-9"},{"$f":"+Score!C105","v":" นายธนะสิทธิ์ รุจิระโชติวัฒน์"},{"$f":"+Score!D105","v":" EN-ME (พิเศษ ม.6)"},{"$f":"+Score!E105","v":0},{"$f":"+Score!F105","v":"4"},0.77500000000000002,1,0.96666666666666667,0.85,0.95,0.9,0.96363636363636362,1,1,1,0.9555555555555556,1,9.4673821548821557,null,null,31,0.77500000000000002,50,1,29,0.96666666666666667,51,0.85,57,0.95,27,0.9,106,0.96363636363636362,40,1,72,1,30,1,43,0.9555555555555556,20,1]
[{"$f":"+Score!A106","v":103},{"$f":"+Score!B106","v":" 553040625-7"},{"$f":"+Score!C106","v":" นายธีรศักดิ์ สังสิทธิสวัสดิ์"},{"$f":"+Score!D106","v":" EN-ME (พิเศษ ม.6)"},{"$f":"+Score!E106","v":0},{"$f":"+Score!F106","v":"4"},0,0,0,0,0,0,0,0,0,0,0,0,0,null,null,0,0,0,0,0,0,0,0,0,0,0,0,0,0,0,0,0,0,0,0,0,0,0,0]
[{"$f":"+Score!A107","v":104},{"$f":"+Score!B107","v":" 553040626-5"},{"$f":"+Score!C107","v":" นายปฏิภาณ สังข์ชัย"},{"$f":"+Score!D107","v":" EN-ME (พิเศษ ม.6)"},{"$f":"+Score!E107","v":0},{"$f":"+Score!F107","v":"4"},0.55000000000000004,0.9,0.9,0.8833333333333333,0.95,0.9,0.96363636363636362,1,1,1,1,1,9.2058080808080813,null,null,22,0.55000000000000004,45,0.9,27,0.9,53,0.8833333333333333,57,0.95,27,0.9,106,0.96363636363636362,40,1,72,1,30,1,45,1,20,1]
[{"$f":"+Score!A108","v":105},{"$f":"+Score!B108","v":" 553040631-2"},{"$f":"+Score!C108","v":" นายพงศ์รัตน์ ณ หนองคาย"},{"$f":"+Score!D108","v":" EN-ME (พิเศษ ม.6)"},{"$f":"+Score!E108","v":0},{"$f":"+Score!F108","v":"4"},0.85,1,0.9,0.83333333333333337,1,1,0.98181818181818181,1,0,1,0.88888888888888884,1,8.7117003367003392,null,null,34,0.85,50,1,27,0.9,50,0.83333333333333337,60,1,30,1,108,0.98181818181818181,40,1,0,0,30,1,40,0.88888888888888884,20,1]
[{"$f":"+Score!A109","v":106},{"$f":"+Score!B109","v":" 553040636-2"},{"$f":"+Score!C109","v":" นายรัชชานนท์ บุญอาษา"},{"$f":"+Score!D109","v":" EN-ME (พิเศษ ม.6)"},{"$f":"+Score!E109","v":0},{"$f":"+Score!F109","v":"4"},0.7,1,0.9,0.81666666666666665,0.95,1,0.98181818181818181,1,1,1,0.88888888888888884,1,9.3644781144781142,null,null,28,0.7,50,1,27,0.9,49,0.81666666666666665,57,0.95,30,1,108,0.98181818181818181,40,1,72,1,30,1,40,0.88888888888888884,20,1]
[{"$f":"+Score!A110","v":107},{"$f":"+Score!B110","v":" 563040310-3"},{"$f":"+Score!C110","v":" นางสาวธัญชนภ ธีระเดชธำดง"},{"$f":"+Score!D110","v":"EN-IE"},{"$f":"+Score!E110","v":0},{"$f":"+Score!F110","v":"4"},{"$f":"W110","v":1},{"$f":"Y110","v":0.98},{"$f":"AA110","v":0.96666666666666667},{"$f":"AC110","v":0.96666666666666667},{"$f":"AE110","v":1},1,1,1,1,1,1,1,9.9277777777777789,null,null,40,1,49,0.98,29,0.96666666666666667,58,{"$f":"AB110/60","v":0.96666666666666667},60,1,30,1,110,1,40,1,72,1,30,1,45,1,20,1]

{"sheet":"TestAll","index":7,"n_rows":110,"n_cols":21,"rows_kept":110,"cut":false,"hidden":false,"merged":[]}
[null,"รายวิชา","185231 : THERMODYNAMICS I",null,null,"Section 1",5,5,null,null,{"$f":"SUM(G1:J1)","v":10},"Accumulated",null,"Full","Score","Full","Score","Full","Score","full","score"]
[null,"ปีการศึกษา","2553 ภาคการศึกษาที่ 1",null,null,"รศ.ดร.สมหมาย ปรีเปรม",5,5,null,null,{"$f":"SUM(G2:J2)","v":10},"Full score",null,30,5,35,5]
["ลำดับ"," รหัส","ชื่อ","หลักสูตร","GPA","Section","Test1","Test2","Test3","Test4","Sum",null,null,"Test1",null,"Test2",null,"Test3",null,"Test4"]
[{"$f":"Score!A4","v":1},{"$f":"Score!B4","v":" 553040026-9"},{"$f":"Score!C4","v":" นางสาวกนกกาญจน์ อุปสาร"},{"$f":"Score!D4","v":" EN-IE"},{"$f":"Score!E4","v":2.7},{"$f":"Score!F4","v":1},{"$f":"+O4","v":4},{"$f":"Q4","v":5},null,null,{"$f":"SUM(G4:J4)","v":9},null,null,24,{"$f":"N4/6","v":4},35,{"$f":"P4/7","v":5}]
[{"$f":"Score!A5","v":2},{"$f":"Score!B5","v":" 553040032-4"},{"$f":"Score!C5","v":" นายกิตติภัทร จิตรกสิกร"},{"$f":"Score!D5","v":" EN-IE"},{"$f":"Score!E5","v":2.68},{"$f":"Score!F5","v":1},{"$f":"+O5","v":4},{"$f":"Q5","v":4.9285714285714288},null,null,{"$f":"SUM(G5:J5)","v":8.9285714285714288},null,null,24,{"$f":"N5/6","v":4},34.5,{"$f":"P5/7","v":4.9285714285714288}]
[{"$f":"Score!A6","v":3},{"$f":"Score!B6","v":" 553040033-2"},{"$f":"Score!C6","v":" นายกิรติกร แก้วปานกัน"},{"$f":"Score!D6","v":" EN-ME"},{"$f":"Score!E6","v":2.82},{"$f":"Score!F6","v":1},3.5833333333333335,4.1428571428571432,null,null,7.7261904761904763,null,null,21.5,3.5833333333333335,29,4.1428571428571432]
[{"$f":"Score!A7","v":4},{"$f":"Score!B7","v":" 553040041-3"},{"$f":"Score!C7","v":" นางสาวชนาธินาถ โสกงโสด"},{"$f":"Score!D7","v":" EN-ME"},{"$f":"Score!E7","v":2.42},{"$f":"Score!F7","v":1},2.25,5,null,null,7.25,null,null,13.5,2.25,35,5]
[{"$f":"Score!A8","v":5},{"$f":"Score!B8","v":" 553040045-5"},{"$f":"Score!C8","v":" นายณัฏฐกิตติ์ พูลประสงค์"},{"$f":"Score!D8","v":" EN-ME"},{"$f":"Score!E8","v":3.28},{"$f":"Score!F8","v":1},4.916666666666667,4.7142857142857144,null,null,9.6309523809523814,null,null,29.5,4.916666666666667,33,4.7142857142857144]
[{"$f":"Score!A9","v":6},{"$f":"Score!B9","v":" 553040047-1"},{"$f":"Score!C9","v":" นายณัฐพงษ์ กลิ่นมาลี"},{"$f":"Score!D9","v":" EN-ME"},{"$f":"Score!E9","v":2.87},{"$f":"Score!F9","v":1},4,4.7142857142857144,null,null,8.7142857142857153,null,null,24,4,33,4.7142857142857144]
[{"$f":"Score!A10","v":7},{"$f":"Score!B10","v":" 553040049-7"},{"$f":"Score!C10","v":" นายณัฐวัตร สุขสำราญ"},{"$f":"Score!D10","v":" EN-IE"},{"$f":"Score!E10","v":1.76},{"$f":"Score!F10","v":1},2.75,5,null,null,7.75,null,null,16.5,2.75,35,5]
[{"$f":"Score!A11","v":8},{"$f":"Score!B11","v":" 553040050-2"},{"$f":"Score!C11","v":" นายณัฐวุฒิ ฆารประเดิม"},{"$f":"Score!D11","v":" EN-ME"},{"$f":"Score!E11","v":2.87},{"$f":"Score!F11","v":1},4.166666666666667,4.3571428571428568,null,null,8.5238095238095237,null,null,25,4.166666666666667,30.5,4.3571428571428568]
[{"$f":"Score!A12","v":9},{"$f":"Score!B12","v":" 553040052-8"},{"$f":"Score!C12","v":" นายถิรวัฒน์ แก้วคำปอด"},{"$f":"Score!D12","v":" EN-ME"},{"$f":"Score!E12","v":2.61},{"$f":"Score!F12","v":1},2.1666666666666665,3.7142857142857144,null,null,5.8809523809523814,null,null,13,2.1666666666666665,26,3.7142857142857144]
[{"$f":"Score!A13","v":10},{"$f":"Score!B13","v":" 553040057-8"},{"$f":"Score!C13","v":" นายธนวิชญ์ เลิศวุฒิชัยกุล"},{"$f":"Score!D13","v":" EN-IE"},{"$f":"Score!E13","v":2.29},{"$f":"Score!F13","v":1},4.333333333333333,0,null,null,4.333333333333333,null,null,26,4.333333333333333,0,0]
[{"$f":"Score!A14","v":11},{"$f":"Score!B14","v":" 553040059-4"},{"$f":"Score!C14","v":" นายธนากร บุญดาว"},{"$f":"Score!D14","v":" EN-ME"},{"$f":"Score!E14","v":3.03},{"$f":"Score!F14","v":1},3.9166666666666665,4.2142857142857144,null,null,8.1309523809523814,null,null,23.5,3.9166666666666665,29.5,4.2142857142857144]
[{"$f":"Score!A15","v":12},{"$f":"Score!B15","v":" 553040060-9"},{"$f":"Score!C15","v":" นายธนานนท์ ติรวีรขจร"},{"$f":"Score!D15","v":" EN-ME"},{"$f":"Score!E15","v":2.5099999999999998},{"$f":"Score!F15","v":1},4.333333333333333,4.8571428571428568,null,null,9.1904761904761898,null,null,26,4.333333333333333,34,4.8571428571428568]
[{"$f":"Score!A16","v":13},{"$f":"Score!B16","v":" 553040061-7"},{"$f":"Score!C16","v":" นายธนารักษ์ ศรีน้อย"},{"$f":"Score!D16","v":" EN-ME"},{"$f":"Score!E16","v":2.5099999999999998},{"$f":"Score!F16","v":1},3.75,2.7142857142857144,null,null,6.4642857142857144,null,null,22.5,3.75,19,2.7142857142857144]
[{"$f":"Score!A17","v":14},{"$f":"Score!B17","v":" 553040063-3"},{"$f":"Score!C17","v":" นายธีรเจต เตรียมวิชานนท์"},{"$f":"Score!D17","v":" EN-ME"},{"$f":"Score!E17","v":3.03},{"$f":"Score!F17","v":1},4.333333333333333,4.4285714285714288,null,null,8.7619047619047628,null,null,26,4.333333333333333,31,4.4285714285714288]
[{"$f":"Score!A18","v":15},{"$f":"Score!B18","v":" 553040064-1"},{"$f":"Score!C18","v":" นายธีรพล เตชะเสน"},{"$f":"Score!D18","v":" EN-ME"},{"$f":"Score!E18","v":3.24},{"$f":"Score!F18","v":1},4.916666666666667,4.7142857142857144,null,null,9.6309523809523814,null,null,29.5,4.916666666666667,33,4.7142857142857144]
[{"$f":"Score!A19","v":16},{"$f":"Score!B19","v":" 553040071-4"},{"$f":"Score!C19","v":" นายบรรยง ชัยยิ่ง"},{"$f":"Score!D19","v":" EN-ME"},{"$f":"Score!E19","v":2.68},{"$f":"Score!F19","v":1},3.6666666666666665,5,null,null,8.6666666666666661,null,null,22,3.6666666666666665,35,5]
[{"$f":"Score!A20","v":17},{"$f":"Score!B20","v":" 553040072-2"},{"$f":"Score!C20","v":" นายบัญชา แก้วอาจ"},{"$f":"Score!D20","v":" EN-IE"},{"$f":"Score!E20","v":2.2599999999999998},{"$f":"Score!F20","v":1},3.25,2.8571428571428572,null,null,6.1071428571428577,null,null,19.5,3.25,20,2.8571428571428572]
[{"$f":"Score!A21","v":18},{"$f":"Score!B21","v":" 553040083-7"},{"$f":"Score!C21","v":" นายพันธวัช เก็มประโคน"},{"$f":"Score!D21","v":" EN-IE"},{"$f":"Score!E21","v":2.08},{"$f":"Score!F21","v":1},4.333333333333333,4.4285714285714288,null,null,8.7619047619047628,null,null,26,4.333333333333333,31,4.4285714285714288]
[{"$f":"Score!A22","v":19},{"$f":"Score!B22","v":" 553040085-3"},{"$f":"Score!C22","v":" นายพิพัฒน์ รักทองจัน"},{"$f":"Score!D22","v":" EN-ME"},{"$f":"Score!E22","v":3.04},{"$f":"Score!F22","v":1},4.583333333333333,4.2142857142857144,null,null,8.7976190476190474,null,null,27.5,4.583333333333333,29.5,4.2142857142857144]
[{"$f":"Score!A23","v":20},{"$f":"Score!B23","v":" 553040087-9"},{"$f":"Score!C23","v":" นายพิภัทรยา ศิริแว่น"},{"$f":"Score!D23","v":" EN-ME"},{"$f":"Score!E23","v":2.29},{"$f":"Score!F23","v":1},4.875,5,null,null,9.875,null,null,29.25,4.875,35,5]
[{"$f":"Score!A24","v":21},{"$f":"Score!B24","v":" 553040092-6"},{"$f":"Score!C24","v":" นายยศพนธ์ จันทร์วิเมลือง"},{"$f":"Score!D24","v":" EN-ME"},{"$f":"Score!E24","v":3.11},{"$f":"Score!F24","v":1},2.1666666666666665,4.2857142857142856,null,null,6.4523809523809526,null,null,13,2.1666666666666665,30,4.2857142857142856]
[{"$f":"Score!A25","v":22},{"$f":"Score!B25","v":" 553040094-2"},{"$f":"Score!C25","v":" นายยุทธการ แสนเสนา"},{"$f":"Score!D25","v":" EN-ME"},{"$f":"Score!E25","v":2.37},{"$f":"Score!F25","v":1},3.5,5,null,null,8.5,null,null,21,3.5,35,5]
[{"$f":"Score!A26","v":23},{"$f":"Score!B26","v":" 553040095-0"},{"$f":"Score!C26","v":" นายยุทธนา พิริยะสุทธิ์"},{"$f":"Score!D26","v":" EN-ME"},{"$f":"Score!E26","v":2.64},{"$f":"Score!F26","v":1},4.5,4.8571428571428568,null,null,9.3571428571428577,null,null,27,4.5,34,4.8571428571428568]
[{"$f":"Score!A27","v":24},{"$f":"Score!B27","v":" 553040101-1"},{"$f":"Score!C27","v":" นายวรพล จันทร์ผิว"},{"$f":"Score!D27","v":" EN-IE"},{"$f":"Score!E27","v":3.05},{"$f":"Score!F27","v":1},4.25,4.9285714285714288,null,null,9.1785714285714288,null,null,25.5,4.25,34.5,4.9285714285714288]
[{"$f":"Score!A28","v":25},{"$f":"Score!B28","v":" 553040104-5"},{"$f":"Score!C28","v":" นายวรานนท์ ยุทธอมร"},{"$f":"Score!D28","v":" EN-ME"},{"$f":"Score!E28","v":2.72},{"$f":"Score!F28","v":1},4.333333333333333,4.1428571428571432,null,null,8.4761904761904763,null,null,26,4.333333333333333,29,4.1428571428571432]
[{"$f":"Score!A29","v":26},{"$f":"Score!B29","v":" 553040106-1"},{"$f":"Score!C29","v":" นายวศิน คำปัญโญ"},{"$f":"Score!D29","v":" EN-ME"},{"$f":"Score!E29","v":2.6},{"$f":"Score!F29","v":1},2.9166666666666665,2.8571428571428572,null,null,5.7738095238095237,null,null,17.5,2.9166666666666665,20,2.8571428571428572]
[{"$f":"Score!A30","v":27},{"$f":"Score!B30","v":" 553040108-7"},{"$f":"Score!C30","v":" นายวิชญสิทธิ์ พันธุ์รักษา"},{"$f":"Score!D30","v":" EN-IE"},{"$f":"Score!E30","v":2.83},{"$f":"Score!F30","v":1},3.4166666666666665,4.8571428571428568,null,null,8.2738095238095237,null,null,20.5,3.4166666666666665,34,4.8571428571428568]
[{"$f":"Score!A31","v":28},{"$f":"Score!B31","v":" 553040121-5"},{"$f":"Score!C31","v":" นายสิริวุฒิ ภูมิภูเขียว"},{"$f":"Score!D31","v":" EN-IE"},{"$f":"Score!E31","v":2.06},{"$f":"Score!F31","v":1},3.4166666666666665,4.5714285714285712,null,null,7.9880952380952372,null,null,20.5,3.4166666666666665,32,4.5714285714285712]
[{"$f":"Score!A32","v":29},{"$f":"Score!B32","v":" 553040123-1"},{"$f":"Score!C32","v":" นางสาวหทัยชนก ปัญญาบุตร"},{"$f":"Score!D32","v":" EN-ME"},{"$f":"Score!E32","v":2.4500000000000002},{"$f":"Score!F32","v":1},2.8333333333333335,4.0714285714285712,null,null,6.9047619047619051,null,null,17,2.8333333333333335,28.5,4.0714285714285712]
[{"$f":"Score!A33","v":30},{"$f":"Score!B33","v":" 553040126-5"},{"$f":"Score!C33","v":" นายอนวัช คงวีระวัฒน์"},{"$f":"Score!D33","v":" EN-ME"},{"$f":"Score!E33","v":2.27},{"$f":"Score!F33","v":1},2.6666666666666665,4.3571428571428568,null,null,7.0238095238095237,null,null,16,2.6666666666666665,30.5,4.3571428571428568]
[{"$f":"Score!A34","v":31},{"$f":"Score!B34","v":" 553040132-0"},{"$f":"Score!C34","v":" นางสาวอรทัย ยอดแก้วพิสัย"},{"$f":"Score!D34","v":" EN-IE"},{"$f":"Score!E34","v":2.8},{"$f":"Score!F34","v":1},3.9166666666666665,4.7142857142857144,null,null,8.6309523809523814,null,null,23.5,3.9166666666666665,33,4.7142857142857144]
[{"$f":"Score!A35","v":32},{"$f":"Score!B35","v":" 553040133-8"},{"$f":"Score!C35","v":" นายอรรถชัย ทองสุข"},{"$f":"Score!D35","v":" EN-ME"},{"$f":"Score!E35","v":2.16},{"$f":"Score!F35","v":1},3.5833333333333335,4.1428571428571432,null,null,7.7261904761904763,null,null,21.5,3.5833333333333335,29,4.1428571428571432]
[{"$f":"Score!A36","v":33},{"$f":"Score!B36","v":" 553040136-2"},{"$f":"Score!C36","v":" นางสาวอัชฌา เสาร์สิงห์"},{"$f":"Score!D36","v":" EN-ME"},{"$f":"Score!E36","v":2.8},{"$f":"Score!F36","v":1},3.75,5,null,null,8.75,null,null,22.5,3.75,35,5]
[{"$f":"Score!A37","v":34},{"$f":"Score!B37","v":" 553040137-0"},{"$f":"Score!C37","v":" นางสาวอัชรา เชาว์ชอบ"},{"$f":"Score!D37","v":" EN-IE"},{"$f":"Score!E37","v":2.81},{"$f":"Score!F37","v":1},4.25,4.7857142857142856,null,null,9.0357142857142847,null,null,25.5,4.25,33.5,4.7857142857142856]
[{"$f":"Score!A38","v":35},{"$f":"Score!B38","v":" 553040146-9"},{"$f":"Score!C38","v":" นายเจษฎา พลชา"},{"$f":"Score!D38","v":" EN-AE"},{"$f":"Score!E38","v":2.39},{"$f":"Score!F38","v":1},3.5,3.5714285714285716,null,null,7.0714285714285712,null,null,21,3.5,25,3.5714285714285716]
[{"$f":"Score!A39","v":36},{"$f":"Score!B39","v":" 553040148-5"},{"$f":"Score!C39","v":" นายเชษฐทรัพย์ ทองคำใส"},{"$f":"Score!D39","v":" EN-AE"},{"$f":"Score!E39","v":2.6},{"$f":"Score!F39","v":1},2.6666666666666665,4.7142857142857144,null,null,7.3809523809523814,null,null,16,2.6666666666666665,33,4.7142857142857144]
[{"$f":"Score!A40","v":37},{"$f":"Score!B40","v":" 553040149-3"},{"$f":"Score!C40","v":" นายณัฐพงษ์ เหล่าจูม"},{"$f":"Score!D40","v":" EN-AE"},{"$f":"Score!E40","v":3.04},{"$f":"Score!F40","v":1},3.4666666666666668,4.1428571428571432,null,null,7.60952380952381,null,null,20.8,3.4666666666666668,29,4.1428571428571432]
[{"$f":"Score!A41","v":38},{"$f":"Score!B41","v":" 553040154-0"},{"$f":"Score!C41","v":" นางสาวนฤมล พรมพุ้ย"},{"$f":"Score!D41","v":" EN-AE"},{"$f":"Score!E41","v":2.5299999999999998},{"$f":"Score!F41","v":1},3.1666666666666665,4.2857142857142856,null,null,7.4523809523809526,null,null,19,3.1666666666666665,30,4.2857142857142856]
[{"$f":"Score!A42","v":39},{"$f":"Score!B42","v":" 553040163-9"},{"$f":"Score!C42","v":" นางสาววาสนา เคเมือง"},{"$f":"Score!D42","v":" EN-AE"},{"$f":"Score!E42","v":2.2999999999999998},{"$f":"Score!F42","v":1},3.3333333333333335,2.8571428571428572,null,null,6.1904761904761907,null,null,20,3.3333333333333335,20,2.8571428571428572]
[{"$f":"Score!A43","v":40},{"$f":"Score!B43","v":" 553040164-7"},{"$f":"Score!C43","v":" นายวิภูรินทร์ เลิศพนาลัย"},{"$f":"Score!D43","v":" EN-AE"},{"$f":"Score!E43","v":2.5499999999999998},{"$f":"Score!F43","v":1},3.3333333333333335,3.2142857142857144,null,null,6.5476190476190474,null,null,20,3.3333333333333335,22.5,3.2142857142857144]
[{"$f":"Score!A44","v":41},{"$f":"Score!B44","v":" 553040167-1"},{"$f":"Score!C44","v":" นายอดิศักดิ์ มุนนี"},{"$f":"Score!D44","v":" EN-AE"},{"$f":"Score!E44","v":2.96},{"$f":"Score!F44","v":1},4.25,3.2857142857142856,null,null,7.5357142857142856,null,null,25.5,4.25,23,3.2857142857142856]
[{"$f":"Score!A45","v":42},{"$f":"Score!B45","v":" 553040169-7"},{"$f":"Score!C45","v":" นายอภิสิทธิ์ รังสิมาวงศ์"},{"$f":"Score!D45","v":" EN-AE"},{"$f":"Score!E45","v":3.16},{"$f":"Score!F45","v":1},3.5833333333333335,3.8571428571428572,null,null,7.4404761904761907,null,null,21.5,3.5833333333333335,27,3.8571428571428572]
[{"$f":"Score!A46","v":43},{"$f":"Score!B46","v":" 553040170-2"},{"$f":"Score!C46","v":" นายอาทิตย์ ภูผาผุด"},{"$f":"Score!D46","v":" EN-AE"},{"$f":"Score!E46","v":3.25},{"$f":"Score!F46","v":1},4.5666666666666664,4.1428571428571432,null,null,8.7095238095238088,null,null,27.4,4.5666666666666664,29,4.1428571428571432]
[{"$f":"Score!A47","v":44},{"$f":"Score!B47","v":" 553040281-3"},{"$f":"Score!C47","v":" นายทวิชาติ อัครสันตติกุล"},{"$f":"Score!D47","v":" EN-IE"},{"$f":"Score!E47","v":1.95},{"$f":"Score!F47","v":1},3.4166666666666665,4.8571428571428568,null,null,8.2738095238095237,null,null,20.5,3.4166666666666665,34,4.8571428571428568]
[{"$f":"Score!A48","v":45},{"$f":"Score!B48","v":" 553040285-5"},{"$f":"Score!C48","v":" นางสาวกนกอร แดงน้อย"},{"$f":"Score!D48","v":" EN-IE"},{"$f":"Score!E48","v":2.5099999999999998},{"$f":"Score!F48","v":1},3,4,null,null,7,null,null,18,3,28,4]
[{"$f":"Score!A49","v":46},{"$f":"Score!B49","v":" 553040289-7"},{"$f":"Score!C49","v":" นายกัมปนาท ชาวดร"},{"$f":"Score!D49","v":" EN-ME"},{"$f":"Score!E49","v":3.02},{"$f":"Score!F49","v":1},3.8333333333333335,4.7142857142857144,null,null,8.5476190476190474,null,null,23,3.8333333333333335,33,4.7142857142857144]
[{"$f":"Score!A50","v":47},{"$f":"Score!B50","v":" 553040290-2"},{"$f":"Score!C50","v":" นายกานตภณ รุ่งฤทัยวัฒน์"},{"$f":"Score!D50","v":" EN-IE"},{"$f":"Score!E50","v":2.2200000000000002},{"$f":"Score!F50","v":1},1.8333333333333333,4.2857142857142856,null,null,6.1190476190476186,null,null,11,1.8333333333333333,30,4.2857142857142856]
[{"$f":"Score!A51","v":48},{"$f":"Score!B51","v":" 553040297-8"},{"$f":"Score!C51","v":" นางสาวขวัญตา สุวรรณจันทร์"},{"$f":"Score!D51","v":" EN-IE"},{"$f":"Score!E51","v":1.24},{"$f":"Score!F51","v":1},0,0,null,null,0,null,null,0,0,0,0]
[{"$f":"Score!A52","v":49},{"$f":"Score!B52","v":" 553040298-6"},{"$f":"Score!C52","v":" นายคฑาวุธ นิลคุณ"},{"$f":"Score!D52","v":" EN-ME"},{"$f":"Score!E52","v":2.16},{"$f":"Score!F52","v":1},3.6666666666666665,2.7142857142857144,null,null,6.3809523809523814,null,null,22,3.6666666666666665,19,2.7142857142857144]
[{"$f":"Score!A53","v":50},{"$f":"Score!B53","v":" 553040302-1"},{"$f":"Score!C53","v":" นายจรูญวิทย์ ยึนประโคน"},{"$f":"Score!D53","v":" EN-IE"},{"$f":"Score!E53","v":2.25},{"$f":"Score!F53","v":1},2.5833333333333335,4.9285714285714288,null,null,7.5119047619047628,null,null,15.5,2.5833333333333335,34.5,4.9285714285714288]
[{"$f":"Score!A54","v":51},{"$f":"Score!B54","v":" 553040310-2"},{"$f":"Score!C54","v":" นายจีระวัฒน์ ศรีมีชัย"},{"$f":"Score!D54","v":" EN-IE"},{"$f":"Score!E54","v":2.1800000000000002},{"$f":"Score!F54","v":1},3.1666666666666665,4.4285714285714288,null,null,7.5952380952380949,null,null,19,3.1666666666666665,31,4.4285714285714288]
[{"$f":"Score!A55","v":52},{"$f":"Score!B55","v":" 553040312-8"},{"$f":"Score!C55","v":" นางสาวจุฑารัตน์ เลยยุทธ"},{"$f":"Score!D55","v":" EN-IE"},{"$f":"Score!E55","v":2.66},{"$f":"Score!F55","v":1},3.8333333333333335,4.9285714285714288,null,null,8.7619047619047628,null,null,23,3.8333333333333335,34.5,4.9285714285714288]
[{"$f":"Score!A56","v":53},{"$f":"Score!B56","v":" 553040315-2"},{"$f":"Score!C56","v":" นางสาวจุฬารัตน์ แสนวงษ์"},{"$f":"Score!D56","v":" EN-ME"},{"$f":"Score!E56","v":3.22},{"$f":"Score!F56","v":1},4.666666666666667,4,null,null,8.6666666666666679,null,null,28,4.666666666666667,28,4]
[{"$f":"Score!A57","v":54},{"$f":"Score!B57","v":" 553040316-0"},{"$f":"Score!C57","v":" นางสาวเจนจิรา ปิยาโยค"},{"$f":"Score!D57","v":" EN-ME"},{"$f":"Score!E57","v":2.2999999999999998},{"$f":"Score!F57","v":1},3.3000000000000003,4.7142857142857144,null,null,8.0142857142857142,null,null,19.8,3.3000000000000003,33,4.7142857142857144]
[{"$f":"Score!A58","v":55},{"$f":"Score!B58","v":" 553040317-8"},{"$f":"Score!C58","v":" นายเจนณรงค์ อยู่ยง"},{"$f":"Score!D58","v":" EN-ME"},{"$f":"Score!E58","v":2.57},{"$f":"Score!F58","v":1},3.5,4.7142857142857144,null,null,8.2142857142857153,null,null,21,3.5,33,4.7142857142857144]
[{"$f":"Score!A59","v":56},{"$f":"Score!B59","v":" 553040320-9"},{"$f":"Score!C59","v":" นางสาวชลธิชา นาสินสร้อย"},{"$f":"Score!D59","v":" EN-ME"},{"$f":"Score!E59","v":2.81},{"$f":"Score!F59","v":1},4,4.7857142857142856,null,null,8.7857142857142847,null,null,24,4,33.5,4.7857142857142856]
[{"$f":"Score!A60","v":57},{"$f":"Score!B60","v":" 553040321-7"},{"$f":"Score!C60","v":" นายชลวิทย์ พิสิฐรัตนวงศ์"},{"$f":"Score!D60","v":" EN-IE"},{"$f":"Score!E60","v":2.19},{"$f":"Score!F60","v":1},3.4166666666666665,4.9285714285714288,null,null,8.3452380952380949,null,null,20.5,3.4166666666666665,34.5,4.9285714285714288]
[{"$f":"Score!A61","v":58},{"$f":"Score!B61","v":" 553040326-7"},{"$f":"Score!C61","v":" นางสาวญาดา ยิ้มยินดี"},{"$f":"Score!D61","v":" EN-IE"},{"$f":"Score!E61","v":2.09},{"$f":"Score!F61","v":1},3.1666666666666665,4.6428571428571432,null,null,7.8095238095238102,null,null,19,3.1666666666666665,32.5,4.6428571428571432]
[{"$f":"Score!A62","v":59},{"$f":"Score!B62","v":" 553040336-4"},{"$f":"Score!C62","v":" นายทวีรัช ทาจันทร์"},{"$f":"Score!D62","v":" EN-ME"},{"$f":"Score!E62","v":2.46},{"$f":"Score!F62","v":1},3.6666666666666665,4.4285714285714288,null,null,8.0952380952380949,null,null,22,3.6666666666666665,31,4.4285714285714288]
[{"$f":"Score!A63","v":60},{"$f":"Score!B63","v":" 553040339-8"},{"$f":"Score!C63","v":" นายแทนพงศ์ พุทธลา"},{"$f":"Score!D63","v":" EN-ME"},{"$f":"Score!E63","v":2.73},{"$f":"Score!F63","v":1},4,4.5714285714285712,null,null,8.5714285714285712,null,null,24,4,32,4.5714285714285712]
[{"$f":"Score!A64","v":61},{"$f":"Score!B64","v":" 553040340-3"},{"$f":"Score!C64","v":" นายธนกฤต เหล่าพิเดช"},{"$f":"Score!D64","v":" EN-IE"},{"$f":"Score!E64","v":2.23},{"$f":"Score!F64","v":1},3.75,4.3571428571428568,null,null,8.1071428571428577,null,null,22.5,3.75,30.5,4.3571428571428568]
[{"$f":"Score!A65","v":62},{"$f":"Score!B65","v":" 553040346-1"},{"$f":"Score!C65","v":" นางสาวธันยมัย มูลมณี"},{"$f":"Score!D65","v":" EN-IE"},{"$f":"Score!E65","v":1.92},{"$f":"Score!F65","v":1},3.3333333333333335,5,null,null,8.3333333333333339,null,null,20,3.3333333333333335,35,5]
[{"$f":"Score!A66","v":63},{"$f":"Score!B66","v":" 553040347-9"},{"$f":"Score!C66","v":" นายธันวา ไกยราช"},{"$f":"Score!D66","v":" EN-ME"},{"$f":"Score!E66","v":2.72},{"$f":"Score!F66","v":1},4,2.0714285714285716,null,null,6.0714285714285712,null,null,24,4,14.5,2.0714285714285716]
[{"$f":"Score!A67","v":64},{"$f":"Score!B67","v":" 553040349-5"},{"$f":"Score!C67","v":" นายธิบดี ธิแก้ว"},{"$f":"Score!D67","v":" EN-IE"},{"$f":"Score!E67","v":2.15},{"$f":"Score!F67","v":1},3.1666666666666665,0.7857142857142857,null,null,3.9523809523809521,null,null,19,3.1666666666666665,5.5,0.7857142857142857]
[{"$f":"Score!A68","v":65},{"$f":"Score!B68","v":" 553040359-2"},{"$f":"Score!C68","v":" นางสาวเบญจวรรณ มั่นวงษ์"},{"$f":"Score!D68","v":" EN-IE"},{"$f":"Score!E68","v":2.02},{"$f":"Score!F68","v":1},4.2166666666666668,4.8571428571428568,null,null,9.0738095238095227,null,null,25.3,4.2166666666666668,34,4.8571428571428568]
[{"$f":"Score!A69","v":66},{"$f":"Score!B69","v":" 553040365-7"},{"$f":"Score!C69","v":" นางสาวปรีม สุขเสนีย์"},{"$f":"Score!D69","v":" EN-ME"},{"$f":"Score!E69","v":2.4700000000000002},{"$f":"Score!F69","v":1},{"$f":"+O69","v":4.333333333333333},{"$f":"Q69","v":4.7857142857142856},null,null,{"$f":"SUM(G69:J69)","v":9.1190476190476186},null,null,26,{"$f":"N69/6","v":4.333333333333333},33.5,{"$f":"P69/7","v":4.7857142857142856}]
[{"$f":"Score!A70","v":67},{"$f":"Score!B70","v":" 553040368-1"},{"$f":"Score!C70","v":" นางสาวปุณฑริกา สิทธิกรชัย"},{"$f":"Score!D70","v":" EN-IE"},{"$f":"Score!E70","v":2.2599999999999998},{"$f":"Score!F70","v":1},3.6666666666666665,4.9285714285714288,null,null,8.5952380952380949,null,null,22,3.6666666666666665,34.5,4.9285714285714288]
[{"$f":"Score!A71","v":68},{"$f":"Score!B71","v":" 553040380-1"},{"$f":"Score!C71","v":" นายพิธพล พลเพชร"},{"$f":"Score!D71","v":" EN-IE"},{"$f":"Score!E71","v":2.21},{"$f":"Score!F71","v":1},3,4,null,null,7,null,null,18,3,28,4]
[{"$f":"Score!A72","v":69},{"$f":"Score!B72","v":" 553040383-5"},{"$f":"Score!C72","v":" นายพีระพงษ์ สิมงาม"},{"$f":"Score!D72","v":" EN-ME"},{"$f":"Score!E72","v":2.69},{"$f":"Score!F72","v":1},3.6666666666666665,4.2857142857142856,null,null,7.9523809523809526,null,null,22,3.6666666666666665,30,4.2857142857142856]
[{"$f":"Score!A73","v":70},{"$f":"Score!B73","v":" 553040386-9"},{"$f":"Score!C73","v":" นายภัทรพล สารผล"},{"$f":"Score!D73","v":" EN-IE"},{"$f":"Score!E73","v":2.08},{"$f":"Score!F73","v":1},1.8333333333333333,4.5714285714285712,null,null,6.4047619047619042,null,null,11,1.8333333333333333,32,4.5714285714285712]
[{"$f":"Score!A74","v":71},{"$f":"Score!B74","v":" 553040387-7"},{"$f":"Score!C74","v":" นายภาคภูมิ ประเสริฐ"},{"$f":"Score!D74","v":" EN-ME"},{"$f":"Score!E74","v":2.86},{"$f":"Score!F74","v":1},4.833333333333333,4.9285714285714288,null,null,9.7619047619047628,null,null,29,4.833333333333333,34.5,4.9285714285714288]
[{"$f":"Score!A75","v":72},{"$f":"Score!B75","v":" 553040391-6"},{"$f":"Score!C75","v":" นายมารุต พลวัน"},{"$f":"Score!D75","v":" EN-ME"},{"$f":"Score!E75","v":2.77},{"$f":"Score!F75","v":1},4.833333333333333,4.9285714285714288,null,null,9.7619047619047628,null,null,29,4.833333333333333,34.5,4.9285714285714288]
[{"$f":"Score!A76","v":73},{"$f":"Score!B76","v":" 553040397-4"},{"$f":"Score!C76","v":" นายรัชชานนท์ หาญกล้า"},{"$f":"Score!D76","v":" EN-ME"},{"$f":"Score!E76","v":2.65},{"$f":"Score!F76","v":1},2.8333333333333335,4.2142857142857144,null,null,7.0476190476190474,null,null,17,2.8333333333333335,29.5,4.2142857142857144]
[{"$f":"Score!A77","v":74},{"$f":"Score!B77","v":" 553040400-1"},{"$f":"Score!C77","v":" นายวงศธร เอียตระกูลไพบูลย์"},{"$f":"Score!D77","v":" EN-IE"},{"$f":"Score!E77","v":2.76},{"$f":"Score!F77","v":1},4.666666666666667,4.7857142857142856,null,null,9.4523809523809526,null,null,28,4.666666666666667,33.5,4.7857142857142856]
[{"$f":"Score!A78","v":75},{"$f":"Score!B78","v":" 553040401-9"},{"$f":"Score!C78","v":" นายวชิรวิทย์ นวรัตนากร"},{"$f":"Score!D78","v":" EN-IE"},{"$f":"Score!E78","v":2.83},{"$f":"Score!F78","v":1},3.4166666666666665,4.8571428571428568,null,null,8.2738095238095237,null,null,20.5,3.4166666666666665,34,4.8571428571428568]
[{"$f":"Score!A79","v":76},{"$f":"Score!B79","v":" 553040404-3"},{"$f":"Score!C79","v":" นายวนัสมัญ กฤษณะสุวรรณ"},{"$f":"Score!D79","v":" EN-IE"},{"$f":"Score!E79","v":2.2999999999999998},{"$f":"Score!F79","v":1},0,0,null,null,0,null,null,0,0,0,0]
[{"$f":"Score!A80","v":77},{"$f":"Score!B80","v":" 553040417-4"},{"$f":"Score!C80","v":" นางสาวศศิวิมล กองพันธ์"},{"$f":"Score!D80","v":" EN-IE"},{"$f":"Score!E80","v":2.94},{"$f":"Score!F80","v":1},4.083333333333333,4.6428571428571432,null,null,8.7261904761904763,null,null,24.5,4.083333333333333,32.5,4.6428571428571432]
[{"$f":"Score!A81","v":78},{"$f":"Score!B81","v":" 553040420-5"},{"$f":"Score!C81","v":" นางสาวศิรินาถ ดวงพิมพ์"},{"$f":"Score!D81","v":" EN-IE"},{"$f":"Score!E81","v":2.21},{"$f":"Score!F81","v":1},4.583333333333333,3.0714285714285716,null,null,7.6547619047619051,null,null,27.5,4.583333333333333,21.5,3.0714285714285716]
[{"$f":"Score!A82","v":79},{"$f":"Score!B82","v":" 553040426-3"},{"$f":"Score!C82","v":" นายสหภาพ เพียรชนะ"},{"$f":"Score!D82","v":" EN-ME"},{"$f":"Score!E82","v":3.13},{"$f":"Score!F82","v":1},4.166666666666667,3.9571428571428569,null,null,8.1238095238095234,null,null,25,4.166666666666667,27.7,3.9571428571428569]
[{"$f":"Score!A83","v":80},{"$f":"Score!B83","v":" 553040427-1"},{"$f":"Score!C83","v":" นายสิทธิชัย เมืองโคตร"},{"$f":"Score!D83","v":" EN-ME"},{"$f":"Score!E83","v":2.35},{"$f":"Score!F83","v":1},4,2.0714285714285716,null,null,6.0714285714285712,null,null,24,4,14.5,2.0714285714285716]
[{"$f":"Score!A84","v":81},{"$f":"Score!B84","v":" 553040428-9"},{"$f":"Score!C84","v":" นางสาวสุกัญญา ธารานุวงศ์"},{"$f":"Score!D84","v":" EN-ME"},{"$f":"Score!E84","v":2.8},{"$f":"Score!F84","v":1},4.25,4.8571428571428568,null,null,9.1071428571428577,null,null,25.5,4.25,34,4.8571428571428568]
[{"$f":"Score!A85","v":82},{"$f":"Score!B85","v":" 553040429-7"},{"$f":"Score!C85","v":" นางสาวสุกัญญา เวียงสิมา"},{"$f":"Score!D85","v":" EN-IE"},{"$f":"Score!E85","v":2.2799999999999998},{"$f":"Score!F85","v":1},4,4.9285714285714288,null,null,8.9285714285714288,null,null,24,4,34.5,4.9285714285714288]
[{"$f":"Score!A86","v":83},{"$f":"Score!B86","v":" 553040430-2"},{"$f":"Score!C86","v":" นางสาวสุฑิฌา อินทนนท์"},{"$f":"Score!D86","v":" EN-IE"},{"$f":"Score!E86","v":1.95},{"$f":"Score!F86","v":1},3.6666666666666665,5,null,null,8.6666666666666661,null,null,22,3.6666666666666665,35,5]
[{"$f":"Score!A87","v":84},{"$f":"Score!B87","v":" 553040434-4"},{"$f":"Score!C87","v":" นางสาวสุรัชนา ตุ่นแก้ว"},{"$f":"Score!D87","v":" EN-ME"},{"$f":"Score!E87","v":2.62},{"$f":"Score!F87","v":1},2.5833333333333335,5,null,null,7.5833333333333339,null,null,15.5,2.5833333333333335,35,5]
[{"$f":"Score!A88","v":85},{"$f":"Score!B88","v":" 553040436-0"},{"$f":"Score!C88","v":" นายเสฎฐฌาน น้อยอาษา"},{"$f":"Score!D88","v":" EN-ME"},{"$f":"Score!E88","v":2.2599999999999998},{"$f":"Score!F88","v":1},2.6666666666666665,4.1428571428571432,null,null,6.8095238095238102,null,null,16,2.6666666666666665,29,4.1428571428571432]
[{"$f":"Score!A89","v":86},{"$f":"Score!B89","v":" 553040448-3"},{"$f":"Score!C89","v":" นายอาทิตย์ ขาวสนิท"},{"$f":"Score!D89","v":" EN-ME"},{"$f":"Score!E89","v":2.65},{"$f":"Score!F89","v":1},3.4166666666666665,4.7142857142857144,null,null,8.1309523809523814,null,null,20.5,3.4166666666666665,33,4.7142857142857144]
[{"$f":"Score!A90","v":87},{"$f":"Score!B90","v":" 553040449-1"},{"$f":"Score!C90","v":" นายอานุภาพ วิจบ"},{"$f":"Score!D90","v":" EN-IE"},{"$f":"Score!E90","v":2.9},{"$f":"Score!F90","v":1},3.6666666666666665,4.7142857142857144,null,null,8.3809523809523814,null,null,22,3.6666666666666665,33,4.7142857142857144]
[{"$f":"Score!A91","v":88},{"$f":"Score!B91","v":" 553040450-6"},{"$f":"Score!C91","v":" นายเอกราช คำงาม"},{"$f":"Score!D91","v":" EN-ME"},{"$f":"Score!E91","v":2.3199999999999998},{"$f":"Score!F91","v":1},4.333333333333333,4.9285714285714288,null,null,9.2619047619047628,null,null,26,4.333333333333333,34.5,4.9285714285714288]
[{"$f":"Score!A92","v":89},{"$f":"Score!B92","v":" 553040454-8"},{"$f":"Score!C92","v":" นายกลวัชร จงฤาชา"},{"$f":"Score!D92","v":" EN-AE"},{"$f":"Score!E92","v":2.2400000000000002},{"$f":"Score!F92","v":1},2,3.2142857142857144,null,null,5.2142857142857144,null,null,12,2,22.5,3.2142857142857144]
[{"$f":"Score!A93","v":90},{"$f":"Score!B93","v":" 553040458-0"},{"$f":"Score!C93","v":" นางสาวจุฬาลักษณ์ ชมภูรักษ์"},{"$f":"Score!D93","v":" EN-AE"},{"$f":"Score!E93","v":2.57},{"$f":"Score!F93","v":1},2.4166666666666665,4,null,null,6.4166666666666661,null,null,14.5,2.4166666666666665,28,4]
[{"$f":"Score!A94","v":91},{"$f":"Score!B94","v":" 553040464-5"},{"$f":"Score!C94","v":" นางสาวทิชากร จุลพันธ์"},{"$f":"Score!D94","v":" EN-AE"},{"$f":"Score!E94","v":1.97},{"$f":"Score!F94","v":1},2.5833333333333335,4,null,null,6.5833333333333339,null,null,15.5,2.5833333333333335,28,4]
[{"$f":"Score!A95","v":92},{"$f":"Score!B95","v":" 553040467-9"},{"$f":"Score!C95","v":" นายนพพล รัตน์ปิยะภาภรณ์"},{"$f":"Score!D95","v":" EN-AE"},{"$f":"Score!E95","v":2.57},{"$f":"Score!F95","v":1},3.25,4.8571428571428568,null,null,8.1071428571428577,null,null,19.5,3.25,34,4.8571428571428568]
[{"$f":"Score!A96","v":93},{"$f":"Score!B96","v":" 553040468-7"},{"$f":"Score!C96","v":" นางสาวบังอร ทนน้ำ"},{"$f":"Score!D96","v":" EN-AE"},{"$f":"Score!E96","v":2.6},{"$f":"Score!F96","v":1},2.4166666666666665,4.2857142857142856,null,null,6.7023809523809526,null,null,14.5,2.4166666666666665,30,4.2857142857142856]
[{"$f":"Score!A97","v":94},{"$f":"Score!B97","v":" 553040476-8"},{"$f":"Score!C97","v":" นายมงคลลักษ์ วงษ์ศรีมี"},{"$f":"Score!D97","v":" EN-AE"},{"$f":"Score!E97","v":2.83},{"$f":"Score!F97","v":1},3.6666666666666665,4.5,null,null,8.1666666666666661,null,null,22,3.6666666666666665,31.5,4.5]
[{"$f":"Score!A98","v":95},{"$f":"Score!B98","v":" 553040485-7"},{"$f":"Score!C98","v":" นายอานันต์ หอมเนียม"},{"$f":"Score!D98","v":" EN-AE"},{"$f":"Score!E98","v":2.2400000000000002},{"$f":"Score!F98","v":1},3.3333333333333335,4.5714285714285712,null,null,7.9047619047619051,null,null,20,3.3333333333333335,32,4.5714285714285712]
[{"$f":"Score!A99","v":96},{"$f":"Score!B99","v":" 553040614-2"},{"$f":"Score!C99","v":" นายจตุรงค์ ถนอมศิลป์"},{"$f":"Score!D99","v":" EN-ME (พิเศษ ม.6)"},{"$f":"Score!E99","v":0},{"$f":"Score!F99","v":"4"},5,4.8571428571428568,null,null,9.8571428571428577,null,null,30,5,34,4.8571428571428568]
[{"$f":"Score!A100","v":97},{"$f":"Score!B100","v":" 553040617-6"},{"$f":"Score!C100","v":" นายชัยศิริ ลี้มีธรรม"},{"$f":"Score!D100","v":" EN-ME (พิเศษ ม.6)"},{"$f":"Score!E100","v":0},{"$f":"Score!F100","v":"4"},4,4.6428571428571432,null,null,8.6428571428571423,null,null,24,4,32.5,4.6428571428571432]
[{"$f":"Score!A101","v":98},{"$f":"Score!B101","v":" 553040618-4"},{"$f":"Score!C101","v":" นายเชษฐพงษ์ สาขา"},{"$f":"Score!D101","v":" EN-ME (พิเศษ ม.6)"},{"$f":"Score!E101","v":0},{"$f":"Score!F101","v":"4"},3.9166666666666665,4.9285714285714288,null,null,8.8452380952380949,null,null,23.5,3.9166666666666665,34.5,4.9285714285714288]
[{"$f":"Score!A102","v":99},{"$f":"Score!B102","v":" 553040621-5"},{"$f":"Score!C102","v":" นายณัฐพล หอมจะบก"},{"$f":"Score!D102","v":" EN-ME (พิเศษ ม.6)"},{"$f":"Score!E102","v":0},{"$f":"Score!F102","v":"4"},3.1666666666666665,4.2857142857142856,null,null,7.4523809523809526,null,null,19,3.1666666666666665,30,4.2857142857142856]
[{"$f":"Score!A103","v":100},{"$f":"Score!B103","v":" 553040622-3"},{"$f":"Score!C103","v":" นายทศพล ฉายจรุง"},{"$f":"Score!D103","v":" EN-ME (พิเศษ ม.6)"},{"$f":"Score!E103","v":0},{"$f":"Score!F103","v":"4"},3.5,4.6428571428571432,null,null,8.1428571428571423,null,null,21,3.5,32.5,4.6428571428571432]
[{"$f":"Score!A104","v":101},{"$f":"Score!B104","v":" 553040623-1"},{"$f":"Score!C104","v":" นายเทพนรินทร์ อินธิราช"},{"$f":"Score!D104","v":" EN-ME (พิเศษ ม.6)"},{"$f":"Score!E104","v":0},{"$f":"Score!F104","v":"4"},3.6666666666666665,4.7142857142857144,null,null,8.3809523809523814,null,null,22,3.6666666666666665,33,4.7142857142857144]
[{"$f":"Score!A105","v":102},{"$f":"Score!B105","v":" 553040624-9"},{"$f":"Score!C105","v":" นายธนะสิทธิ์ รุจิระโชติวัฒน์"},{"$f":"Score!D105","v":" EN-ME (พิเศษ ม.6)"},{"$f":"Score!E105","v":0},{"$f":"Score!F105","v":"4"},3.3333333333333335,4.7142857142857144,null,null,8.0476190476190474,null,null,20,3.3333333333333335,33,4.7142857142857144]
[{"$f":"Score!A106","v":103},{"$f":"Score!B106","v":" 553040625-7"},{"$f":"Score!C106","v":" นายธีรศักดิ์ สังสิทธิสวัสดิ์"},{"$f":"Score!D106","v":" EN-ME (พิเศษ ม.6)"},{"$f":"Score!E106","v":0},{"$f":"Score!F106","v":"4"},0,0,null,null,0,null,null,0,0,0,0]
[{"$f":"Score!A107","v":104},{"$f":"Score!B107","v":" 553040626-5"},{"$f":"Score!C107","v":" นายปฏิภาณ สังข์ชัย"},{"$f":"Score!D107","v":" EN-ME (พิเศษ ม.6)"},{"$f":"Score!E107","v":0},{"$f":"Score!F107","v":"4"},3.3083333333333336,4.4285714285714288,null,null,7.7369047619047624,null,null,19.850000000000001,3.3083333333333336,31,4.4285714285714288]
[{"$f":"Score!A108","v":105},{"$f":"Score!B108","v":" 553040631-2"},{"$f":"Score!C108","v":" นายพงศ์รัตน์ ณ หนองคาย"},{"$f":"Score!D108","v":" EN-ME (พิเศษ ม.6)"},{"$f":"Score!E108","v":0},{"$f":"Score!F108","v":"4"},3.5,4.8571428571428568,null,null,8.3571428571428577,null,null,21,3.5,34,4.8571428571428568]
[{"$f":"Score!A109","v":106},{"$f":"Score!B109","v":" 553040636-2"},{"$f":"Score!C109","v":" นายรัชชานนท์ บุญอาษา"},{"$f":"Score!D109","v":" EN-ME (พิเศษ ม.6)"},{"$f":"Score!E109","v":0},{"$f":"Score!F109","v":"4"},2.25,4.7142857142857144,null,null,6.9642857142857144,null,null,13.5,2.25,33,4.7142857142857144]
[{"$f":"Score!A110","v":107},{"$f":"Score!B110","v":" 563040310-3"},{"$f":"Score!C110","v":" นางสาวธัญชนภ ธีระเดชธำดง"},{"$f":"Score!D110","v":"EN-IE"},{"$f":"Score!E110","v":0},{"$f":"Score!F110","v":"4"},{"$f":"+O110","v":4.583333333333333},4.1428571428571432,null,null,{"$f":"SUM(G110:J110)","v":8.7261904761904763},null,null,27.5,{"$f":"N110/6","v":4.583333333333333},29,4.1428571428571432]

{"sheet":"Midterm","index":8,"n_rows":155,"n_cols":9,"rows_kept":155,"cut":false,"hidden":false,"merged":[[0,0,1,2],[2,0,2,8],[154,0,154,8],[166,0,166,8]]}
["195231 : THERMODYNAMICS I",null,null,"ข้อ 1","ข้อ 2","ข้อ 3","ข้อ 4","ข้อ 5","รวม"]
[null,null,null,10,10,10,10,10,{"$f":"SUM(D2:H2)","v":50}]
["Section 1"]
[1," 553040026-9"," นางสาวกนกกาญจน์ อุปสาร",8,0,0,5,8,{"$f":"SUM(D4:H4)","v":21}]
[2," 553040032-4"," นายกิตติภัทร จิตรกสิกร",6,0,5,3,3,17]
[3," 553040033-2"," นายกิรติกร แก้วปานกัน",8,4,10,7,6,35]
[4," 553040041-3"," นางสาวชนาธินาถ โสกงโสด",0,0,0,6,7,13]
[5," 553040045-5"," นายณัฏฐกิตติ์ พูลประสงค์",8,6,9,10,6,39]
[6," 553040047-1"," นายณัฐพงษ์ กลิ่นมาลี",8,2,8,6.5,6,30.5]
[7," 553040049-7"," นายณัฐวัตร สุขสำราญ",8,2,4,0,0,14]
[8," 553040050-2"," นายณัฐวุฒิ ฆารประเดิม",4,2,3,7.5,9,25.5]
[9," 553040052-8"," นายถิรวัฒน์ แก้วคำปอด",6,2,8,8.5,8,32.5]
[10," 553040057-8"," นายธนวิชญ์ เลิศวุฒิชัยกุล",8,4,4,8,8,32]
[11," 553040059-4"," นายธนากร บุญดาว",8,0,10,9.5,7,34.5]
[12," 553040060-9"," นายธนานนท์ ติรวีรขจร",8,0,7,9,8,32]
[13," 553040061-7"," นายธนารักษ์ ศรีน้อย",8,0,10,8,7,33]
[14," 553040063-3"," นายธีรเจต เตรียมวิชานนท์",4,0,3,7.5,9,23.5]
[15," 553040064-1"," นายธีรพล เตชะเสน",8,0,7,8,7,30]
[16," 553040071-4"," นายบรรยง ชัยยิ่ง",8,0,8,8,4,28]
[17," 553040072-2"," นายบัญชา แก้วอาจ",4,0,5,8,5,22]
[18," 553040083-7"," นายพันธวัช เก็มประโคน",8,0,10,9,7,34]
[19," 553040085-3"," นายพิพัฒน์ รักทองจัน",8,4,8,8,9,37]
[20," 553040087-9"," นายพิภัทรยา ศิริแว่น","-","-","-","-","-",0]
[21," 553040092-6"," นายยศพนธ์ จันทร์วิเมลือง",0,2,0,8,4,14]
[22," 553040094-2"," นายยุทธการ แสนเสนา",2,0,8,10,9.5,29.5]
[23," 553040095-0"," นายยุทธนา พิริยะสุทธิ์",8,0,10,7,9,34]
[24," 553040101-1"," นายวรพล จันทร์ผิว",8,4,9,8,9.5,38.5]
[25," 553040104-5"," นายวรานนท์ ยุทธอมร",6,4,8,8,8,34]
[26," 553040106-1"," นายวศิน คำปัญโญ",8,0,5,7,4,24]
[27," 553040108-7"," นายวิชญสิทธิ์ พันธุ์รักษา",6,2,10,7,8,33]
[28," 553040121-5"," นายสิริวุฒิ ภูมิภูเขียว",8,0,5,0,0,13]
[29," 553040123-1"," นางสาวหทัยชนก ปัญญาบุตร",4,0,4,7,3,18]
[30," 553040126-5"," นายอนวัช คงวีระวัฒน์",6,0,0,4,6,16]
[31," 553040132-0"," นางสาวอรทัย ยอดแก้วพิสัย",8,0,8,8,4,28]
[32," 553040133-8"," นายอรรถชัย ทองสุข",10,4,8,6,8,36]
[33," 553040136-2"," นางสาวอัชฌา เสาร์สิงห์",0,0,6,4,9,19]
[34," 553040137-0"," นางสาวอัชรา เชาว์ชอบ",8,0,5,3,8,24]
[35," 553040146-9"," นายเจษฎา พลชา",6,0,1,7,2,16]
[36," 553040148-5"," นายเชษฐทรัพย์ ทองคำใส",8,0,2,7,0,17]
[37," 553040149-3"," นายณัฐพงษ์ เหล่าจูม",10,2,8,7,3,30]
[38," 553040154-0"," นางสาวนฤมล พรมพุ้ย",8,0,5,4,8,25]
[39," 553040163-9"," นางสาววาสนา เคเมือง",8,0,3,8,8,27]
[40," 553040164-7"," นายวิภูรินทร์ เลิศพนาลัย",2,0,6,7,3,18]
[41," 553040167-1"," นายอดิศักดิ์ มุนนี",8,2,8,9,7,34]
[42," 553040169-7"," นายอภิสิทธิ์ รังสิมาวงศ์",10,4,5,3,7,29]
[43," 553040170-2"," นายอาทิตย์ ภูผาผุด",6,4,10,8.5,7.5,36]
[44," 553040281-3"," นายทวิชาติ อัครสันตติกุล",6,0,3,8,4,21]
[45," 553040285-5"," นางสาวกนกอร แดงน้อย",8,2,1,3.5,4,18.5]
[46," 553040289-7"," นายกัมปนาท ชาวดร",4,6,10,9.5,5,34.5]
[47," 553040290-2"," นายกานตภณ รุ่งฤทัยวัฒน์",0,0,1,3,6,10]
[48," 553040297-8"," นางสาวขวัญตา สุวรรณจันทร์","-","-","-","-","-",0]
[49," 553040298-6"," นายคฑาวุธ นิลคุณ",8,0,8,6,3,25]
[50," 553040302-1"," นายจรูญวิทย์ ยึนประโคน",8,0,4,7,4,23]
[51," 553040310-2"," นายจีระวัฒน์ ศรีมีชัย",8,0,5,7,5,25]
[52," 553040312-8"," นางสาวจุฑารัตน์ เลยยุทธ",8,2,10,7,7,34]
[53," 553040315-2"," นางสาวจุฬารัตน์ แสนวงษ์",8,10,10,9.5,9,46.5]
[54," 553040316-0"," นางสาวเจนจิรา ปิยาโยค",8,0,10,9.5,7,34.5]
[55," 553040317-8"," นายเจนณรงค์ อยู่ยง",2,0,5,6.5,0,13.5]
[56," 553040320-9"," นางสาวชลธิชา นาสินสร้อย",4,0,7,9,8,28]
[57," 553040321-7"," นายชลวิทย์ พิสิฐรัตนวงศ์",8,0,6,0,0,14]
[58," 553040326-7"," นางสาวญาดา ยิ้มยินดี",6,0,8,5,5,24]
[59," 553040336-4"," นายทวีรัช ทาจันทร์",8,0,0,3,3,14]
[60," 553040339-8"," นายแทนพงศ์ พุทธลา",8,0,5,3,1,17]
[61," 553040340-3"," นายธนกฤต เหล่าพิเดช",8,0,7,6,5,26]
[62," 553040346-1"," นางสาวธันยมัย มูลมณี",4,2,1,0,0,7]
[63," 553040347-9"," นายธันวา ไกยราช",4,0,9,2,4,19]
[64," 553040349-5"," นายธิบดี ธิแก้ว",2,0,0,1,0,3]
[65," 553040359-2"," นางสาวเบญจวรรณ มั่นวงษ์",6,0,9,6,1,{"$f":"SUM(D68:H68)","v":22}]
[66," 553040365-7"," นางสาวปรีม สุขเสนีย์",8,0,5,7,6.5,26.5]
[67," 553040368-1"," นางสาวปุณฑริกา สิทธิกรชัย",4,0,3,5.5,3,15.5]
[68," 553040380-1"," นายพิธพล พลเพชร",8,0,3,8,9,28]
[69," 553040383-5"," นายพีระพงษ์ สิมงาม",8,4,10,7.5,3,32.5]
[70," 553040386-9"," นายภัทรพล สารผล",0,0,0,2,2,4]
[71," 553040387-7"," นายภาคภูมิ ประเสริฐ",8,6,10,9,8.5,41.5]
[72," 553040391-6"," นายมารุต พลวัน",10,0,8,9,8,35]
[73," 553040397-4"," นายรัชชานนท์ หาญกล้า",4,2,8,4,6,24]
[74," 553040400-1"," นายวงศธร เอียตระกูลไพบูลย์",10,4,7,8,10,39]
[75," 553040401-9"," นายวชิรวิทย์ นวรัตนากร",4,0,6,8,5,23]
[76," 553040404-3"," นายวนัสมัญ กฤษณะสุวรรณ",0,0,2,0.5,0,2.5]
[77," 553040417-4"," นางสาวศศิวิมล กองพันธ์",8,0,3,6.5,3,20.5]
[78," 553040420-5"," นางสาวศิรินาถ ดวงพิมพ์",2,0,0,0.5,4,6.5]
[79," 553040426-3"," นายสหภาพ เพียรชนะ",6,8,10,9,7,40]
[80," 553040427-1"," นายสิทธิชัย เมืองโคตร",8,0,3,0.5,0.5,12]
[81," 553040428-9"," นางสาวสุกัญญา ธารานุวงศ์",8,0,10,7.5,8,33.5]
[82," 553040429-7"," นางสาวสุกัญญา เวียงสิมา",4,0,7,7.5,2,20.5]
[83," 553040430-2"," นางสาวสุฑิฌา อินทนนท์",0,0,0,0,0,0]
[84," 553040434-4"," นางสาวสุรัชนา ตุ่นแก้ว",4,0,8,10,8,30]
[85," 553040436-0"," นายเสฎฐฌาน น้อยอาษา",0,2,1,1,8,12]
[86," 553040448-3"," นายอาทิตย์ ขาวสนิท",0,2,3,3,3,11]
[87," 553040449-1"," นายอานุภาพ วิจบ",8,0,6,7,3,24]
[88," 553040450-6"," นายเอกราช คำงาม",6,6,10,9,3,34]
[89," 553040454-8"," นายกลวัชร จงฤาชา",0,0,1,0.5,3,4.5]
[90," 553040458-0"," นางสาวจุฬาลักษณ์ ชมภูรักษ์",0,0,5,0.5,0.5,6]
[91," 553040464-5"," นางสาวทิชากร จุลพันธ์",8,0,2,8,2,20]
[92," 553040467-9"," นายนพพล รัตน์ปิยะภาภรณ์",8,2,0,5,9,24]
[93," 553040468-7"," นางสาวบังอร ทนน้ำ",0,0,0,7.5,3,10.5]
[94," 553040476-8"," นายมงคลลักษ์ วงษ์ศรีมี",6,0,2,7.5,7,22.5]
[95," 553040485-7"," นายอานันต์ หอมเนียม",2,0,0,3,3,8]
[1," 553040614-2"," นายจตุรงค์ ถนอมศิลป์",8,4,8,9,6,{"$f":"SUM(D99:H99)","v":35}]
[2," 553040617-6"," นายชัยศิริ ลี้มีธรรม",0,2,8,8.5,2,20.5]
[3," 553040618-4"," นายเชษฐพงษ์ สาขา",6,0,8,7,9,30]
[4," 553040621-5"," นายณัฐพล หอมจะบก",4,4,8,5,3,24]
[5," 553040622-3"," นายทศพล ฉายจรุง",2,0,3,6.5,7,18.5]
[6," 553040623-1"," นายเทพนรินทร์ อินธิราช",6,2,9,4,9,30]
[7," 553040624-9"," นายธนะสิทธิ์ รุจิระโชติวัฒน์",8,4,9,9,5,35]
[8," 553040625-7"," นายธีรศักดิ์ สังสิทธิสวัสดิ์","-","-","-","-","-",0]
[9," 553040626-5"," นายปฏิภาณ สังข์ชัย",8,0,2,3,6,19]
[10," 553040631-2"," นายพงศ์รัตน์ ณ หนองคาย",10,0,2,3,6,21]
[11," 553040636-2"," นายรัชชานนท์ บุญอาษา",6,0,5,8,0,19]
[12," 563040310-3"," นางสาวธัญชนก ธีระเดชธำรง",10,6,10,8.5,9,43.5]
[]
[]
[]
[]
[]
[]
[]
[]
[]
[]
[]
[]
[]
[]
[]
[]
[]
[]
[]
[]
[]
[]
[]
[]
[]
[]
[]
[]
[]
[]
[]
[]
[]
[]
[]
[]
[]
[]
[]
[]
[]
[]
[]
[]
["Section 4"]

{"sheet":"Name","index":9,"n_rows":110,"n_cols":11,"rows_kept":110,"cut":false,"hidden":false,"merged":[]}
[null,"รายวิชา","185231 : THERMODYNAMICS I",null,null,null,null,null,null,null,"Section 1"]
[null,"ปีการศึกษา","2555 ภาคการศึกษาที่ 1",null,null,null,null,null,null,null,"รศ.ดร.สมหมาย ปรีเปรม"]
["ลำดับ"," รหัส","ชื่อ","หลักสูตร","Status","SectList","GPA","Section"]
[1," 553040026-9"," นางสาวกนกกาญจน์ อุปสาร"," EN-IE",10,1,2.7,1]
[2," 553040032-4"," นายกิตติภัทร จิตรกสิกร"," EN-IE",10,2,2.68,1]
[3," 553040033-2"," นายกิรติกร แก้วปานกัน"," EN-ME",10,3,2.82,1]
[4," 553040041-3"," นางสาวชนาธินาถ โสกงโสด"," EN-ME",10,4,2.42,1]
[5," 553040045-5"," นายณัฏฐกิตติ์ พูลประสงค์"," EN-ME",10,5,3.28,1]
[6," 553040047-1"," นายณัฐพงษ์ กลิ่นมาลี"," EN-ME",10,6,2.87,1]
[7," 553040049-7"," นายณัฐวัตร สุขสำราญ"," EN-IE",10,7,1.76,1]
[8," 553040050-2"," นายณัฐวุฒิ ฆารประเดิม"," EN-ME",10,8,2.87,1]
[9," 553040052-8"," นายถิรวัฒน์ แก้วคำปอด"," EN-ME",10,9,2.61,1]
[10," 553040057-8"," นายธนวิชญ์ เลิศวุฒิชัยกุล"," EN-IE",10,10,2.29,1]
[11," 553040059-4"," นายธนากร บุญดาว"," EN-ME",10,11,3.03,1]
[12," 553040060-9"," นายธนานนท์ ติรวีรขจร"," EN-ME",10,12,2.5099999999999998,1]
[13," 553040061-7"," นายธนารักษ์ ศรีน้อย"," EN-ME",10,13,2.5099999999999998,1]
[14," 553040063-3"," นายธีรเจต เตรียมวิชานนท์"," EN-ME",10,14,3.03,1]
[15," 553040064-1"," นายธีรพล เตชะเสน"," EN-ME",10,15,3.24,1]
[16," 553040071-4"," นายบรรยง ชัยยิ่ง"," EN-ME",10,16,2.68,1]
[17," 553040072-2"," นายบัญชา แก้วอาจ"," EN-IE",10,17,2.2599999999999998,1]
[18," 553040083-7"," นายพันธวัช เก็มประโคน"," EN-IE",10,18,2.08,1]
[19," 553040085-3"," นายพิพัฒน์ รักทองจัน"," EN-ME",10,19,3.04,1]
[20," 553040087-9"," นายพิภัทรยา ศิริแว่น"," EN-ME",10,20,2.29,1]
[21," 553040092-6"," นายยศพนธ์ จันทร์วิเมลือง"," EN-ME",10,21,3.11,1]
[22," 553040094-2"," นายยุทธการ แสนเสนา"," EN-ME",10,22,2.37,1]
[23," 553040095-0"," นายยุทธนา พิริยะสุทธิ์"," EN-ME",10,23,2.64,1]
[24," 553040101-1"," นายวรพล จันทร์ผิว"," EN-IE",10,24,3.05,1]
[25," 553040104-5"," นายวรานนท์ ยุทธอมร"," EN-ME",10,25,2.72,1]
[26," 553040106-1"," นายวศิน คำปัญโญ"," EN-ME",10,26,2.6,1]
[27," 553040108-7"," นายวิชญสิทธิ์ พันธุ์รักษา"," EN-IE",10,27,2.83,1]
[28," 553040121-5"," นายสิริวุฒิ ภูมิภูเขียว"," EN-IE",10,28,2.06,1]
[29," 553040123-1"," นางสาวหทัยชนก ปัญญาบุตร"," EN-ME",10,29,2.4500000000000002,1]
[30," 553040126-5"," นายอนวัช คงวีระวัฒน์"," EN-ME",10,30,2.27,1]
[31," 553040132-0"," นางสาวอรทัย ยอดแก้วพิสัย"," EN-IE",10,31,2.8,1]
[32," 553040133-8"," นายอรรถชัย ทองสุข"," EN-ME",10,32,2.16,1]
[33," 553040136-2"," นางสาวอัชฌา เสาร์สิงห์"," EN-ME",10,33,2.8,1]
[34," 553040137-0"," นางสาวอัชรา เชาว์ชอบ"," EN-IE",10,34,2.81,1]
[35," 553040146-9"," นายเจษฎา พลชา"," EN-AE",10,35,2.39,1]
[36," 553040148-5"," นายเชษฐทรัพย์ ทองคำใส"," EN-AE",10,36,2.6,1]
[37," 553040149-3"," นายณัฐพงษ์ เหล่าจูม"," EN-AE",10,37,3.04,1]
[38," 553040154-0"," นางสาวนฤมล พรมพุ้ย"," EN-AE",10,38,2.5299999999999998,1]
[39," 553040163-9"," นางสาววาสนา เคเมือง"," EN-AE",10,39,2.2999999999999998,1]
[40," 553040164-7"," นายวิภูรินทร์ เลิศพนาลัย"," EN-AE",10,40,2.5499999999999998,1]
[41," 553040167-1"," นายอดิศักดิ์ มุนนี"," EN-AE",10,41,2.96,1]
[42," 553040169-7"," นายอภิสิทธิ์ รังสิมาวงศ์"," EN-AE",10,42,3.16,1]
[43," 553040170-2"," นายอาทิตย์ ภูผาผุด"," EN-AE",10,43,3.25,1]
[44," 553040281-3"," นายทวิชาติ อัครสันตติกุล"," EN-IE",10,44,1.95,1]
[45," 553040285-5"," นางสาวกนกอร แดงน้อย"," EN-IE",10,45,2.5099999999999998,1]
[46," 553040289-7"," นายกัมปนาท ชาวดร"," EN-ME",10,46,3.02,1]
[47," 553040290-2"," นายกานตภณ รุ่งฤทัยวัฒน์"," EN-IE",10,47,2.2200000000000002,1]
[48," 553040297-8"," นางสาวขวัญตา สุวรรณจันทร์"," EN-IE",62,48,1.24,1]
[49," 553040298-6"," นายคฑาวุธ นิลคุณ"," EN-ME",10,49,2.16,1]
[50," 553040302-1"," นายจรูญวิทย์ ยึนประโคน"," EN-IE",10,50,2.25,1]
[51," 553040310-2"," นายจีระวัฒน์ ศรีมีชัย"," EN-IE",10,51,2.1800000000000002,1]
[52," 553040312-8"," นางสาวจุฑารัตน์ เลยยุทธ"," EN-IE",10,52,2.66,1]
[53," 553040315-2"," นางสาวจุฬารัตน์ แสนวงษ์"," EN-ME",10,53,3.22,1]
[54," 553040316-0"," นางสาวเจนจิรา ปิยาโยค"," EN-ME",10,54,2.2999999999999998,1]
[55," 553040317-8"," นายเจนณรงค์ อยู่ยง"," EN-ME",10,55,2.57,1]
[56," 553040320-9"," นางสาวชลธิชา นาสินสร้อย"," EN-ME",10,56,2.81,1]
[57," 553040321-7"," นายชลวิทย์ พิสิฐรัตนวงศ์"," EN-IE",10,57,2.19,1]
[58," 553040326-7"," นางสาวญาดา ยิ้มยินดี"," EN-IE",10,58,2.09,1]
[59," 553040336-4"," นายทวีรัช ทาจันทร์"," EN-ME",10,59,2.46,1]
[60," 553040339-8"," นายแทนพงศ์ พุทธลา"," EN-ME",10,60,2.73,1]
[61," 553040340-3"," นายธนกฤต เหล่าพิเดช"," EN-IE",10,61,2.23,1]
[62," 553040346-1"," นางสาวธันยมัย มูลมณี"," EN-IE",10,62,1.92,1]
[63," 553040347-9"," นายธันวา ไกยราช"," EN-ME",10,63,2.72,1]
[64," 553040349-5"," นายธิบดี ธิแก้ว"," EN-IE",10,64,2.15,1]
[65," 553040359-2"," นางสาวเบญจวรรณ มั่นวงษ์"," EN-IE",10,65,2.02,1]
[66," 553040365-7"," นางสาวปรีม สุขเสนีย์"," EN-ME",10,66,2.4700000000000002,1]
[67," 553040368-1"," นางสาวปุณฑริกา สิทธิกรชัย"," EN-IE",10,67,2.2599999999999998,1]
[68," 553040380-1"," นายพิธพล พลเพชร"," EN-IE",10,68,2.21,1]
[69," 553040383-5"," นายพีระพงษ์ สิมงาม"," EN-ME",10,69,2.69,1]
[70," 553040386-9"," นายภัทรพล สารผล"," EN-IE",10,70,2.08,1]
[71," 553040387-7"," นายภาคภูมิ ประเสริฐ"," EN-ME",10,71,2.86,1]
[72," 553040391-6"," นายมารุต พลวัน"," EN-ME",10,72,2.77,1]
[73," 553040397-4"," นายรัชชานนท์ หาญกล้า"," EN-ME",10,73,2.65,1]
[74," 553040400-1"," นายวงศธร เอียตระกูลไพบูลย์"," EN-IE",10,74,2.76,1]
[75," 553040401-9"," นายวชิรวิทย์ นวรัตนากร"," EN-IE",10,75,2.83,1]
[76," 553040404-3"," นายวนัสมัญ กฤษณะสุวรรณ"," EN-IE",10,76,2.2999999999999998,1]
[77," 553040417-4"," นางสาวศศิวิมล กองพันธ์"," EN-IE",10,77,2.94,1]
[78," 553040420-5"," นางสาวศิรินาถ ดวงพิมพ์"," EN-IE",10,78,2.21,1]
[79," 553040426-3"," นายสหภาพ เพียรชนะ"," EN-ME",10,79,3.13,1]
[80," 553040427-1"," นายสิทธิชัย เมืองโคตร"," EN-ME",10,80,2.35,1]
[81," 553040428-9"," นางสาวสุกัญญา ธารานุวงศ์"," EN-ME",10,81,2.8,1]
[82," 553040429-7"," นางสาวสุกัญญา เวียงสิมา"," EN-IE",10,82,2.2799999999999998,1]
[83," 553040430-2"," นางสาวสุฑิฌา อินทนนท์"," EN-IE",10,83,1.95,1]
[84," 553040434-4"," นางสาวสุรัชนา ตุ่นแก้ว"," EN-ME",10,84,2.62,1]
[85," 553040436-0"," นายเสฎฐฌาน น้อยอาษา"," EN-ME",10,85,2.2599999999999998,1]
[86," 553040448-3"," นายอาทิตย์ ขาวสนิท"," EN-ME",10,86,2.65,1]
[87," 553040449-1"," นายอานุภาพ วิจบ"," EN-IE",10,87,2.9,1]
[88," 553040450-6"," นายเอกราช คำงาม"," EN-ME",10,88,2.3199999999999998,1]
[89," 553040454-8"," นายกลวัชร จงฤาชา"," EN-AE",10,89,2.2400000000000002,1]
[90," 553040458-0"," นางสาวจุฬาลักษณ์ ชมภูรักษ์"," EN-AE",10,90,2.57,1]
[91," 553040464-5"," นางสาวทิชากร จุลพันธ์"," EN-AE",10,91,1.97,1]
[92," 553040467-9"," นายนพพล รัตน์ปิยะภาภรณ์"," EN-AE",10,92,2.57,1]
[93," 553040468-7"," นางสาวบังอร ทนน้ำ"," EN-AE",10,93,2.6,1]
[94," 553040476-8"," นายมงคลลักษ์ วงษ์ศรีมี"," EN-AE",10,94,2.83,1]
[95," 553040485-7"," นายอานันต์ หอมเนียม"," EN-AE",10,95,2.2400000000000002,1]
[96," 553040614-2"," นายจตุรงค์ ถนอมศิลป์"," EN-ME (พิเศษ ม.6)",10,1,null,"4"]
[97," 553040617-6"," นายชัยศิริ ลี้มีธรรม"," EN-ME (พิเศษ ม.6)",10,2,null,"4"]
[98," 553040618-4"," นายเชษฐพงษ์ สาขา"," EN-ME (พิเศษ ม.6)",10,3,null,"4"]
[99," 553040621-5"," นายณัฐพล หอมจะบก"," EN-ME (พิเศษ ม.6)",10,4,null,"4"]
[100," 553040622-3"," นายทศพล ฉายจรุง"," EN-ME (พิเศษ ม.6)",10,5,null,"4"]
[101," 553040623-1"," นายเทพนรินทร์ อินธิราช"," EN-ME (พิเศษ ม.6)",10,6,null,"4"]
[102," 553040624-9"," นายธนะสิทธิ์ รุจิระโชติวัฒน์"," EN-ME (พิเศษ ม.6)",10,7,null,"4"]
[103," 553040625-7"," นายธีรศักดิ์ สังสิทธิสวัสดิ์"," EN-ME (พิเศษ ม.6)",10,8,null,"4"]
[104," 553040626-5"," นายปฏิภาณ สังข์ชัย"," EN-ME (พิเศษ ม.6)",10,9,null,"4"]
[105," 553040631-2"," นายพงศ์รัตน์ ณ หนองคาย"," EN-ME (พิเศษ ม.6)",10,10,null,"4"]
[106," 553040636-2"," นายรัชชานนท์ บุญอาษา"," EN-ME (พิเศษ ม.6)",10,11,null,"4"]
[107," 563040310-3"," นางสาวธัญชนภ ธีระเดชธำดง","EN-IE",10,12,null,"4"]